BEGIN:VCALENDAR
VERSION:2.0
PRODID:-//Columbus MS - ECPv6.10.1.1//NONSGML v1.0//EN
CALSCALE:GREGORIAN
METHOD:PUBLISH
X-WR-CALNAME:Columbus MS
X-ORIGINAL-URL:https://www.visitcolumbusms.org
X-WR-CALDESC:Events for Columbus MS
REFRESH-INTERVAL;VALUE=DURATION:PT1H
X-Robots-Tag:noindex
X-PUBLISHED-TTL:PT1H
BEGIN:VTIMEZONE
TZID:America/Chicago
BEGIN:DAYLIGHT
TZOFFSETFROM:-0600
TZOFFSETTO:-0500
TZNAME:CDT
DTSTART:20190310T080000
END:DAYLIGHT
BEGIN:STANDARD
TZOFFSETFROM:-0500
TZOFFSETTO:-0600
TZNAME:CST
DTSTART:20191103T070000
END:STANDARD
BEGIN:DAYLIGHT
TZOFFSETFROM:-0600
TZOFFSETTO:-0500
TZNAME:CDT
DTSTART:20200308T080000
END:DAYLIGHT
BEGIN:STANDARD
TZOFFSETFROM:-0500
TZOFFSETTO:-0600
TZNAME:CST
DTSTART:20201101T070000
END:STANDARD
BEGIN:DAYLIGHT
TZOFFSETFROM:-0600
TZOFFSETTO:-0500
TZNAME:CDT
DTSTART:20210314T080000
END:DAYLIGHT
BEGIN:STANDARD
TZOFFSETFROM:-0500
TZOFFSETTO:-0600
TZNAME:CST
DTSTART:20211107T070000
END:STANDARD
BEGIN:DAYLIGHT
TZOFFSETFROM:-0600
TZOFFSETTO:-0500
TZNAME:CDT
DTSTART:20220313T080000
END:DAYLIGHT
BEGIN:STANDARD
TZOFFSETFROM:-0500
TZOFFSETTO:-0600
TZNAME:CST
DTSTART:20221106T070000
END:STANDARD
BEGIN:DAYLIGHT
TZOFFSETFROM:-0600
TZOFFSETTO:-0500
TZNAME:CDT
DTSTART:20230312T080000
END:DAYLIGHT
BEGIN:STANDARD
TZOFFSETFROM:-0500
TZOFFSETTO:-0600
TZNAME:CST
DTSTART:20231105T070000
END:STANDARD
BEGIN:DAYLIGHT
TZOFFSETFROM:-0600
TZOFFSETTO:-0500
TZNAME:CDT
DTSTART:20240310T080000
END:DAYLIGHT
BEGIN:STANDARD
TZOFFSETFROM:-0500
TZOFFSETTO:-0600
TZNAME:CST
DTSTART:20241103T070000
END:STANDARD
END:VTIMEZONE
BEGIN:VEVENT
DTSTART;TZID=America/Chicago:20241030T080000
DTEND;TZID=America/Chicago:20241030T170000
DTSTAMP:20260421T044722
CREATED:20241031T112330Z
LAST-MODIFIED:20241031T134309Z
UID:10000634-1730275200-1730307600@www.visitcolumbusms.org
SUMMARY:Ghosts of the Tombigbee
DESCRIPTION:
URL:https://www.visitcolumbusms.org/event/ghosts-of-the-tombigbee/
LOCATION:Agnes Zaiontz Tennessee-Tombigbee Waterway Transportation Museum\, 318 7th Street North\, Columbus\, MS\, 39701\, United States
CATEGORIES:Community Event,History
GEO:33.4985905;-88.4258675
X-APPLE-STRUCTURED-LOCATION;VALUE=URI;X-ADDRESS=Agnes Zaiontz Tennessee-Tombigbee Waterway Transportation Museum 318 7th Street North Columbus MS 39701 United States;X-APPLE-RADIUS=500;X-TITLE=318 7th Street North:geo:-88.4258675,33.4985905
END:VEVENT
BEGIN:VEVENT
DTSTART;TZID=America/Chicago:20240403T190000
DTEND;TZID=America/Chicago:20240412T210000
DTSTAMP:20260421T044722
CREATED:20230120T170421Z
LAST-MODIFIED:20240403T213521Z
UID:10000558-1712170800-1712955600@www.visitcolumbusms.org
SUMMARY:Tales from the Crypt
DESCRIPTION:The Mississippi School for Math and Science students recreate the lives of noted local residents interred in historic Friendship Cemetery. Tickets available the night of the event at the cemetery. For information\, please call 662-329-1191.
URL:https://www.visitcolumbusms.org/event/wassail-fest-3/
LOCATION:Friendship Cemetery\, 1400 Fourth Street South\, Columbus\, MS\, 39701\, United States
CATEGORIES:Arts & Culture,Family Fun,History,Spring Pilgrimage
GEO:33.4819553;-88.4281742
X-APPLE-STRUCTURED-LOCATION;VALUE=URI;X-ADDRESS=Friendship Cemetery 1400 Fourth Street South Columbus MS 39701 United States;X-APPLE-RADIUS=500;X-TITLE=1400 Fourth Street South:geo:-88.4281742,33.4819553
END:VEVENT
BEGIN:VEVENT
DTSTART;TZID=America/Chicago:20240403T190000
DTEND;TZID=America/Chicago:20240403T220000
DTSTAMP:20260421T044723
CREATED:20240125T151827Z
LAST-MODIFIED:20240125T151827Z
UID:10000556-1712170800-1712181600@www.visitcolumbusms.org
SUMMARY:Tales from the Crypt
DESCRIPTION:
URL:https://www.visitcolumbusms.org/event/tales-from-the-crypt-8/
LOCATION:Friendship Cemetery\, 1400 Fourth Street South\, Columbus\, MS\, 39701\, United States
CATEGORIES:Arts & Culture,History,Spring Pilgrimage
ATTACH;FMTTYPE=image/jpeg:https://s3.amazonaws.com/media.visitcolumbusms.org/20180326205923/TalesfromCrypt_Columbus_Website_-021.jpg
GEO:33.4819553;-88.4281742
X-APPLE-STRUCTURED-LOCATION;VALUE=URI;X-ADDRESS=Friendship Cemetery 1400 Fourth Street South Columbus MS 39701 United States;X-APPLE-RADIUS=500;X-TITLE=1400 Fourth Street South:geo:-88.4281742,33.4819553
END:VEVENT
BEGIN:VEVENT
DTSTART;TZID=America/Chicago:20240402T190000
DTEND;TZID=America/Chicago:20240421T190000
DTSTAMP:20260421T044723
CREATED:20231128T005138Z
LAST-MODIFIED:20240328T205512Z
UID:10000565-1712084400-1713726000@www.visitcolumbusms.org
SUMMARY:Spring Pilgrimage
DESCRIPTION:Historic Home Tours\, April 2 -13. Visit http://historichomes.tours. Preservation Society of Columbus\, Jubilee of Homes\, April 5 -21\, Weekends only. Visit http://preservecolumbus.com.
URL:https://www.visitcolumbusms.org/event/springpilgrimage/
LOCATION:Columbus\, MS\, 39701\, United States
CATEGORIES:Arts & Culture,Historic Home Tours,History,Spring Pilgrimage
GEO:33.4521847;-88.5371958
END:VEVENT
BEGIN:VEVENT
DTSTART;TZID=America/Chicago:20240226T160000
DTEND;TZID=America/Chicago:20240226T170000
DTSTAMP:20260421T044723
CREATED:20240214T171210Z
LAST-MODIFIED:20240214T171922Z
UID:10000567-1708963200-1708966800@www.visitcolumbusms.org
SUMMARY:The Picture Man of Possum Town: Mr. Pruitt Who Photographed Trouble & Resilience
DESCRIPTION:
URL:https://www.visitcolumbusms.org/event/the-picture-man-of-possum-town-mr-pruitt-who-photographed-trouble-resilience/
LOCATION:Columbus\, MS\, 39701\, United States
CATEGORIES:Arts & Culture,History,Literary
GEO:33.4521847;-88.5371958
END:VEVENT
BEGIN:VEVENT
DTSTART;VALUE=DATE:20230701
DTEND;VALUE=DATE:20230702
DTSTAMP:20260421T044723
CREATED:20230120T172654Z
LAST-MODIFIED:20230120T172654Z
UID:10000285-1688169600-1688255999@www.visitcolumbusms.org
SUMMARY:Fireworks on the Water
DESCRIPTION:
URL:https://www.visitcolumbusms.org/event/fireworks-on-the-water-2/
LOCATION:Columbus\, MS\, 39701\, United States
CATEGORIES:Arts & Culture,Family Fun,Food,History,Music
ATTACH;FMTTYPE=image/jpeg:https://s3.amazonaws.com/media.visitcolumbusms.org/20220427080812/iStock-1254324768-1.jpg
GEO:33.4956744;-88.4272627
END:VEVENT
BEGIN:VEVENT
DTSTART;VALUE=DATE:20230519
DTEND;VALUE=DATE:20230522
DTSTAMP:20260421T044723
CREATED:20230512T151411Z
LAST-MODIFIED:20230512T151411Z
UID:10000564-1684454400-1684713599@www.visitcolumbusms.org
SUMMARY:Golden Triangle Theatre presents The Sound of Music
DESCRIPTION:Enjoy a live performance of The Sound of Music\, presented byGolden Triangle Theatre. \nThere will be performances Friday\, May 19\, Saturday\, May 20\, and Sunday\, May 21. \nFor more info and to purchase tickets\, click here.
URL:https://www.visitcolumbusms.org/event/golden-triangle-theatre-presents-the-sound-of-music/
LOCATION:Columbus\, MS\, 39701\, United States
CATEGORIES:Arts & Culture,Family Fun,History,Literary,Music
GEO:33.4956744;-88.4272627
END:VEVENT
BEGIN:VEVENT
DTSTART;TZID=America/Chicago:20230421T190000
DTEND;TZID=America/Chicago:20230421T220000
DTSTAMP:20260421T044723
CREATED:20200117T205353Z
LAST-MODIFIED:20230329T212732Z
UID:10000170-1682103600-1682114400@www.visitcolumbusms.org
SUMMARY:Tales from the Crypt
DESCRIPTION:A one-of-a-kind performance awaits at Friendship Cemetery during the Tales of the Crypt drama. This graveyard tour reenacts notable personalities from Columbus who were present at Decoration Day inspiring the poem\, The Blue and the Gray. \nThis award-winning performance is produced by students of the Mississippi School for Mathematics and Science (MSMS) and has been nationally recognized for its creative history. \nThe Tales of the Crypt will be held on four nights from 7 – 10 P.M.\nApril 12\, 14\, 19 and 21
URL:https://www.visitcolumbusms.org/event/tales-from-the-crypt-3/2023-04-21/
LOCATION:Friendship Cemetery\, 1400 Fourth Street South\, Columbus\, MS\, 39701\, United States
CATEGORIES:History
ATTACH;FMTTYPE=image/jpeg:https://s3.amazonaws.com/media.visitcolumbusms.org/20180320193118/DSC_4184.jpg
GEO:33.4819553;-88.4281742
X-APPLE-STRUCTURED-LOCATION;VALUE=URI;X-ADDRESS=Friendship Cemetery 1400 Fourth Street South Columbus MS 39701 United States;X-APPLE-RADIUS=500;X-TITLE=1400 Fourth Street South:geo:-88.4281742,33.4819553
END:VEVENT
BEGIN:VEVENT
DTSTART;VALUE=DATE:20230421
DTEND;VALUE=DATE:20230423
DTSTAMP:20260421T044723
CREATED:20230118T211602Z
LAST-MODIFIED:20230316T174416Z
UID:10000264-1682035200-1682207999@www.visitcolumbusms.org
SUMMARY:Catfish in the Alley
DESCRIPTION:Friday\, April 21: Barbeque and Blues\, Lawn of the Tennessee Williams Welcome Center\, 12:00 – 2:00. Watermelon Slim and the Truckers performing. Barbeque available for purchase. \nSaturday\, April 22: Catfish in the Alley and Artisans Alley\, Catfish Alley\, 4th Street South\, 10:00 am – 3:00 pm. Terry Harmonica Bean\, Eden Brent\, and Jamell Richardson will perform.
URL:https://www.visitcolumbusms.org/event/catfish-in-the-alley-5/
LOCATION:Columbus\, MS\, 39701\, United States
CATEGORIES:Arts & Culture,Food,History,Music
GEO:33.4956744;-88.4272627
END:VEVENT
BEGIN:VEVENT
DTSTART;VALUE=DATE:20230421
DTEND;VALUE=DATE:20230422
DTSTAMP:20260421T044723
CREATED:20230221T165643Z
LAST-MODIFIED:20230221T170003Z
UID:10000563-1682035200-1682121599@www.visitcolumbusms.org
SUMMARY:Mississippi Roadshow\, Mississippi Public Broadcasting
DESCRIPTION:
URL:https://www.visitcolumbusms.org/event/mississippi-roadshow-mississippi-public-broadcasting/
LOCATION:Trotter Convention Center\, 402 2nd Ave. N\, Columbus\, MS\, 39701\, United States
CATEGORIES:Arts & Culture,History,Shopping
GEO:33.4958535;-88.4291808
X-APPLE-STRUCTURED-LOCATION;VALUE=URI;X-ADDRESS=Trotter Convention Center 402 2nd Ave. N Columbus MS 39701 United States;X-APPLE-RADIUS=500;X-TITLE=402 2nd Ave. N:geo:-88.4291808,33.4958535
END:VEVENT
BEGIN:VEVENT
DTSTART;VALUE=DATE:20230421
DTEND;VALUE=DATE:20230422
DTSTAMP:20260421T044723
CREATED:20230118T211512Z
LAST-MODIFIED:20230118T211512Z
UID:10000263-1682035200-1682121599@www.visitcolumbusms.org
SUMMARY:Tales from the Crypt
DESCRIPTION:
URL:https://www.visitcolumbusms.org/event/tales-from-the-crypt-7/2023-04-21/
LOCATION:Columbus\, MS\, 39701\, United States
CATEGORIES:Arts & Culture,History
GEO:33.4956744;-88.4272627
END:VEVENT
BEGIN:VEVENT
DTSTART;TZID=America/Chicago:20230419T190000
DTEND;TZID=America/Chicago:20230419T220000
DTSTAMP:20260421T044723
CREATED:20200117T205353Z
LAST-MODIFIED:20230329T212732Z
UID:10000169-1681930800-1681941600@www.visitcolumbusms.org
SUMMARY:Tales from the Crypt
DESCRIPTION:A one-of-a-kind performance awaits at Friendship Cemetery during the Tales of the Crypt drama. This graveyard tour reenacts notable personalities from Columbus who were present at Decoration Day inspiring the poem\, The Blue and the Gray. \nThis award-winning performance is produced by students of the Mississippi School for Mathematics and Science (MSMS) and has been nationally recognized for its creative history. \nThe Tales of the Crypt will be held on four nights from 7 – 10 P.M.\nApril 12\, 14\, 19 and 21
URL:https://www.visitcolumbusms.org/event/tales-from-the-crypt-3/2023-04-19/
LOCATION:Friendship Cemetery\, 1400 Fourth Street South\, Columbus\, MS\, 39701\, United States
CATEGORIES:History
ATTACH;FMTTYPE=image/jpeg:https://s3.amazonaws.com/media.visitcolumbusms.org/20180320193118/DSC_4184.jpg
GEO:33.4819553;-88.4281742
X-APPLE-STRUCTURED-LOCATION;VALUE=URI;X-ADDRESS=Friendship Cemetery 1400 Fourth Street South Columbus MS 39701 United States;X-APPLE-RADIUS=500;X-TITLE=1400 Fourth Street South:geo:-88.4281742,33.4819553
END:VEVENT
BEGIN:VEVENT
DTSTART;VALUE=DATE:20230419
DTEND;VALUE=DATE:20230420
DTSTAMP:20260421T044723
CREATED:20230118T211512Z
LAST-MODIFIED:20230118T211512Z
UID:10000262-1681862400-1681948799@www.visitcolumbusms.org
SUMMARY:Tales from the Crypt
DESCRIPTION:
URL:https://www.visitcolumbusms.org/event/tales-from-the-crypt-7/2023-04-19/
LOCATION:Columbus\, MS\, 39701\, United States
CATEGORIES:Arts & Culture,History
GEO:33.4956744;-88.4272627
END:VEVENT
BEGIN:VEVENT
DTSTART;TZID=America/Chicago:20230414T190000
DTEND;TZID=America/Chicago:20230414T220000
DTSTAMP:20260421T044723
CREATED:20200117T205353Z
LAST-MODIFIED:20230329T212732Z
UID:10000168-1681498800-1681509600@www.visitcolumbusms.org
SUMMARY:Tales from the Crypt
DESCRIPTION:A one-of-a-kind performance awaits at Friendship Cemetery during the Tales of the Crypt drama. This graveyard tour reenacts notable personalities from Columbus who were present at Decoration Day inspiring the poem\, The Blue and the Gray. \nThis award-winning performance is produced by students of the Mississippi School for Mathematics and Science (MSMS) and has been nationally recognized for its creative history. \nThe Tales of the Crypt will be held on four nights from 7 – 10 P.M.\nApril 12\, 14\, 19 and 21
URL:https://www.visitcolumbusms.org/event/tales-from-the-crypt-3/2023-04-14/
LOCATION:Friendship Cemetery\, 1400 Fourth Street South\, Columbus\, MS\, 39701\, United States
CATEGORIES:History
ATTACH;FMTTYPE=image/jpeg:https://s3.amazonaws.com/media.visitcolumbusms.org/20180320193118/DSC_4184.jpg
GEO:33.4819553;-88.4281742
X-APPLE-STRUCTURED-LOCATION;VALUE=URI;X-ADDRESS=Friendship Cemetery 1400 Fourth Street South Columbus MS 39701 United States;X-APPLE-RADIUS=500;X-TITLE=1400 Fourth Street South:geo:-88.4281742,33.4819553
END:VEVENT
BEGIN:VEVENT
DTSTART;VALUE=DATE:20230414
DTEND;VALUE=DATE:20230415
DTSTAMP:20260421T044723
CREATED:20230118T211512Z
LAST-MODIFIED:20230118T211512Z
UID:10000261-1681430400-1681516799@www.visitcolumbusms.org
SUMMARY:Tales from the Crypt
DESCRIPTION:
URL:https://www.visitcolumbusms.org/event/tales-from-the-crypt-7/2023-04-14/
LOCATION:Columbus\, MS\, 39701\, United States
CATEGORIES:Arts & Culture,History
GEO:33.4956744;-88.4272627
END:VEVENT
BEGIN:VEVENT
DTSTART;VALUE=DATE:20230412
DTEND;VALUE=DATE:20230413
DTSTAMP:20260421T044723
CREATED:20230118T211512Z
LAST-MODIFIED:20230118T211512Z
UID:10000260-1681257600-1681343999@www.visitcolumbusms.org
SUMMARY:Tales from the Crypt
DESCRIPTION:
URL:https://www.visitcolumbusms.org/event/tales-from-the-crypt-7/2023-04-12/
LOCATION:Columbus\, MS\, 39701\, United States
CATEGORIES:Arts & Culture,History
GEO:33.4956744;-88.4272627
END:VEVENT
BEGIN:VEVENT
DTSTART;TZID=America/Chicago:20230321T133000
DTEND;TZID=America/Chicago:20230321T150000
DTSTAMP:20260421T044724
CREATED:20230120T171959Z
LAST-MODIFIED:20230120T171959Z
UID:10000276-1679405400-1679410800@www.visitcolumbusms.org
SUMMARY:Fundraiser for the Historic Munroe Crypt Restoration
DESCRIPTION:Featuring Margot Shaw\, Founder and Editor in Chief of Flower magazine. \nTickets available at the door. For more information\, call or text 228.860.8449.
URL:https://www.visitcolumbusms.org/event/fundraiser-for-the-historic-munroe-crypt-restoration/
LOCATION:Annunciation Catholic Church\, 823 College Street\, Columbus\, MS\, 39701\, United States
CATEGORIES:History
GEO:33.4948958;-88.4232716
X-APPLE-STRUCTURED-LOCATION;VALUE=URI;X-ADDRESS=Annunciation Catholic Church 823 College Street Columbus MS 39701 United States;X-APPLE-RADIUS=500;X-TITLE=823 College Street:geo:-88.4232716,33.4948958
END:VEVENT
BEGIN:VEVENT
DTSTART;VALUE=DATE:20221001
DTEND;VALUE=DATE:20221002
DTSTAMP:20260421T044724
CREATED:20220427T143937Z
LAST-MODIFIED:20220427T144922Z
UID:10000236-1664582400-1664668799@www.visitcolumbusms.org
SUMMARY:Seventh Avenue Heritage Festival
DESCRIPTION:The 7th Avenue Heritage Festival celebrates what one of Columbus’s African-American business and entertainment districts. \nFor more information\, click here.
URL:https://www.visitcolumbusms.org/event/18394/
LOCATION:Columbus\, MS\, 39701\, United States
CATEGORIES:Family Fun,History
GEO:33.4956744;-88.4272627
END:VEVENT
BEGIN:VEVENT
DTSTART;VALUE=DATE:20220614
DTEND;VALUE=DATE:20220621
DTSTAMP:20260421T044724
CREATED:20220427T180238Z
LAST-MODIFIED:20220427T180406Z
UID:10000520-1655164800-1655769599@www.visitcolumbusms.org
SUMMARY:Juneteenth Festival and Celebration
DESCRIPTION:The Juneteenth Festival in Columbus will celebrate its 25th year this summer with an expanded series of events. This year’s event will take place Friday\, June 10\, and Tuesday\, June 14-Monday\, June 20: \nFestivities include: \nFriday\, June 10: Juneteenth Freedom Ball\, Trotter Convention Center \nTuesday\, June 14: A Journal through the Black Experience\, an Oral History\, Rosenzweig Arts Center \nWednesday\, June 15: A Day in the Park for Youth\, Sim Scott Park \nThursday\, June 16: Greek Step Show\, Trotter Convention Center \nFriday\, June 17: Festival\, Sim Scott Park \nSaturday\, June 18: Juneteenth Parade and Festival\, Sim Scott Park \nMonday\, June 20: Church Fellowship Picnic\, Location TBD
URL:https://www.visitcolumbusms.org/event/juneteenth-festival-and-celebration/2022-06-14/
LOCATION:Columbus\, MS\, 39701\, United States
CATEGORIES:Arts & Culture,History
GEO:33.4956744;-88.4272627
END:VEVENT
BEGIN:VEVENT
DTSTART;VALUE=DATE:20220610
DTEND;VALUE=DATE:20220617
DTSTAMP:20260421T044724
CREATED:20220427T180238Z
LAST-MODIFIED:20220427T180406Z
UID:10000519-1654819200-1655423999@www.visitcolumbusms.org
SUMMARY:Juneteenth Festival and Celebration
DESCRIPTION:The Juneteenth Festival in Columbus will celebrate its 25th year this summer with an expanded series of events. This year’s event will take place Friday\, June 10\, and Tuesday\, June 14-Monday\, June 20: \nFestivities include: \nFriday\, June 10: Juneteenth Freedom Ball\, Trotter Convention Center \nTuesday\, June 14: A Journal through the Black Experience\, an Oral History\, Rosenzweig Arts Center \nWednesday\, June 15: A Day in the Park for Youth\, Sim Scott Park \nThursday\, June 16: Greek Step Show\, Trotter Convention Center \nFriday\, June 17: Festival\, Sim Scott Park \nSaturday\, June 18: Juneteenth Parade and Festival\, Sim Scott Park \nMonday\, June 20: Church Fellowship Picnic\, Location TBD
URL:https://www.visitcolumbusms.org/event/juneteenth-festival-and-celebration/2022-06-10/
LOCATION:Columbus\, MS\, 39701\, United States
CATEGORIES:Arts & Culture,History
GEO:33.4956744;-88.4272627
END:VEVENT
BEGIN:VEVENT
DTSTART;TZID=America/Chicago:20220509T110000
DTEND;TZID=America/Chicago:20220509T130000
DTSTAMP:20260421T044724
CREATED:20200114T172808Z
LAST-MODIFIED:20220427T141659Z
UID:10000431-1652094000-1652101200@www.visitcolumbusms.org
SUMMARY:The Eighth of May Emancipation Celebration
DESCRIPTION:On the historic Emancipation Day celebrated throughout east Mississippi\, student researchers from the MS School for Mathematics & Science celebrate local history on the anniversary of Emancipation in Lowndes County and neighboring communities. A performance with music and dramatic vignettes\, the project has been featured in national publications and on HBO. \nThe event begins at 6 p.m. at Historic Sandfield Cemetery (College Street and Martin Luther King Jr. Blvd.) \nView the event poster here.
URL:https://www.visitcolumbusms.org/event/the-eighth-of-may-emancipation-celebration/
LOCATION:Sandfield Cemetery\, Columbus\, MS\, 39701\, United States
CATEGORIES:History
ATTACH;FMTTYPE=image/jpeg:https://s3.amazonaws.com/media.visitcolumbusms.org/20200114123327/Ezra-McWilliams-portraying-Allen-Rabb-2018.jpeg
GEO:33.4956744;-88.4272627
END:VEVENT
BEGIN:VEVENT
DTSTART;VALUE=DATE:20220407
DTEND;VALUE=DATE:20220410
DTSTAMP:20260421T044724
CREATED:20220118T221624Z
LAST-MODIFIED:20220406T193517Z
UID:10000228-1649289600-1649548799@www.visitcolumbusms.org
SUMMARY:Catfish in the Alley
DESCRIPTION:Get the rhythm with the blues in Columbus at the annual Catfish in the Alley.\n\n \nHere you’ll have the opportunity to listen to great blues music\, savor delicious Southern fare\, and explore Columbus\, “The City That Has It All!” \nSchedule of Events:\nThursday\, April 7: Complimentary concert on the lawn of the Tennessee Williams House Museum\nFriday\, April 8: 11:30 to 1:00\, Musical entertainment by Keith and Margie; Barbeque for purchase.\nSaturday\, April 9: Artisans Alley\, live blues music\, food vendors; 10 a.m.-3 p.m.
URL:https://www.visitcolumbusms.org/event/catfish-in-the-alley-4/
LOCATION:Columbus\, MS\, 39701\, United States
CATEGORIES:Arts & Culture,Family Fun,Food,History,Music
ATTACH;FMTTYPE=image/jpeg:https://s3.amazonaws.com/media.visitcolumbusms.org/20201102095759/CatfishAlley700x430-e1604330098308-1.jpg
GEO:33.4956744;-88.4272627
END:VEVENT
BEGIN:VEVENT
DTSTART;TZID=America/Chicago:20220324T080000
DTEND;TZID=America/Chicago:20220416T170000
DTSTAMP:20260421T044724
CREATED:20220118T221758Z
LAST-MODIFIED:20220315T160349Z
UID:10000234-1648108800-1650128400@www.visitcolumbusms.org
SUMMARY:Pilgrimage Jubilee of Homes
DESCRIPTION:Presented by the Preservation Society of Columbus\, Spring Pilgrimage will be held March 24-April 16. \nFor more information\, call 662.368.2503 or visit preservecolumbus.com.
URL:https://www.visitcolumbusms.org/event/spring-pilgrimage/
LOCATION:Columbus\, MS\, 39701\, United States
CATEGORIES:Arts & Culture,Historic Home Tours,History
GEO:33.4956744;-88.4272627
END:VEVENT
BEGIN:VEVENT
DTSTART;VALUE=DATE:20210408
DTEND;VALUE=DATE:20210411
DTSTAMP:20260421T044724
CREATED:20200928T193455Z
LAST-MODIFIED:20210409T210608Z
UID:10000489-1617840000-1618099199@www.visitcolumbusms.org
SUMMARY:Catfish in the Alley
DESCRIPTION:Due to inclement weather\, Saturday’s events will be held at the upper level of the Trotter Convention Center on the corner of 5th Street North and 2nd Avenue North.\n\n\n \nGet the rhythm with the blues in Columbus at Catfish in the Alley.\n\n \nHere you’ll have the opportunity to listen to great blues music\, savor delicious Southern fare\, and explore Columbus\, “The City That Has It All!” \n \n\n\nThursday\, April 8\,  5 pm to 8 pm  |  Kick Off Party\nLawn of Tennessee Williams House Museum and Welcome Center | 300 Main Street\nJust A Few Cats will perform. Concert is complimentary and catfish plates will be available for purchase. \nFriday\, April 9\, 5 pm to 7:30 pm  |  Barbeque and Blues Featuring music by Keith and Margie\n– Rescheduled\, due to weather\, to Saturday\, May 22\, 2021 –  \nSaturday\, April 10. 10 am to 3 pm  |  Catfish in the Alley and Artisans Alley\nUpper level of the Trotter Convention Center on the corner of 5th Street North and 2nd Avenue North\nArtisans demonstrating pottery\, wood carving\, quilting\, and more.\nLocal food vendors will be set up.\nMusical lineup: \n– Big Joe Shelton and The Black Prairie Blues Ambassadors\n– Terry “Harmonica” Bean\n– Grady Champion\n– Keith Johnson and The Big Muddy Band\nAll concerts are complimentary.
URL:https://www.visitcolumbusms.org/event/catfish-in-the-alley-3/
LOCATION:Columbus\, MS\, 39701\, United States
CATEGORIES:Food,History,Music
ATTACH;FMTTYPE=image/jpeg:https://s3.amazonaws.com/media.visitcolumbusms.org/20200928133101/Columbus_DeltaMag_Digital_600x400-02-e1601321644981.jpg
GEO:33.4956744;-88.4272627
END:VEVENT
BEGIN:VEVENT
DTSTART;TZID=America/Chicago:20200412T190000
DTEND;TZID=America/Chicago:20200412T220000
DTSTAMP:20260421T044724
CREATED:20200117T205353Z
LAST-MODIFIED:20230329T212732Z
UID:10000167-1586718000-1586728800@www.visitcolumbusms.org
SUMMARY:Tales from the Crypt
DESCRIPTION:A one-of-a-kind performance awaits at Friendship Cemetery during the Tales of the Crypt drama. This graveyard tour reenacts notable personalities from Columbus who were present at Decoration Day inspiring the poem\, The Blue and the Gray. \nThis award-winning performance is produced by students of the Mississippi School for Mathematics and Science (MSMS) and has been nationally recognized for its creative history. \nThe Tales of the Crypt will be held on four nights from 7 – 10 P.M.\nApril 12\, 14\, 19 and 21
URL:https://www.visitcolumbusms.org/event/tales-from-the-crypt-3/2020-04-12/
LOCATION:Friendship Cemetery\, 1400 Fourth Street South\, Columbus\, MS\, 39701\, United States
CATEGORIES:History
ATTACH;FMTTYPE=image/jpeg:https://s3.amazonaws.com/media.visitcolumbusms.org/20180320193118/DSC_4184.jpg
GEO:33.4819553;-88.4281742
X-APPLE-STRUCTURED-LOCATION;VALUE=URI;X-ADDRESS=Friendship Cemetery 1400 Fourth Street South Columbus MS 39701 United States;X-APPLE-RADIUS=500;X-TITLE=1400 Fourth Street South:geo:-88.4281742,33.4819553
END:VEVENT
BEGIN:VEVENT
DTSTART;TZID=America/Chicago:20200403T190000
DTEND;TZID=America/Chicago:20200403T220000
DTSTAMP:20260421T044724
CREATED:20200117T205804Z
LAST-MODIFIED:20200117T210208Z
UID:10000175-1585940400-1585951200@www.visitcolumbusms.org
SUMMARY:Tales from the Crypt
DESCRIPTION:A one-of-a-kind performance awaits at Friendship Cemetery during the Tales of the Crypt drama. This graveyard tour reenacts notable personalities from Columbus who were present at Decoration Day inspiring the poem\, The Blue and the Gray. \n  \nThis award-winning performance is produced by students of the Mississippi School for Mathematics and Science (MSMS) and has been nationally recognized for its creative history. \n  \nThe Tales of the Crypt will be held on four nights from 7 – 10 P.M.\nMarch 27\, March 30\, April 1\, and April 3
URL:https://www.visitcolumbusms.org/event/tales-from-the-crypt-6/
LOCATION:Friendship Cemetery\, 1400 Fourth Street South\, Columbus\, MS\, 39701\, United States
CATEGORIES:History
ATTACH;FMTTYPE=image/jpeg:https://s3.amazonaws.com/media.visitcolumbusms.org/20180320193118/DSC_4184.jpg
GEO:33.4819553;-88.4281742
X-APPLE-STRUCTURED-LOCATION;VALUE=URI;X-ADDRESS=Friendship Cemetery 1400 Fourth Street South Columbus MS 39701 United States;X-APPLE-RADIUS=500;X-TITLE=1400 Fourth Street South:geo:-88.4281742,33.4819553
END:VEVENT
BEGIN:VEVENT
DTSTART;TZID=America/Chicago:20200401T190000
DTEND;TZID=America/Chicago:20200401T220000
DTSTAMP:20260421T044724
CREATED:20200117T205556Z
LAST-MODIFIED:20200117T210037Z
UID:10000174-1585767600-1585778400@www.visitcolumbusms.org
SUMMARY:Tales from the Crypt
DESCRIPTION:A one-of-a-kind performance awaits at Friendship Cemetery during the Tales of the Crypt drama. This graveyard tour reenacts notable personalities from Columbus who were present at Decoration Day inspiring the poem\, The Blue and the Gray. \n  \nThis award-winning performance is produced by students of the Mississippi School for Mathematics and Science (MSMS) and has been nationally recognized for its creative history. \n  \nThe Tales of the Crypt will be held on four nights from 7 – 10 P.M.\nMarch 27\, March 30\, April 1\, and April 3
URL:https://www.visitcolumbusms.org/event/tales-from-the-crypt-5/
LOCATION:Friendship Cemetery\, 1400 Fourth Street South\, Columbus\, MS\, 39701\, United States
CATEGORIES:History
ATTACH;FMTTYPE=image/jpeg:https://s3.amazonaws.com/media.visitcolumbusms.org/20180320193118/DSC_4184.jpg
GEO:33.4819553;-88.4281742
X-APPLE-STRUCTURED-LOCATION;VALUE=URI;X-ADDRESS=Friendship Cemetery 1400 Fourth Street South Columbus MS 39701 United States;X-APPLE-RADIUS=500;X-TITLE=1400 Fourth Street South:geo:-88.4281742,33.4819553
END:VEVENT
BEGIN:VEVENT
DTSTART;TZID=America/Chicago:20200330T190000
DTEND;TZID=America/Chicago:20200330T220000
DTSTAMP:20260421T044724
CREATED:20200117T205512Z
LAST-MODIFIED:20200117T205950Z
UID:10000172-1585594800-1585605600@www.visitcolumbusms.org
SUMMARY:Tales from the Crypt
DESCRIPTION:A one-of-a-kind performance awaits at Friendship Cemetery during the Tales of the Crypt drama. This graveyard tour reenacts notable personalities from Columbus who were present at Decoration Day inspiring the poem\, The Blue and the Gray. \n  \nThis award-winning performance is produced by students of the Mississippi School for Mathematics and Science (MSMS) and has been nationally recognized for its creative history. \n  \nThe Tales of the Crypt will be held on four nights from 7 – 10 P.M.\nMarch 27\, March 30\, April 1\, and April 3
URL:https://www.visitcolumbusms.org/event/tales-from-the-crypt-4/
LOCATION:Friendship Cemetery\, 1400 Fourth Street South\, Columbus\, MS\, 39701\, United States
CATEGORIES:History
ATTACH;FMTTYPE=image/jpeg:https://s3.amazonaws.com/media.visitcolumbusms.org/20180320193118/DSC_4184.jpg
GEO:33.4819553;-88.4281742
X-APPLE-STRUCTURED-LOCATION;VALUE=URI;X-ADDRESS=Friendship Cemetery 1400 Fourth Street South Columbus MS 39701 United States;X-APPLE-RADIUS=500;X-TITLE=1400 Fourth Street South:geo:-88.4281742,33.4819553
END:VEVENT
BEGIN:VEVENT
DTSTART;TZID=America/Chicago:20190508T170000
DTEND;TZID=America/Chicago:20190508T190000
DTSTAMP:20260421T044724
CREATED:20190429T173615Z
LAST-MODIFIED:20190502T213838Z
UID:10000528-1557334800-1557342000@www.visitcolumbusms.org
SUMMARY:Eighth of May Emancipation Celebration
DESCRIPTION:“…a day long to be remembered…”\n-Cyrus Green \nCelebrate the anniversary of Emancipation in Lowndes County and neighboring communities at Historic Sandfield Cemetery. \nThis event is a research/performance project presented by MSMS Voices in Harmony and MSMS African American History Class. \nFestivities will include:\n5:30 p.m.  |  State Historic Marker Dedication\n6:00 p.m.  |  Performance \nThis event is free and open to the public.
URL:https://www.visitcolumbusms.org/event/eighth-of-may-emancipation-celebration/
LOCATION:Columbus\, MS\, 39701\, United States
CATEGORIES:History
ATTACH;FMTTYPE=image/jpeg:https://s3.amazonaws.com/media.visitcolumbusms.org/20190502153825/Eighth-of-May-2019-Poster-11x17-1-3.jpg
GEO:33.4956744;-88.4272627
END:VEVENT
END:VCALENDAR