BEGIN:VCALENDAR
VERSION:2.0
PRODID:-//Columbus MS - ECPv6.10.1.1//NONSGML v1.0//EN
CALSCALE:GREGORIAN
METHOD:PUBLISH
X-WR-CALNAME:Columbus MS
X-ORIGINAL-URL:https://www.visitcolumbusms.org
X-WR-CALDESC:Events for Columbus MS
REFRESH-INTERVAL;VALUE=DURATION:PT1H
X-Robots-Tag:noindex
X-PUBLISHED-TTL:PT1H
BEGIN:VTIMEZONE
TZID:America/Chicago
BEGIN:DAYLIGHT
TZOFFSETFROM:-0600
TZOFFSETTO:-0500
TZNAME:CDT
DTSTART:20180311T080000
END:DAYLIGHT
BEGIN:STANDARD
TZOFFSETFROM:-0500
TZOFFSETTO:-0600
TZNAME:CST
DTSTART:20181104T070000
END:STANDARD
BEGIN:DAYLIGHT
TZOFFSETFROM:-0600
TZOFFSETTO:-0500
TZNAME:CDT
DTSTART:20190310T080000
END:DAYLIGHT
BEGIN:STANDARD
TZOFFSETFROM:-0500
TZOFFSETTO:-0600
TZNAME:CST
DTSTART:20191103T070000
END:STANDARD
BEGIN:DAYLIGHT
TZOFFSETFROM:-0600
TZOFFSETTO:-0500
TZNAME:CDT
DTSTART:20200308T080000
END:DAYLIGHT
BEGIN:STANDARD
TZOFFSETFROM:-0500
TZOFFSETTO:-0600
TZNAME:CST
DTSTART:20201101T070000
END:STANDARD
END:VTIMEZONE
BEGIN:VEVENT
DTSTART;VALUE=DATE:20200307
DTEND;VALUE=DATE:20200308
DTSTAMP:20260425T203451
CREATED:20191114T172523Z
LAST-MODIFIED:20191114T172532Z
UID:10000417-1583539200-1583625599@www.visitcolumbusms.org
SUMMARY:Music by Women Festival
DESCRIPTION:The festival will include papers\, presentations\, lecture recitals\, and performances all relating to the subject of music composed\, taught and performed by women. The festival will feature concerts of new and historic music written by women composers historically as well as in the present day. The festival will be held at Poindexter Hall on the Mississippi University for Women campus. \nFor more details\, visit muw.edu/musicbywomen or email musicbywomen@muw.edu.
URL:https://www.visitcolumbusms.org/event/music-by-women-festival-2/2020-03-07/
LOCATION:Poindexter Hall\, 1100 College St. Columbus\, Columbus\, MS\, 39701\, United States
CATEGORIES:Music
GEO:33.491089;-88.4183492
X-APPLE-STRUCTURED-LOCATION;VALUE=URI;X-ADDRESS=Poindexter Hall 1100 College St. Columbus Columbus MS 39701 United States;X-APPLE-RADIUS=500;X-TITLE=1100 College St. Columbus:geo:-88.4183492,33.491089
END:VEVENT
BEGIN:VEVENT
DTSTART;TZID=America/Chicago:20200306T100000
DTEND;TZID=America/Chicago:20200306T200000
DTSTAMP:20260425T203451
CREATED:20200117T204346Z
LAST-MODIFIED:20200117T204346Z
UID:10000453-1583488800-1583524800@www.visitcolumbusms.org
SUMMARY:MUW Music by Women Festival
DESCRIPTION:The MUW’s third annual Music by Women Festival will be held March 5 – 7 at Poindexter Hall and will consist of lectures\, presentations\, recitals and showcases of music composed\, taught and performed by women. This event encompasses a wide array of traditional and contemporary music.
URL:https://www.visitcolumbusms.org/event/muw-music-by-women-festival/2020-03-06/
LOCATION:Poindexter Hall\, 1100 College St. Columbus\, Columbus\, MS\, 39701\, United States
CATEGORIES:Music
GEO:33.491089;-88.4183492
X-APPLE-STRUCTURED-LOCATION;VALUE=URI;X-ADDRESS=Poindexter Hall 1100 College St. Columbus Columbus MS 39701 United States;X-APPLE-RADIUS=500;X-TITLE=1100 College St. Columbus:geo:-88.4183492,33.491089
END:VEVENT
BEGIN:VEVENT
DTSTART;VALUE=DATE:20200306
DTEND;VALUE=DATE:20200307
DTSTAMP:20260425T203451
CREATED:20191114T172523Z
LAST-MODIFIED:20191114T172532Z
UID:10000416-1583452800-1583539199@www.visitcolumbusms.org
SUMMARY:Music by Women Festival
DESCRIPTION:The festival will include papers\, presentations\, lecture recitals\, and performances all relating to the subject of music composed\, taught and performed by women. The festival will feature concerts of new and historic music written by women composers historically as well as in the present day. The festival will be held at Poindexter Hall on the Mississippi University for Women campus. \nFor more details\, visit muw.edu/musicbywomen or email musicbywomen@muw.edu.
URL:https://www.visitcolumbusms.org/event/music-by-women-festival-2/2020-03-06/
LOCATION:Poindexter Hall\, 1100 College St. Columbus\, Columbus\, MS\, 39701\, United States
CATEGORIES:Music
GEO:33.491089;-88.4183492
X-APPLE-STRUCTURED-LOCATION;VALUE=URI;X-ADDRESS=Poindexter Hall 1100 College St. Columbus Columbus MS 39701 United States;X-APPLE-RADIUS=500;X-TITLE=1100 College St. Columbus:geo:-88.4183492,33.491089
END:VEVENT
BEGIN:VEVENT
DTSTART;TZID=America/Chicago:20200305T100000
DTEND;TZID=America/Chicago:20200305T200000
DTSTAMP:20260425T203451
CREATED:20200117T204346Z
LAST-MODIFIED:20200117T204346Z
UID:10000452-1583402400-1583438400@www.visitcolumbusms.org
SUMMARY:MUW Music by Women Festival
DESCRIPTION:The MUW’s third annual Music by Women Festival will be held March 5 – 7 at Poindexter Hall and will consist of lectures\, presentations\, recitals and showcases of music composed\, taught and performed by women. This event encompasses a wide array of traditional and contemporary music.
URL:https://www.visitcolumbusms.org/event/muw-music-by-women-festival/2020-03-05/
LOCATION:Poindexter Hall\, 1100 College St. Columbus\, Columbus\, MS\, 39701\, United States
CATEGORIES:Music
GEO:33.491089;-88.4183492
X-APPLE-STRUCTURED-LOCATION;VALUE=URI;X-ADDRESS=Poindexter Hall 1100 College St. Columbus Columbus MS 39701 United States;X-APPLE-RADIUS=500;X-TITLE=1100 College St. Columbus:geo:-88.4183492,33.491089
END:VEVENT
BEGIN:VEVENT
DTSTART;VALUE=DATE:20200305
DTEND;VALUE=DATE:20200306
DTSTAMP:20260425T203451
CREATED:20191114T172523Z
LAST-MODIFIED:20191114T172532Z
UID:10000415-1583366400-1583452799@www.visitcolumbusms.org
SUMMARY:Music by Women Festival
DESCRIPTION:The festival will include papers\, presentations\, lecture recitals\, and performances all relating to the subject of music composed\, taught and performed by women. The festival will feature concerts of new and historic music written by women composers historically as well as in the present day. The festival will be held at Poindexter Hall on the Mississippi University for Women campus. \nFor more details\, visit muw.edu/musicbywomen or email musicbywomen@muw.edu.
URL:https://www.visitcolumbusms.org/event/music-by-women-festival-2/2020-03-05/
LOCATION:Poindexter Hall\, 1100 College St. Columbus\, Columbus\, MS\, 39701\, United States
CATEGORIES:Music
GEO:33.491089;-88.4183492
X-APPLE-STRUCTURED-LOCATION;VALUE=URI;X-ADDRESS=Poindexter Hall 1100 College St. Columbus Columbus MS 39701 United States;X-APPLE-RADIUS=500;X-TITLE=1100 College St. Columbus:geo:-88.4183492,33.491089
END:VEVENT
BEGIN:VEVENT
DTSTART;TZID=America/Chicago:20200302T193000
DTEND;TZID=America/Chicago:20200302T203000
DTSTAMP:20260425T203451
CREATED:20200117T204545Z
LAST-MODIFIED:20200117T204545Z
UID:10000445-1583177400-1583181000@www.visitcolumbusms.org
SUMMARY:MUW Guest Artist Recital
DESCRIPTION:MUW is honored to host Janet Hopkins\, mezzo-soprano and Armen Shaomian\, pianist\, as they share their talents in concert at Poindexter Hall on March 2 at 7:30 P.M. This event is free and open to the public.
URL:https://www.visitcolumbusms.org/event/muw-guest-artist-recital/
LOCATION:Poindexter Hall\, 1100 College St. Columbus\, Columbus\, MS\, 39701\, United States
CATEGORIES:Music
GEO:33.491089;-88.4183492
X-APPLE-STRUCTURED-LOCATION;VALUE=URI;X-ADDRESS=Poindexter Hall 1100 College St. Columbus Columbus MS 39701 United States;X-APPLE-RADIUS=500;X-TITLE=1100 College St. Columbus:geo:-88.4183492,33.491089
END:VEVENT
BEGIN:VEVENT
DTSTART;TZID=America/Chicago:20200302T130000
DTEND;TZID=America/Chicago:20200302T140000
DTSTAMP:20260425T203451
CREATED:20200117T204629Z
LAST-MODIFIED:20200117T204629Z
UID:10000161-1583154000-1583157600@www.visitcolumbusms.org
SUMMARY:MUW Guest Artist Masterclass Janet Hopkins
DESCRIPTION:Learn valuable vocal tips from Janet Hopkins\, mezzo-soprano\, as she teaches and works with the MUW voice students at Poindexter Hall on the MUW campus.
URL:https://www.visitcolumbusms.org/event/muw-guest-artist-masterclass-janet-hopkins/
LOCATION:Poindexter Hall\, 1100 College St. Columbus\, Columbus\, MS\, 39701\, United States
CATEGORIES:Music
GEO:33.491089;-88.4183492
X-APPLE-STRUCTURED-LOCATION;VALUE=URI;X-ADDRESS=Poindexter Hall 1100 College St. Columbus Columbus MS 39701 United States;X-APPLE-RADIUS=500;X-TITLE=1100 College St. Columbus:geo:-88.4183492,33.491089
END:VEVENT
BEGIN:VEVENT
DTSTART;TZID=America/Chicago:20200228T193000
DTEND;TZID=America/Chicago:20200228T203000
DTSTAMP:20260425T203451
CREATED:20200117T204444Z
LAST-MODIFIED:20200117T204444Z
UID:10000447-1582918200-1582921800@www.visitcolumbusms.org
SUMMARY:MUW Choir Concert
DESCRIPTION:Hear the harmonious ensemble of the MUW Chamber Singers and MUW Chorale at Poindexter Hall as they showcase the beautiful pieces they have prepared.
URL:https://www.visitcolumbusms.org/event/muw-choir-concert-2/
LOCATION:Poindexter Hall\, 1100 College St. Columbus\, Columbus\, MS\, 39701\, United States
CATEGORIES:Music
GEO:33.491089;-88.4183492
X-APPLE-STRUCTURED-LOCATION;VALUE=URI;X-ADDRESS=Poindexter Hall 1100 College St. Columbus Columbus MS 39701 United States;X-APPLE-RADIUS=500;X-TITLE=1100 College St. Columbus:geo:-88.4183492,33.491089
END:VEVENT
BEGIN:VEVENT
DTSTART;TZID=America/Chicago:20200221T193000
DTEND;TZID=America/Chicago:20200221T203000
DTSTAMP:20260425T203451
CREATED:20200117T204703Z
LAST-MODIFIED:20200117T204703Z
UID:10000162-1582313400-1582317000@www.visitcolumbusms.org
SUMMARY:MUW Spring Recital
DESCRIPTION:Come enjoy the musical masterpieces which the MUW students have prepared over the course of the 2020 spring semester. This concert will be held at Poindexter Hall on February 21 at 7:30 P.M.
URL:https://www.visitcolumbusms.org/event/muw-spring-recital/
LOCATION:Poindexter Hall\, 1100 College St. Columbus\, Columbus\, MS\, 39701\, United States
CATEGORIES:Music
GEO:33.491089;-88.4183492
X-APPLE-STRUCTURED-LOCATION;VALUE=URI;X-ADDRESS=Poindexter Hall 1100 College St. Columbus Columbus MS 39701 United States;X-APPLE-RADIUS=500;X-TITLE=1100 College St. Columbus:geo:-88.4183492,33.491089
END:VEVENT
BEGIN:VEVENT
DTSTART;TZID=America/Chicago:20191220T190000
DTEND;TZID=America/Chicago:20191220T190000
DTSTAMP:20260425T203451
CREATED:20191118T164409Z
LAST-MODIFIED:20191118T164409Z
UID:10000413-1576868400-1576868400@www.visitcolumbusms.org
SUMMARY:Celtic Christmas
DESCRIPTION:A Celtic Christmas will perform on Friday\, December 20th at 7 P.M. at the Omnova Theater at the Rosenzweig Arts Center.
URL:https://www.visitcolumbusms.org/event/celtic-christmas/
LOCATION:Rosenzweig Arts Center\, 501 Main Street\, Columbus\, MS\, 39701\, United States
CATEGORIES:Christmas,Music
GEO:33.4947188;-88.4325751
X-APPLE-STRUCTURED-LOCATION;VALUE=URI;X-ADDRESS=Rosenzweig Arts Center 501 Main Street Columbus MS 39701 United States;X-APPLE-RADIUS=500;X-TITLE=501 Main Street:geo:-88.4325751,33.4947188
END:VEVENT
BEGIN:VEVENT
DTSTART;TZID=America/Chicago:20191208T150000
DTEND;TZID=America/Chicago:20191208T150000
DTSTAMP:20260425T203451
CREATED:20191125T223704Z
LAST-MODIFIED:20191125T223704Z
UID:10000434-1575817200-1575817200@www.visitcolumbusms.org
SUMMARY:Columbus Girl Choir Fall Concert
DESCRIPTION:Enjoy the talented women of the Columbus Girl Choir as they present their 2019 fall concert. The concert will take place at Poindexter Hall on the Mississippi University for Women campus on December 8 beginning at 3 P.M.
URL:https://www.visitcolumbusms.org/event/columbus-girl-choir-fall-concert/
LOCATION:Poindexter Hall\, 1100 College St. Columbus\, Columbus\, MS\, 39701\, United States
CATEGORIES:Music
GEO:33.491089;-88.4183492
X-APPLE-STRUCTURED-LOCATION;VALUE=URI;X-ADDRESS=Poindexter Hall 1100 College St. Columbus Columbus MS 39701 United States;X-APPLE-RADIUS=500;X-TITLE=1100 College St. Columbus:geo:-88.4183492,33.491089
END:VEVENT
BEGIN:VEVENT
DTSTART;TZID=America/Chicago:20180712T190000
DTEND;TZID=America/Chicago:20180712T210000
DTSTAMP:20260425T203451
CREATED:20180130T171244Z
LAST-MODIFIED:20180327T042152Z
UID:10000093-1531422000-1531429200@www.visitcolumbusms.org
SUMMARY:Sounds of Summer Concert
DESCRIPTION:Join your friends and neighbors and bring your lawn chairs and blankets for the Sounds of Summer concert series at the Columbus Riverwalk. \nThe concerts are free\, and food and drink are available for purchase. \nFor more information\, contact Columbus Main Street at (662) 328-6305.
URL:https://www.visitcolumbusms.org/event/sounds-of-summer-concert-4/
LOCATION:Columbus Riverwalk\, Columbus\, MS\, 39701\, United States
CATEGORIES:Family Fun,Music
GEO:33.4959067;-88.4437765
END:VEVENT
BEGIN:VEVENT
DTSTART;TZID=America/Chicago:20180621T190000
DTEND;TZID=America/Chicago:20180621T210000
DTSTAMP:20260425T203451
CREATED:20180130T171120Z
LAST-MODIFIED:20180327T042104Z
UID:10000219-1529607600-1529614800@www.visitcolumbusms.org
SUMMARY:Sounds of Summer Concert
DESCRIPTION:Join your friends and neighbors and bring your lawn chairs and blankets for the Sounds of Summer concert series at the Columbus Riverwalk. \nThe concerts are free\, and food and drink are available for purchase. \nFor more information\, contact Columbus Main Street at (662) 328-6305.
URL:https://www.visitcolumbusms.org/event/sounds-of-summer-concert-3/
LOCATION:Columbus Riverwalk\, Columbus\, MS\, 39701\, United States
CATEGORIES:Family Fun,Music
GEO:33.4959067;-88.4437765
END:VEVENT
BEGIN:VEVENT
DTSTART;TZID=America/Chicago:20180607T190000
DTEND;TZID=America/Chicago:20180607T210000
DTSTAMP:20260425T203451
CREATED:20180130T171024Z
LAST-MODIFIED:20180327T041726Z
UID:10000173-1528398000-1528405200@www.visitcolumbusms.org
SUMMARY:Sounds of Summer Concert
DESCRIPTION:Join your friends and neighbors and bring your lawn chairs and blankets for the Sounds of Summer concert series at the Columbus Riverwalk. \nThe concerts are free\, and food and drink are available for purchase. \nFor more information\, contact Columbus Main Street at (662) 328-6305.
URL:https://www.visitcolumbusms.org/event/sounds-of-summer-concert-2/
LOCATION:Columbus Riverwalk\, Columbus\, MS\, 39701\, United States
CATEGORIES:Family Fun,Music
GEO:33.4959067;-88.4437765
END:VEVENT
BEGIN:VEVENT
DTSTART;TZID=America/Chicago:20180407T100000
DTEND;TZID=America/Chicago:20180407T150000
DTSTAMP:20260425T203451
CREATED:20170208T012457Z
LAST-MODIFIED:20180328T195444Z
UID:10000153-1523095200-1523113200@www.visitcolumbusms.org
SUMMARY:Catfish in the Alley®
DESCRIPTION:This year’s Catfish in the Alley® event – the tenth annual – will feature a day of fun for the whole family\, including catfish\, vendors\, fabulous food\, cold beverages\, and some of the best blues musicians in the South. Catfish in the Alley® is free and open to the public. Food and beverages will be available for purchase that day\, as well as crafts at Artisans Alley. \nMusical Line Up \n10:15 a.m. – 11:15 a.m.  •  Big Joe Shelton & The Black Prairie Blues Ambassadors \n11:30 a.m. – 12:30 p.m.  •  Terry “Harmonica” Bean \n12:45 p.m. – 1:45 p.m.  •  Grady Champion \n2 p.m. – 3 p.m.  •  Christone “Kingfish” Ingram
URL:https://www.visitcolumbusms.org/event/catfish-in-the-alley4/
LOCATION:Catfish Alley\, 4th Street South\, Columbus\, MS\, 39701\, United States
CATEGORIES:Music,Spring Pilgrimage
ATTACH;FMTTYPE=image/jpeg:https://s3.amazonaws.com/media.visitcolumbusms.org/20180302212509/l_0xp4x322201433036PM.jpg
GEO:33.4870745;-88.4283629
X-APPLE-STRUCTURED-LOCATION;VALUE=URI;X-ADDRESS=Catfish Alley 4th Street South Columbus MS 39701 United States;X-APPLE-RADIUS=500;X-TITLE=4th Street South:geo:-88.4283629,33.4870745
END:VEVENT
BEGIN:VEVENT
DTSTART;TZID=America/Chicago:20180405T170000
DTEND;TZID=America/Chicago:20180405T200000
DTSTAMP:20260425T203451
CREATED:20170208T012457Z
LAST-MODIFIED:20180327T025644Z
UID:10000158-1522947600-1522958400@www.visitcolumbusms.org
SUMMARY:Kickoff Party
DESCRIPTION:Columbus Spring Pilgrimage festivities kick off on Thursday\, April 5\, from 5PM to 8PM on the Tennessee Williams Home Lawn\, with an outstanding evening of great food and Mustache the Band performing! \nThe annual community-wide Kickoff Party takes place beside the Tennessee Williams Home and Welcome Center at 300 Main St. Boiled crawfish and shrimp plates by Huck’s will be available for purchase\, complete with all the trimmings. Partygoers will also feast on the sounds of Oxford-based Mustache the Band\, self-described as “the party band that will grow on you\,” as they serve their version of 90’s country vibe. To get the crowd in the mood\, “mustaches” will be provided. \nThe concert is free\, and everyone is invited! For more information\, call or stop by Visit Columbus: (800) 920-3533 or (662) 329-1191  |  117 3rd Street South
URL:https://www.visitcolumbusms.org/event/spring-pilgrimage-kickoff-party1/
LOCATION:Tennessee Williams Home Lawn\, 300 Main Street\, Columbus\, MS\, 39701\, United States
CATEGORIES:Music,Spring Pilgrimage
ATTACH;FMTTYPE=image/jpeg:https://s3.amazonaws.com/media.visitcolumbusms.org/20180326205524/columbus_kickoff_crawfish.jpg
GEO:33.4945451;-88.4303737
X-APPLE-STRUCTURED-LOCATION;VALUE=URI;X-ADDRESS=Tennessee Williams Home Lawn 300 Main Street Columbus MS 39701 United States;X-APPLE-RADIUS=500;X-TITLE=300 Main Street:geo:-88.4303737,33.4945451
END:VEVENT
END:VCALENDAR