BEGIN:VCALENDAR
VERSION:2.0
PRODID:-//Columbus MS - ECPv6.10.1.1//NONSGML v1.0//EN
CALSCALE:GREGORIAN
METHOD:PUBLISH
X-ORIGINAL-URL:https://www.visitcolumbusms.org
X-WR-CALDESC:Events for Columbus MS
REFRESH-INTERVAL;VALUE=DURATION:PT1H
X-Robots-Tag:noindex
X-PUBLISHED-TTL:PT1H
BEGIN:VTIMEZONE
TZID:America/Chicago
BEGIN:DAYLIGHT
TZOFFSETFROM:-0600
TZOFFSETTO:-0500
TZNAME:CDT
DTSTART:20240310T080000
END:DAYLIGHT
BEGIN:STANDARD
TZOFFSETFROM:-0500
TZOFFSETTO:-0600
TZNAME:CST
DTSTART:20241103T070000
END:STANDARD
BEGIN:DAYLIGHT
TZOFFSETFROM:-0600
TZOFFSETTO:-0500
TZNAME:CDT
DTSTART:20250309T080000
END:DAYLIGHT
BEGIN:STANDARD
TZOFFSETFROM:-0500
TZOFFSETTO:-0600
TZNAME:CST
DTSTART:20251102T070000
END:STANDARD
END:VTIMEZONE
BEGIN:VEVENT
DTSTART;TZID=America/Chicago:20250918T190000
DTEND;TZID=America/Chicago:20250918T210000
DTSTAMP:20260425T102421
CREATED:20241106T031107Z
LAST-MODIFIED:20241106T031107Z
UID:10000440-1758222000-1758229200@www.visitcolumbusms.org
SUMMARY:The Barn Concert Series
DESCRIPTION:
URL:https://www.visitcolumbusms.org/event/the-barn-concert-series-3/
LOCATION:The Barn\, 136 Mac Davis Road\, Columbus\, MS\, 39702\, United States
CATEGORIES:Arts & Culture,Community Event,Music
GEO:33.4892822;-88.285412
X-APPLE-STRUCTURED-LOCATION;VALUE=URI;X-ADDRESS=The Barn 136 Mac Davis Road Columbus MS 39702 United States;X-APPLE-RADIUS=500;X-TITLE=136 Mac Davis Road:geo:-88.285412,33.4892822
END:VEVENT
BEGIN:VEVENT
DTSTART;TZID=America/Chicago:20250809T190000
DTEND;TZID=America/Chicago:20250809T210000
DTSTAMP:20260425T102421
CREATED:20250722T140658Z
LAST-MODIFIED:20250722T140659Z
UID:10000718-1754766000-1754773200@www.visitcolumbusms.org
SUMMARY:Wayfarer Blues Tour Cary Hudson with Dan Raza
DESCRIPTION:
URL:https://www.visitcolumbusms.org/event/wayfarer-blues-tour-cary-hudson-with-dan-raza/
LOCATION:columbus arts council\, 501 Main Street\, Columbus\, MS\, 39701\, United States
CATEGORIES:Arts & Culture,Music
GEO:33.4954789;-88.4280045
X-APPLE-STRUCTURED-LOCATION;VALUE=URI;X-ADDRESS=columbus arts council 501 Main Street Columbus MS 39701 United States;X-APPLE-RADIUS=500;X-TITLE=501 Main Street:geo:-88.4280045,33.4954789
END:VEVENT
BEGIN:VEVENT
DTSTART;TZID=America/Chicago:20250802T160000
DTEND;TZID=America/Chicago:20250802T220000
DTSTAMP:20260425T102421
CREATED:20250722T140455Z
LAST-MODIFIED:20250722T140455Z
UID:10000717-1754150400-1754172000@www.visitcolumbusms.org
SUMMARY:Artesia Day Festival
DESCRIPTION:
URL:https://www.visitcolumbusms.org/event/artesia-day-festival/2025-08-02/
LOCATION:City of Artesia\, 101 North Front Street\, Artesia\, 39736\, United States
CATEGORIES:Community Event,Music
GEO:33.4171248;-88.644496
X-APPLE-STRUCTURED-LOCATION;VALUE=URI;X-ADDRESS=City of Artesia 101 North Front Street Artesia 39736 United States;X-APPLE-RADIUS=500;X-TITLE=101 North Front Street:geo:-88.644496,33.4171248
END:VEVENT
BEGIN:VEVENT
DTSTART;TZID=America/Chicago:20250801T170000
DTEND;TZID=America/Chicago:20250801T220000
DTSTAMP:20260425T102421
CREATED:20250722T140455Z
LAST-MODIFIED:20250722T140455Z
UID:10000716-1754067600-1754085600@www.visitcolumbusms.org
SUMMARY:Artesia Day Festival
DESCRIPTION:
URL:https://www.visitcolumbusms.org/event/artesia-day-festival/2025-08-01/
LOCATION:City of Artesia\, 101 North Front Street\, Artesia\, 39736\, United States
CATEGORIES:Community Event,Music
GEO:33.4171248;-88.644496
X-APPLE-STRUCTURED-LOCATION;VALUE=URI;X-ADDRESS=City of Artesia 101 North Front Street Artesia 39736 United States;X-APPLE-RADIUS=500;X-TITLE=101 North Front Street:geo:-88.644496,33.4171248
END:VEVENT
BEGIN:VEVENT
DTSTART;TZID=America/Chicago:20250731T180000
DTEND;TZID=America/Chicago:20250731T220000
DTSTAMP:20260425T102421
CREATED:20250722T140455Z
LAST-MODIFIED:20250722T140455Z
UID:10000715-1753984800-1753999200@www.visitcolumbusms.org
SUMMARY:Artesia Day Festival
DESCRIPTION:
URL:https://www.visitcolumbusms.org/event/artesia-day-festival/2025-07-31/
LOCATION:City of Artesia\, 101 North Front Street\, Artesia\, 39736\, United States
CATEGORIES:Community Event,Music
GEO:33.4171248;-88.644496
X-APPLE-STRUCTURED-LOCATION;VALUE=URI;X-ADDRESS=City of Artesia 101 North Front Street Artesia 39736 United States;X-APPLE-RADIUS=500;X-TITLE=101 North Front Street:geo:-88.644496,33.4171248
END:VEVENT
BEGIN:VEVENT
DTSTART;TZID=America/Chicago:20250726T140000
DTEND;TZID=America/Chicago:20250726T180000
DTSTAMP:20260425T102421
CREATED:20250722T140455Z
LAST-MODIFIED:20250722T140455Z
UID:10000714-1753538400-1753552800@www.visitcolumbusms.org
SUMMARY:Artesia Day Festival
DESCRIPTION:
URL:https://www.visitcolumbusms.org/event/artesia-day-festival/2025-07-26/
LOCATION:City of Artesia\, 101 North Front Street\, Artesia\, 39736\, United States
CATEGORIES:Community Event,Music
GEO:33.4171248;-88.644496
X-APPLE-STRUCTURED-LOCATION;VALUE=URI;X-ADDRESS=City of Artesia 101 North Front Street Artesia 39736 United States;X-APPLE-RADIUS=500;X-TITLE=101 North Front Street:geo:-88.644496,33.4171248
END:VEVENT
BEGIN:VEVENT
DTSTART;TZID=America/Chicago:20250703T080000
DTEND;TZID=America/Chicago:20250705T170000
DTSTAMP:20260425T102421
CREATED:20250621T143114Z
LAST-MODIFIED:20250621T143114Z
UID:10000708-1751529600-1751734800@www.visitcolumbusms.org
SUMMARY:Southside Blues Festival
DESCRIPTION:
URL:https://www.visitcolumbusms.org/event/southside-blues-festival-3/
LOCATION:Townsend Park\, 826 15th Street South\, Columbus\, MS\, 39701\, United States
CATEGORIES:Community Event,Family Fun,Food,Music
GEO:33.487486;-88.4158762
X-APPLE-STRUCTURED-LOCATION;VALUE=URI;X-ADDRESS=Townsend Park 826 15th Street South Columbus MS 39701 United States;X-APPLE-RADIUS=500;X-TITLE=826 15th Street South:geo:-88.4158762,33.487486
END:VEVENT
BEGIN:VEVENT
DTSTART;TZID=America/Chicago:20250605T190000
DTEND;TZID=America/Chicago:20250605T210000
DTSTAMP:20260425T102421
CREATED:20241106T030931Z
LAST-MODIFIED:20241106T030931Z
UID:10000439-1749150000-1749157200@www.visitcolumbusms.org
SUMMARY:The Barn Concert Series
DESCRIPTION:
URL:https://www.visitcolumbusms.org/event/the-barn-concert-series-2/
LOCATION:The Barn\, 136 Mac Davis Road\, Columbus\, MS\, 39702\, United States
CATEGORIES:Arts & Culture,Community Event,Music
GEO:33.4892822;-88.285412
X-APPLE-STRUCTURED-LOCATION;VALUE=URI;X-ADDRESS=The Barn 136 Mac Davis Road Columbus MS 39702 United States;X-APPLE-RADIUS=500;X-TITLE=136 Mac Davis Road:geo:-88.285412,33.4892822
END:VEVENT
BEGIN:VEVENT
DTSTART;TZID=America/Chicago:20250515T190000
DTEND;TZID=America/Chicago:20250515T210000
DTSTAMP:20260425T102421
CREATED:20241106T030734Z
LAST-MODIFIED:20241106T030734Z
UID:10000437-1747335600-1747342800@www.visitcolumbusms.org
SUMMARY:The Barn Concert
DESCRIPTION:
URL:https://www.visitcolumbusms.org/event/the-barn-concert/
LOCATION:The Barn\, 136 Mac Davis Road\, Columbus\, MS\, 39702\, United States
CATEGORIES:Arts & Culture,Community Event,Music
GEO:33.4892822;-88.285412
X-APPLE-STRUCTURED-LOCATION;VALUE=URI;X-ADDRESS=The Barn 136 Mac Davis Road Columbus MS 39702 United States;X-APPLE-RADIUS=500;X-TITLE=136 Mac Davis Road:geo:-88.285412,33.4892822
END:VEVENT
BEGIN:VEVENT
DTSTART;TZID=America/Chicago:20250429T193000
DTEND;TZID=America/Chicago:20250429T203000
DTSTAMP:20260425T102421
CREATED:20250108T233255Z
LAST-MODIFIED:20250108T233255Z
UID:10000659-1745955000-1745958600@www.visitcolumbusms.org
SUMMARY:The Jazz Ensemble Spring Concert
DESCRIPTION:
URL:https://www.visitcolumbusms.org/event/the-jazz-ensemble-spring-concert/
LOCATION:Poindexter Hall\, 1100 College St. Columbus\, Columbus\, MS\, 39701\, United States
CATEGORIES:Arts & Culture,Music
GEO:33.491089;-88.4183492
X-APPLE-STRUCTURED-LOCATION;VALUE=URI;X-ADDRESS=Poindexter Hall 1100 College St. Columbus Columbus MS 39701 United States;X-APPLE-RADIUS=500;X-TITLE=1100 College St. Columbus:geo:-88.4183492,33.491089
END:VEVENT
BEGIN:VEVENT
DTSTART;TZID=America/Chicago:20250428T193000
DTEND;TZID=America/Chicago:20250428T203000
DTSTAMP:20260425T102421
CREATED:20250108T233127Z
LAST-MODIFIED:20250108T233127Z
UID:10000660-1745868600-1745872200@www.visitcolumbusms.org
SUMMARY:The W Wind Ensemble Spring Concert
DESCRIPTION:
URL:https://www.visitcolumbusms.org/event/the-w-wind-ensemble-spring-concert/
LOCATION:Poindexter Hall\, 1100 College St. Columbus\, Columbus\, MS\, 39701\, United States
CATEGORIES:Arts & Culture,Music
GEO:33.491089;-88.4183492
X-APPLE-STRUCTURED-LOCATION;VALUE=URI;X-ADDRESS=Poindexter Hall 1100 College St. Columbus Columbus MS 39701 United States;X-APPLE-RADIUS=500;X-TITLE=1100 College St. Columbus:geo:-88.4183492,33.491089
END:VEVENT
BEGIN:VEVENT
DTSTART;TZID=America/Chicago:20250425T193000
DTEND;TZID=America/Chicago:20250426T203000
DTSTAMP:20260425T102421
CREATED:20250108T232925Z
LAST-MODIFIED:20250108T232925Z
UID:10000661-1745609400-1745699400@www.visitcolumbusms.org
SUMMARY:Opera Scenes
DESCRIPTION:
URL:https://www.visitcolumbusms.org/event/opera-scenes/
LOCATION:Poindexter Hall\, 1100 College St. Columbus\, Columbus\, MS\, 39701\, United States
CATEGORIES:Arts & Culture,Music
GEO:33.491089;-88.4183492
X-APPLE-STRUCTURED-LOCATION;VALUE=URI;X-ADDRESS=Poindexter Hall 1100 College St. Columbus Columbus MS 39701 United States;X-APPLE-RADIUS=500;X-TITLE=1100 College St. Columbus:geo:-88.4183492,33.491089
END:VEVENT
BEGIN:VEVENT
DTSTART;TZID=America/Chicago:20250424T190000
DTEND;TZID=America/Chicago:20250424T210000
DTSTAMP:20260425T102421
CREATED:20241106T030549Z
LAST-MODIFIED:20241106T030549Z
UID:10000435-1745521200-1745528400@www.visitcolumbusms.org
SUMMARY:The Barn Concert Series
DESCRIPTION:
URL:https://www.visitcolumbusms.org/event/the-barn-concert-series/
LOCATION:The Barn\, 136 Mac Davis Road\, Columbus\, MS\, 39702\, United States
CATEGORIES:Arts & Culture,Community Event,Music
GEO:33.4892822;-88.285412
X-APPLE-STRUCTURED-LOCATION;VALUE=URI;X-ADDRESS=The Barn 136 Mac Davis Road Columbus MS 39702 United States;X-APPLE-RADIUS=500;X-TITLE=136 Mac Davis Road:geo:-88.285412,33.4892822
END:VEVENT
BEGIN:VEVENT
DTSTART;TZID=America/Chicago:20250415T203000
DTEND;TZID=America/Chicago:20250415T213000
DTSTAMP:20260425T102421
CREATED:20250108T232810Z
LAST-MODIFIED:20250108T232810Z
UID:10000663-1744749000-1744752600@www.visitcolumbusms.org
SUMMARY:W Music Student Showcase
DESCRIPTION:
URL:https://www.visitcolumbusms.org/event/w-music-student-showcase-2/
LOCATION:Poindexter Hall\, 1100 College St. Columbus\, Columbus\, MS\, 39701\, United States
CATEGORIES:Arts & Culture,Music
GEO:33.491089;-88.4183492
X-APPLE-STRUCTURED-LOCATION;VALUE=URI;X-ADDRESS=Poindexter Hall 1100 College St. Columbus Columbus MS 39701 United States;X-APPLE-RADIUS=500;X-TITLE=1100 College St. Columbus:geo:-88.4183492,33.491089
END:VEVENT
BEGIN:VEVENT
DTSTART;TZID=America/Chicago:20250411T193000
DTEND;TZID=America/Chicago:20250411T203000
DTSTAMP:20260425T102421
CREATED:20250108T232650Z
LAST-MODIFIED:20250108T232650Z
UID:10000664-1744399800-1744403400@www.visitcolumbusms.org
SUMMARY:Piano Students' Recital
DESCRIPTION:
URL:https://www.visitcolumbusms.org/event/piano-students-recital/
LOCATION:Poindexter Hall\, 1100 College St. Columbus\, Columbus\, MS\, 39701\, United States
CATEGORIES:Arts & Culture,Music
GEO:33.491089;-88.4183492
X-APPLE-STRUCTURED-LOCATION;VALUE=URI;X-ADDRESS=Poindexter Hall 1100 College St. Columbus Columbus MS 39701 United States;X-APPLE-RADIUS=500;X-TITLE=1100 College St. Columbus:geo:-88.4183492,33.491089
END:VEVENT
BEGIN:VEVENT
DTSTART;VALUE=DATE:20250411
DTEND;VALUE=DATE:20250413
DTSTAMP:20260425T102421
CREATED:20250109T201335Z
LAST-MODIFIED:20250410T163658Z
UID:10000658-1744329600-1744502399@www.visitcolumbusms.org
SUMMARY:Catfish in the Alley
DESCRIPTION:Location: Catfish Alley \n114 4th St S\, Columbus\, MS 39701 \nCatfish in the Alley Vendor Application \nCatfish in the Alley Artisan Application \nDiscover the best that Columbus has to offer at Catfish in the Alley on April 11-12\, 2025. Sample savory Mississippi farm-raised catfish\, as well as other Southern fare\, while enjoying the soulful sounds of blues music. This annual event features concerts\, artisans\, food vendors and fun for the whole family. Held each spring in Columbus\, Catfish in the Alley is a tribute to the African American citizens of Columbus who contributed to the town’s rich political\, historical\, cultural and musical heritage. But don’t take our word for it – come see for yourself! Catch You In Columbus for Catfish in the Alley! \n \nFriday\, April 11\n“Blues with a Side of Soul” Event\nNear Stage – 117 3rd St S\, Columbus\, MS 39701\n12 pm – 2 pm\nLive Music and Plate Lunches $15.00\nFeaturing: Keith Johnson and the Big Muddy Band \nBuy Plate Lunch Tickets \nSaturday\, April 12\n114 4th St S\, Columbus\, MS 39701\n10 am – 3 pm\nArtisan Alley\nBrowse and shop numerous artisan booths lined up in Catfish Alley while hearing live music in the background. Enjoy great food from over a great assortment of local vendors. \nLive Music Lineup\n\n\n\nKeith and Margie Brown\n10:00 am – 10:45 am\n\n\nThe Columbus Community Gospel Choir\n11:00 am – 11:45 am\n\n\nAnissa “Bigg Sexyy” Hamilton\n12:00 pm – 1:15 pm\n\n\nDK Harrell\n1:30 pm – 3:00 pm\n\n\n\n \nVisit the world-famous “Catfish Alley\,” where legendary bluesmen\, such as Howlin’ Wolf\, Bukka White and Big Joe Williams\, got their start. Here nationally recognized artists\, such as B.B. King\, Duke Ellington\, Little Richard\, Louis Armstrong and James Brown\, performed alongside Mississippi’s blues guitarists. \nWhere to Stay\nMake plans to stay for the weekend. There are a number of lodging options for out-of-town guests. From the charming bed-and-breakfast where visitors can spend the night in a 19th-century Italianate mansion\, to the well-appointed hotel room where guests can kick up their feet and relax\, Columbus has more than 1\,500 rooms to suit every budget and taste. For the sportsmen\, those seeking to fully immerse themselves in the beauty of Columbus’ great outdoors or those wanting more privacy\, there are also an abundance of RV parks and campsites. \nWhat to Eat\nWhen you have had your fill of catfish and are ready for something different\, try Huck’s Place. Here\, visitors can get anything from New Orleans-inspired zydeco flatbread and boudin-stuffed shrimp topped with a spicy homemade crawfish sauce\, to bayou shrimp tacos and open-faced\, fully-dressed roast beef po-boys. For more than a decade\, Huck’s Place’s large Cajun-Creole menu has kept guests coming back for more. \nWhile there is no shortage of tried-and-true restaurants to experience on your trip to Columbus\, one of the most popular eateries is Harvey’s. Specializing in everything from wood-fired steaks and ribs\, seafood\, pasta and classic favorites\, like burgers and sandwiches\, Harvey’s has a menu sure to satisfy even the pickiest eater.
URL:https://www.visitcolumbusms.org/event/catfish-in-the-alley-6/
LOCATION:Catfish Alley\, 4th Street South\, Columbus\, MS\, 39701\, United States
CATEGORIES:Arts & Culture,Community Event,Family Fun,Music
ORGANIZER;CN="Visit Columbus":MAILTO:visitcolumbus@visitcolumbusms.org
GEO:33.4870745;-88.4283629
X-APPLE-STRUCTURED-LOCATION;VALUE=URI;X-ADDRESS=Catfish Alley 4th Street South Columbus MS 39701 United States;X-APPLE-RADIUS=500;X-TITLE=4th Street South:geo:-88.4283629,33.4870745
END:VEVENT
BEGIN:VEVENT
DTSTART;TZID=America/Chicago:20250408T193000
DTEND;TZID=America/Chicago:20250408T203000
DTSTAMP:20260425T102422
CREATED:20250108T232542Z
LAST-MODIFIED:20250108T232542Z
UID:10000662-1744140600-1744144200@www.visitcolumbusms.org
SUMMARY:MUW Chamber Singers Spring Concert
DESCRIPTION:
URL:https://www.visitcolumbusms.org/event/muw-chamber-singers-spring-concert/
LOCATION:Poindexter Hall\, 1100 College St. Columbus\, Columbus\, MS\, 39701\, United States
CATEGORIES:Arts & Culture,Music
GEO:33.491089;-88.4183492
X-APPLE-STRUCTURED-LOCATION;VALUE=URI;X-ADDRESS=Poindexter Hall 1100 College St. Columbus Columbus MS 39701 United States;X-APPLE-RADIUS=500;X-TITLE=1100 College St. Columbus:geo:-88.4183492,33.491089
END:VEVENT
BEGIN:VEVENT
DTSTART;TZID=America/Chicago:20250329T140000
DTEND;TZID=America/Chicago:20250329T150000
DTSTAMP:20260425T102422
CREATED:20250108T232426Z
LAST-MODIFIED:20250108T232426Z
UID:10000655-1743256800-1743260400@www.visitcolumbusms.org
SUMMARY:NACUSA Concert: New Music Concert
DESCRIPTION:
URL:https://www.visitcolumbusms.org/event/nacusa-concert-new-music-concert/
LOCATION:Poindexter Hall\, 1100 College St. Columbus\, Columbus\, MS\, 39701\, United States
CATEGORIES:Arts & Culture,Music
GEO:33.491089;-88.4183492
X-APPLE-STRUCTURED-LOCATION;VALUE=URI;X-ADDRESS=Poindexter Hall 1100 College St. Columbus Columbus MS 39701 United States;X-APPLE-RADIUS=500;X-TITLE=1100 College St. Columbus:geo:-88.4183492,33.491089
END:VEVENT
BEGIN:VEVENT
DTSTART;TZID=America/Chicago:20250325T193000
DTEND;TZID=America/Chicago:20250325T203000
DTSTAMP:20260425T102422
CREATED:20250108T232313Z
LAST-MODIFIED:20250108T232313Z
UID:10000470-1742931000-1742934600@www.visitcolumbusms.org
SUMMARY:Spring Recital
DESCRIPTION:
URL:https://www.visitcolumbusms.org/event/spring-recital/
LOCATION:Poindexter Hall\, 1100 College St. Columbus\, Columbus\, MS\, 39701\, United States
CATEGORIES:Arts & Culture,Music
GEO:33.491089;-88.4183492
X-APPLE-STRUCTURED-LOCATION;VALUE=URI;X-ADDRESS=Poindexter Hall 1100 College St. Columbus Columbus MS 39701 United States;X-APPLE-RADIUS=500;X-TITLE=1100 College St. Columbus:geo:-88.4183492,33.491089
END:VEVENT
BEGIN:VEVENT
DTSTART;TZID=America/Chicago:20250318T193000
DTEND;TZID=America/Chicago:20250318T203000
DTSTAMP:20260425T102422
CREATED:20250108T232204Z
LAST-MODIFIED:20250108T232214Z
UID:10000468-1742326200-1742329800@www.visitcolumbusms.org
SUMMARY:Faculty Trombone Recital: Douglas Mark
DESCRIPTION:
URL:https://www.visitcolumbusms.org/event/faculty-trombone-recital-douglas-mark/
LOCATION:Poindexter Hall\, 1100 College St. Columbus\, Columbus\, MS\, 39701\, United States
CATEGORIES:Arts & Culture,Music
GEO:33.491089;-88.4183492
X-APPLE-STRUCTURED-LOCATION;VALUE=URI;X-ADDRESS=Poindexter Hall 1100 College St. Columbus Columbus MS 39701 United States;X-APPLE-RADIUS=500;X-TITLE=1100 College St. Columbus:geo:-88.4183492,33.491089
END:VEVENT
BEGIN:VEVENT
DTSTART;TZID=America/Chicago:20250306T080000
DTEND;TZID=America/Chicago:20250308T170000
DTSTAMP:20260425T102422
CREATED:20250108T232046Z
LAST-MODIFIED:20250108T232046Z
UID:10000466-1741248000-1741453200@www.visitcolumbusms.org
SUMMARY:Music by Women Festival Concerts
DESCRIPTION:Held every March on the Mississippi University for Women campus\, this annual international festival features concerts written by women composers\, both historically and in the present day. Concerts daily at 10AM\, 12PM\, 3PM\, 5 PM\, and 8PM.
URL:https://www.visitcolumbusms.org/event/music-by-women-festival-concerts/
LOCATION:Poindexter Hall\, 1100 College St. Columbus\, Columbus\, MS\, 39701\, United States
CATEGORIES:Arts & Culture,Community Event,Music
GEO:33.491089;-88.4183492
X-APPLE-STRUCTURED-LOCATION;VALUE=URI;X-ADDRESS=Poindexter Hall 1100 College St. Columbus Columbus MS 39701 United States;X-APPLE-RADIUS=500;X-TITLE=1100 College St. Columbus:geo:-88.4183492,33.491089
END:VEVENT
BEGIN:VEVENT
DTSTART;TZID=America/Chicago:20250301T170000
DTEND;TZID=America/Chicago:20250301T200000
DTSTAMP:20260425T102422
CREATED:20241106T031953Z
LAST-MODIFIED:20241106T031953Z
UID:10000443-1740848400-1740859200@www.visitcolumbusms.org
SUMMARY:The Paul Thorn Band
DESCRIPTION:
URL:https://www.visitcolumbusms.org/event/the-paul-thorn-band/
LOCATION:The Barn\, 136 Mac Davis Road\, Columbus\, MS\, 39702\, United States
CATEGORIES:Arts & Culture,Community Event,Music
GEO:33.4892822;-88.285412
X-APPLE-STRUCTURED-LOCATION;VALUE=URI;X-ADDRESS=The Barn 136 Mac Davis Road Columbus MS 39702 United States;X-APPLE-RADIUS=500;X-TITLE=136 Mac Davis Road:geo:-88.285412,33.4892822
END:VEVENT
BEGIN:VEVENT
DTSTART;TZID=America/Chicago:20250225T193000
DTEND;TZID=America/Chicago:20250225T203000
DTSTAMP:20260425T102422
CREATED:20250108T231555Z
LAST-MODIFIED:20250108T231555Z
UID:10000464-1740511800-1740515400@www.visitcolumbusms.org
SUMMARY:New Music at The W Concert
DESCRIPTION:
URL:https://www.visitcolumbusms.org/event/new-music-at-the-w-concert/
LOCATION:Poindexter Hall\, 1100 College St. Columbus\, Columbus\, MS\, 39701\, United States
CATEGORIES:Arts & Culture,Music
GEO:33.491089;-88.4183492
X-APPLE-STRUCTURED-LOCATION;VALUE=URI;X-ADDRESS=Poindexter Hall 1100 College St. Columbus Columbus MS 39701 United States;X-APPLE-RADIUS=500;X-TITLE=1100 College St. Columbus:geo:-88.4183492,33.491089
END:VEVENT
BEGIN:VEVENT
DTSTART;TZID=America/Chicago:20250218T193000
DTEND;TZID=America/Chicago:20250218T203000
DTSTAMP:20260425T102422
CREATED:20250108T231455Z
LAST-MODIFIED:20250108T231455Z
UID:10000462-1739907000-1739910600@www.visitcolumbusms.org
SUMMARY:Black History Month Celebration Concert
DESCRIPTION:
URL:https://www.visitcolumbusms.org/event/black-history-month-celebration-concert/
LOCATION:Poindexter Hall\, 1100 College St. Columbus\, Columbus\, MS\, 39701\, United States
CATEGORIES:Arts & Culture,Music
GEO:33.491089;-88.4183492
X-APPLE-STRUCTURED-LOCATION;VALUE=URI;X-ADDRESS=Poindexter Hall 1100 College St. Columbus Columbus MS 39701 United States;X-APPLE-RADIUS=500;X-TITLE=1100 College St. Columbus:geo:-88.4183492,33.491089
END:VEVENT
BEGIN:VEVENT
DTSTART;TZID=America/Chicago:20250211T193000
DTEND;TZID=America/Chicago:20250211T203000
DTSTAMP:20260425T102422
CREATED:20250108T231343Z
LAST-MODIFIED:20250108T231343Z
UID:10000460-1739302200-1739305800@www.visitcolumbusms.org
SUMMARY:Faculty Voice Recital: Zane Lynn
DESCRIPTION:
URL:https://www.visitcolumbusms.org/event/faculty-voice-recital-zane-lynn/
LOCATION:Poindexter Hall\, 1100 College St. Columbus\, Columbus\, MS\, 39701\, United States
CATEGORIES:Arts & Culture,Music
GEO:33.491089;-88.4183492
X-APPLE-STRUCTURED-LOCATION;VALUE=URI;X-ADDRESS=Poindexter Hall 1100 College St. Columbus Columbus MS 39701 United States;X-APPLE-RADIUS=500;X-TITLE=1100 College St. Columbus:geo:-88.4183492,33.491089
END:VEVENT
BEGIN:VEVENT
DTSTART;TZID=America/Chicago:20250121T193000
DTEND;TZID=America/Chicago:20250121T203000
DTSTAMP:20260425T102422
CREATED:20250108T231232Z
LAST-MODIFIED:20250108T231232Z
UID:10000458-1737487800-1737491400@www.visitcolumbusms.org
SUMMARY:Faculty Piano Recital: Dr. Julia Mortyakova 
DESCRIPTION:
URL:https://www.visitcolumbusms.org/event/faculty-piano-recital-dr-julia-mortyakova/
LOCATION:Poindexter Hall\, 1100 College St. Columbus\, Columbus\, MS\, 39701\, United States
CATEGORIES:Arts & Culture,Music
GEO:33.491089;-88.4183492
X-APPLE-STRUCTURED-LOCATION;VALUE=URI;X-ADDRESS=Poindexter Hall 1100 College St. Columbus Columbus MS 39701 United States;X-APPLE-RADIUS=500;X-TITLE=1100 College St. Columbus:geo:-88.4183492,33.491089
END:VEVENT
BEGIN:VEVENT
DTSTART;TZID=America/Chicago:20250117T190000
DTEND;TZID=America/Chicago:20250117T200000
DTSTAMP:20260425T102422
CREATED:20250103T214832Z
LAST-MODIFIED:20250103T214832Z
UID:10000455-1737140400-1737144000@www.visitcolumbusms.org
SUMMARY:Roots-Rock Swagger
DESCRIPTION:
URL:https://www.visitcolumbusms.org/event/roots-rock-swagger/
LOCATION:columbus arts council\, 501 Main Street\, Columbus\, MS\, 39701\, United States
CATEGORIES:Arts & Culture,Community Event,Music
GEO:33.4954789;-88.4280045
X-APPLE-STRUCTURED-LOCATION;VALUE=URI;X-ADDRESS=columbus arts council 501 Main Street Columbus MS 39701 United States;X-APPLE-RADIUS=500;X-TITLE=501 Main Street:geo:-88.4280045,33.4954789
END:VEVENT
BEGIN:VEVENT
DTSTART;TZID=America/Chicago:20241212T173000
DTEND;TZID=America/Chicago:20241212T183000
DTSTAMP:20260425T102422
CREATED:20241210T193439Z
LAST-MODIFIED:20241210T193609Z
UID:10000450-1734024600-1734028200@www.visitcolumbusms.org
SUMMARY:Suzuki Strings Orchestra of Columbus
DESCRIPTION:Suzuki Strings Orchestra of Columbus presents A Christmas Concert on Thursday December 12th at 5:30 at the Columbus Arts Council\, 501 Main Street. Complimentary concert.
URL:https://www.visitcolumbusms.org/event/suzuki-strings-orchestra-of-columbus/
LOCATION:columbus arts council\, 501 Main Street\, Columbus\, MS\, 39701\, United States
CATEGORIES:Arts & Culture,Christmas,Community Event,Music
GEO:33.4954789;-88.4280045
X-APPLE-STRUCTURED-LOCATION;VALUE=URI;X-ADDRESS=columbus arts council 501 Main Street Columbus MS 39701 United States;X-APPLE-RADIUS=500;X-TITLE=501 Main Street:geo:-88.4280045,33.4954789
END:VEVENT
BEGIN:VEVENT
DTSTART;TZID=America/Chicago:20241210T190000
DTEND;TZID=America/Chicago:20241210T203000
DTSTAMP:20260425T102422
CREATED:20241031T112214Z
LAST-MODIFIED:20241031T112214Z
UID:10000618-1733857200-1733862600@www.visitcolumbusms.org
SUMMARY:Columbus Sings Handel's Messiah
DESCRIPTION:The Columbus community will begin its Christmas season with one performance of Handel’s Messiah on Tuesday\, December 10\, 2024\, at 7:00 p.m. at Annunciation Catholic Church.  For many years now\, these performances have been a part of Columbus’ cultural offerings and have been offered free to the public. Tickets can be obtain from Annunciation Catholic Church\, Columbus-Lowndes Convention and Visitors Bureau\, Tennessee Williams Visitors Center and First Methodist Church of Columbus starting November 11\, 2024.
URL:https://www.visitcolumbusms.org/event/columbus-sings-handels-messiah/
LOCATION:Annunciation Catholic Church\, 823 College Street\, Columbus\, MS\, 39701\, United States
CATEGORIES:Arts & Culture,Christmas,Community Event,Music
GEO:33.4948958;-88.4232716
X-APPLE-STRUCTURED-LOCATION;VALUE=URI;X-ADDRESS=Annunciation Catholic Church 823 College Street Columbus MS 39701 United States;X-APPLE-RADIUS=500;X-TITLE=823 College Street:geo:-88.4232716,33.4948958
END:VEVENT
BEGIN:VEVENT
DTSTART;TZID=America/Chicago:20241209T190000
DTEND;TZID=America/Chicago:20241209T203000
DTSTAMP:20260425T102422
CREATED:20241106T035741Z
LAST-MODIFIED:20241106T035741Z
UID:10000646-1733770800-1733776200@www.visitcolumbusms.org
SUMMARY:Jobi Riccio in Concert
DESCRIPTION:
URL:https://www.visitcolumbusms.org/event/jobi-riccio-in-concert/
LOCATION:columbus arts council\, 501 Main Street\, Columbus\, MS\, 39701\, United States
CATEGORIES:Arts & Culture,Music
GEO:33.4954789;-88.4280045
X-APPLE-STRUCTURED-LOCATION;VALUE=URI;X-ADDRESS=columbus arts council 501 Main Street Columbus MS 39701 United States;X-APPLE-RADIUS=500;X-TITLE=501 Main Street:geo:-88.4280045,33.4954789
END:VEVENT
END:VCALENDAR