BEGIN:VCALENDAR
VERSION:2.0
PRODID:-//Columbus MS - ECPv6.10.1.1//NONSGML v1.0//EN
CALSCALE:GREGORIAN
METHOD:PUBLISH
X-WR-CALNAME:Columbus MS
X-ORIGINAL-URL:https://www.visitcolumbusms.org
X-WR-CALDESC:Events for Columbus MS
REFRESH-INTERVAL;VALUE=DURATION:PT1H
X-Robots-Tag:noindex
X-PUBLISHED-TTL:PT1H
BEGIN:VTIMEZONE
TZID:America/Chicago
BEGIN:DAYLIGHT
TZOFFSETFROM:-0600
TZOFFSETTO:-0500
TZNAME:CDT
DTSTART:20220313T080000
END:DAYLIGHT
BEGIN:STANDARD
TZOFFSETFROM:-0500
TZOFFSETTO:-0600
TZNAME:CST
DTSTART:20221106T070000
END:STANDARD
BEGIN:DAYLIGHT
TZOFFSETFROM:-0600
TZOFFSETTO:-0500
TZNAME:CDT
DTSTART:20230312T080000
END:DAYLIGHT
BEGIN:STANDARD
TZOFFSETFROM:-0500
TZOFFSETTO:-0600
TZNAME:CST
DTSTART:20231105T070000
END:STANDARD
BEGIN:DAYLIGHT
TZOFFSETFROM:-0600
TZOFFSETTO:-0500
TZNAME:CDT
DTSTART:20240310T080000
END:DAYLIGHT
BEGIN:STANDARD
TZOFFSETFROM:-0500
TZOFFSETTO:-0600
TZNAME:CST
DTSTART:20241103T070000
END:STANDARD
END:VTIMEZONE
BEGIN:VEVENT
DTSTART;TZID=America/Chicago:20241018T080000
DTEND;TZID=America/Chicago:20241019T170000
DTSTAMP:20260425T145242
CREATED:20240919T022428Z
LAST-MODIFIED:20240919T022428Z
UID:10000400-1729238400-1729357200@www.visitcolumbusms.org
SUMMARY:Caledonia Days
DESCRIPTION:
URL:https://www.visitcolumbusms.org/event/caledonia-days-2/
LOCATION:Ola J. Pickett Park\, 9500 Wolfe Road\, Calendonia\, MS\, 39740\, United States
CATEGORIES:Community Event,Family Fun,Music
GEO:33.6743237;-88.3267593
X-APPLE-STRUCTURED-LOCATION;VALUE=URI;X-ADDRESS=Ola J. Pickett Park 9500 Wolfe Road Calendonia MS 39740 United States;X-APPLE-RADIUS=500;X-TITLE=9500 Wolfe Road:geo:-88.3267593,33.6743237
END:VEVENT
BEGIN:VEVENT
DTSTART;TZID=America/Chicago:20241017T080000
DTEND;TZID=America/Chicago:20241018T170000
DTSTAMP:20260425T145242
CREATED:20240918T220419Z
LAST-MODIFIED:20240924T114542Z
UID:10000398-1729152000-1729270800@www.visitcolumbusms.org
SUMMARY:Camp 'N Jam Bluegrass Festival
DESCRIPTION:Enjoy a Camp ‘N Jam Bluegrass Festival at Lake Lowndes State Park on October 17-18. From more information call 662-328-2110.
URL:https://www.visitcolumbusms.org/event/camp-n-jam-bluegrass-festival/
LOCATION:Lake Lowndes State Park\, 3319 Lake Lowndes Road\, Columbus\, MS\, 39702\, United States
CATEGORIES:Community Event,Family Fun,Music
GEO:33.4397715;-88.3075899
X-APPLE-STRUCTURED-LOCATION;VALUE=URI;X-ADDRESS=Lake Lowndes State Park 3319 Lake Lowndes Road Columbus MS 39702 United States;X-APPLE-RADIUS=500;X-TITLE=3319 Lake Lowndes Road:geo:-88.3075899,33.4397715
END:VEVENT
BEGIN:VEVENT
DTSTART;TZID=America/Chicago:20241006T140000
DTEND;TZID=America/Chicago:20241006T170000
DTSTAMP:20260425T145242
CREATED:20240918T030918Z
LAST-MODIFIED:20240918T030918Z
UID:10000602-1728223200-1728234000@www.visitcolumbusms.org
SUMMARY:Bridging the Gap & Concert
DESCRIPTION:
URL:https://www.visitcolumbusms.org/event/bridging-the-gap-concert/
LOCATION:Columbus\, MS\, 39701\, United States
CATEGORIES:Community Event,Family Fun,Music
GEO:33.4521847;-88.5371958
END:VEVENT
BEGIN:VEVENT
DTSTART;TZID=America/Chicago:20241005T110000
DTEND;TZID=America/Chicago:20241006T180000
DTSTAMP:20260425T145242
CREATED:20240806T220329Z
LAST-MODIFIED:20240918T030109Z
UID:10000597-1728126000-1728237600@www.visitcolumbusms.org
SUMMARY:Octoberfest 2024
DESCRIPTION:
URL:https://www.visitcolumbusms.org/event/octoberfest-2024/
LOCATION:Munson and Brothers\, 301 2nd Avenue North\, Columbus\, MS\, 39701\, United States
CATEGORIES:Community Event,Food,Music
GEO:33.4961922;-88.4307651
X-APPLE-STRUCTURED-LOCATION;VALUE=URI;X-ADDRESS=Munson and Brothers 301 2nd Avenue North Columbus MS 39701 United States;X-APPLE-RADIUS=500;X-TITLE=301 2nd Avenue North:geo:-88.4307651,33.4961922
END:VEVENT
BEGIN:VEVENT
DTSTART;TZID=America/Chicago:20241002T080000
DTEND;TZID=America/Chicago:20241005T170000
DTSTAMP:20260425T145242
CREATED:20240806T213557Z
LAST-MODIFIED:20240918T025837Z
UID:10000596-1727856000-1728147600@www.visitcolumbusms.org
SUMMARY:Seventh Avenue Heritage Festival
DESCRIPTION:
URL:https://www.visitcolumbusms.org/event/seventh-avenue-heritage-festival-2/
LOCATION:Seventh Avenue North\, Corner of 7th Avenue North and 15th Street North\, Columbus\, MS\, 39701\, United States
CATEGORIES:Community Event,Music
GEO:33.5029534;-88.4171438
X-APPLE-STRUCTURED-LOCATION;VALUE=URI;X-ADDRESS=Seventh Avenue North Corner of 7th Avenue North and 15th Street North Columbus MS 39701 United States;X-APPLE-RADIUS=500;X-TITLE=Corner of 7th Avenue North and 15th Street North:geo:-88.4171438,33.5029534
END:VEVENT
BEGIN:VEVENT
DTSTART;TZID=America/Chicago:20240711T183000
DTEND;TZID=America/Chicago:20240711T203000
DTSTAMP:20260425T145242
CREATED:20240701T142824Z
LAST-MODIFIED:20240701T142824Z
UID:10000578-1720722600-1720729800@www.visitcolumbusms.org
SUMMARY:Sounds of Summer
DESCRIPTION:
URL:https://www.visitcolumbusms.org/event/sounds-of-summer-2/
LOCATION:Roger Short Soccer Complex\, 301 3rd Street North\, Columbus\, MS\, 39701\, United States
CATEGORIES:Community Event,Family Fun,Music
GEO:33.4923914;-88.4298902
X-APPLE-STRUCTURED-LOCATION;VALUE=URI;X-ADDRESS=Roger Short Soccer Complex 301 3rd Street North Columbus MS 39701 United States;X-APPLE-RADIUS=500;X-TITLE=301 3rd Street North:geo:-88.4298902,33.4923914
END:VEVENT
BEGIN:VEVENT
DTSTART;TZID=America/Chicago:20240711T170000
DTEND;TZID=America/Chicago:20240713T170000
DTSTAMP:20260425T145242
CREATED:20240701T142614Z
LAST-MODIFIED:20240701T142614Z
UID:10000393-1720717200-1720890000@www.visitcolumbusms.org
SUMMARY:Crawford Days
DESCRIPTION:Festival celebrating the Crawford community with live entertainment\, food vendors and children’s activities.
URL:https://www.visitcolumbusms.org/event/crawford-days/
LOCATION:Crawford\, MS\, Crawford\, MS\, 39743\, United States
CATEGORIES:Community Event,Family Fun,Food,Music
GEO:33.301512;-88.6147687
END:VEVENT
BEGIN:VEVENT
DTSTART;TZID=America/Chicago:20240705T170000
DTEND;TZID=America/Chicago:20240706T220000
DTSTAMP:20260425T145242
CREATED:20240701T135307Z
LAST-MODIFIED:20240701T135307Z
UID:10000293-1720198800-1720303200@www.visitcolumbusms.org
SUMMARY:Southside Blues Festival
DESCRIPTION:
URL:https://www.visitcolumbusms.org/event/southside-blues-festival-2/
LOCATION:Sim Scott Park\, 909 20th Street North\, Columbus\, MS\, 39701\, United States
CATEGORIES:Community Event,Family Fun,Food,Music
GEO:33.5056607;-88.4114929
X-APPLE-STRUCTURED-LOCATION;VALUE=URI;X-ADDRESS=Sim Scott Park 909 20th Street North Columbus MS 39701 United States;X-APPLE-RADIUS=500;X-TITLE=909 20th Street North:geo:-88.4114929,33.5056607
END:VEVENT
BEGIN:VEVENT
DTSTART;TZID=America/Chicago:20240426T193000
DTEND;TZID=America/Chicago:20240426T203000
DTSTAMP:20260425T145242
CREATED:20240411T231046Z
LAST-MODIFIED:20240411T231046Z
UID:10000575-1714159800-1714163400@www.visitcolumbusms.org
SUMMARY:Junior Piano Recital
DESCRIPTION:Junior Johnathan Lollar presents a piano recital.
URL:https://www.visitcolumbusms.org/event/junior-piano-recital/
LOCATION:Columbus\, MS\, 39701\, United States
CATEGORIES:Arts & Culture,Music
GEO:33.4521847;-88.5371958
END:VEVENT
BEGIN:VEVENT
DTSTART;TZID=America/Chicago:20240423T193000
DTEND;TZID=America/Chicago:20240423T203000
DTSTAMP:20260425T145242
CREATED:20240411T230904Z
LAST-MODIFIED:20240411T230904Z
UID:10000574-1713900600-1713904200@www.visitcolumbusms.org
SUMMARY:W Music Student Showcase
DESCRIPTION:
URL:https://www.visitcolumbusms.org/event/w-music-student-showcase/
LOCATION:The W\, 1100 College Street\, Columbus\, MS\, 39701\, United States
CATEGORIES:Arts & Culture,Music
GEO:33.4947336;-88.4188373
X-APPLE-STRUCTURED-LOCATION;VALUE=URI;X-ADDRESS=The W 1100 College Street Columbus MS 39701 United States;X-APPLE-RADIUS=500;X-TITLE=1100 College Street:geo:-88.4188373,33.4947336
END:VEVENT
BEGIN:VEVENT
DTSTART;TZID=America/Chicago:20240419T193000
DTEND;TZID=America/Chicago:20240420T193000
DTSTAMP:20260425T145242
CREATED:20240411T230342Z
LAST-MODIFIED:20240411T230342Z
UID:10000573-1713555000-1713641400@www.visitcolumbusms.org
SUMMARY:Opera Workshop Scenes
DESCRIPTION:
URL:https://www.visitcolumbusms.org/event/opera-workshop-scenes/
LOCATION:The W\, 1100 College Street\, Columbus\, MS\, 39701\, United States
CATEGORIES:Arts & Culture,Music
GEO:33.4947336;-88.4188373
X-APPLE-STRUCTURED-LOCATION;VALUE=URI;X-ADDRESS=The W 1100 College Street Columbus MS 39701 United States;X-APPLE-RADIUS=500;X-TITLE=1100 College Street:geo:-88.4188373,33.4947336
END:VEVENT
BEGIN:VEVENT
DTSTART;TZID=America/Chicago:20240419T140000
DTEND;TZID=America/Chicago:20240419T150000
DTSTAMP:20260425T145242
CREATED:20240411T230233Z
LAST-MODIFIED:20240411T230233Z
UID:10000571-1713535200-1713538800@www.visitcolumbusms.org
SUMMARY:Music in the Library
DESCRIPTION:
URL:https://www.visitcolumbusms.org/event/music-in-the-library/
LOCATION:Fant Memorial Library\, 1200 5th Avenue South\, Columbus\, MS\, 39701\, United States
CATEGORIES:Arts & Culture,Music
GEO:33.4911954;-88.4184086
X-APPLE-STRUCTURED-LOCATION;VALUE=URI;X-ADDRESS=Fant Memorial Library 1200 5th Avenue South Columbus MS 39701 United States;X-APPLE-RADIUS=500;X-TITLE=1200 5th Avenue South:geo:-88.4184086,33.4911954
END:VEVENT
BEGIN:VEVENT
DTSTART;TZID=America/Chicago:20240415T193000
DTEND;TZID=America/Chicago:20240415T210000
DTSTAMP:20260425T145242
CREATED:20240411T230014Z
LAST-MODIFIED:20240411T230014Z
UID:10000568-1713209400-1713214800@www.visitcolumbusms.org
SUMMARY:The W Wind Ensemble
DESCRIPTION:
URL:https://www.visitcolumbusms.org/event/the-w-wind-ensemble/
LOCATION:Shattuck Hall\, 1100 College Street\, Columbus\, 39701
CATEGORIES:Arts & Culture,Music
GEO:33.4898194;-88.4217581
X-APPLE-STRUCTURED-LOCATION;VALUE=URI;X-ADDRESS=Shattuck Hall 1100 College Street Columbus 39701;X-APPLE-RADIUS=500;X-TITLE=1100 College Street:geo:-88.4217581,33.4898194
END:VEVENT
BEGIN:VEVENT
DTSTART;TZID=America/Chicago:20230713T180000
DTEND;TZID=America/Chicago:20230713T200000
DTSTAMP:20260425T145242
CREATED:20230118T222225Z
LAST-MODIFIED:20230120T165144Z
UID:10000548-1689271200-1689278400@www.visitcolumbusms.org
SUMMARY:Sounds of Summer
DESCRIPTION:For more information\, contact Columbus Main Street at 662.328.6305.
URL:https://www.visitcolumbusms.org/event/sounds-of-summer/2023-07-13/
LOCATION:Columbus\, MS\, 39701\, United States
CATEGORIES:Music
GEO:33.4956744;-88.4272627
END:VEVENT
BEGIN:VEVENT
DTSTART;VALUE=DATE:20230701
DTEND;VALUE=DATE:20230702
DTSTAMP:20260425T145242
CREATED:20230120T172654Z
LAST-MODIFIED:20230120T172654Z
UID:10000285-1688169600-1688255999@www.visitcolumbusms.org
SUMMARY:Fireworks on the Water
DESCRIPTION:
URL:https://www.visitcolumbusms.org/event/fireworks-on-the-water-2/
LOCATION:Columbus\, MS\, 39701\, United States
CATEGORIES:Arts & Culture,Family Fun,Food,History,Music
ATTACH;FMTTYPE=image/jpeg:https://s3.amazonaws.com/media.visitcolumbusms.org/20220427080812/iStock-1254324768-1.jpg
GEO:33.4956744;-88.4272627
END:VEVENT
BEGIN:VEVENT
DTSTART;VALUE=DATE:20230630
DTEND;VALUE=DATE:20230702
DTSTAMP:20260425T145242
CREATED:20230120T172612Z
LAST-MODIFIED:20230120T172612Z
UID:10000282-1688083200-1688255999@www.visitcolumbusms.org
SUMMARY:Southside Blues Festival
DESCRIPTION:
URL:https://www.visitcolumbusms.org/event/southside-blues-festival/
LOCATION:Columbus\, MS\, 39701\, United States
CATEGORIES:Music
GEO:33.4956744;-88.4272627
END:VEVENT
BEGIN:VEVENT
DTSTART;TZID=America/Chicago:20230629T180000
DTEND;TZID=America/Chicago:20230629T200000
DTSTAMP:20260425T145242
CREATED:20230118T222225Z
LAST-MODIFIED:20230120T165144Z
UID:10000547-1688061600-1688068800@www.visitcolumbusms.org
SUMMARY:Sounds of Summer
DESCRIPTION:For more information\, contact Columbus Main Street at 662.328.6305.
URL:https://www.visitcolumbusms.org/event/sounds-of-summer/2023-06-29/
LOCATION:Columbus\, MS\, 39701\, United States
CATEGORIES:Music
GEO:33.4956744;-88.4272627
END:VEVENT
BEGIN:VEVENT
DTSTART;TZID=America/Chicago:20230615T180000
DTEND;TZID=America/Chicago:20230615T200000
DTSTAMP:20260425T145242
CREATED:20230118T222225Z
LAST-MODIFIED:20230120T165144Z
UID:10000546-1686852000-1686859200@www.visitcolumbusms.org
SUMMARY:Sounds of Summer
DESCRIPTION:For more information\, contact Columbus Main Street at 662.328.6305.
URL:https://www.visitcolumbusms.org/event/sounds-of-summer/2023-06-15/
LOCATION:Columbus\, MS\, 39701\, United States
CATEGORIES:Music
GEO:33.4956744;-88.4272627
END:VEVENT
BEGIN:VEVENT
DTSTART;TZID=America/Chicago:20230601T180000
DTEND;TZID=America/Chicago:20230601T200000
DTSTAMP:20260425T145242
CREATED:20230118T222225Z
LAST-MODIFIED:20230120T165144Z
UID:10000545-1685642400-1685649600@www.visitcolumbusms.org
SUMMARY:Sounds of Summer
DESCRIPTION:For more information\, contact Columbus Main Street at 662.328.6305.
URL:https://www.visitcolumbusms.org/event/sounds-of-summer/2023-06-01/
LOCATION:Columbus\, MS\, 39701\, United States
CATEGORIES:Music
GEO:33.4956744;-88.4272627
END:VEVENT
BEGIN:VEVENT
DTSTART;VALUE=DATE:20230519
DTEND;VALUE=DATE:20230522
DTSTAMP:20260425T145242
CREATED:20230512T151411Z
LAST-MODIFIED:20230512T151411Z
UID:10000564-1684454400-1684713599@www.visitcolumbusms.org
SUMMARY:Golden Triangle Theatre presents The Sound of Music
DESCRIPTION:Enjoy a live performance of The Sound of Music\, presented byGolden Triangle Theatre. \nThere will be performances Friday\, May 19\, Saturday\, May 20\, and Sunday\, May 21. \nFor more info and to purchase tickets\, click here.
URL:https://www.visitcolumbusms.org/event/golden-triangle-theatre-presents-the-sound-of-music/
LOCATION:Columbus\, MS\, 39701\, United States
CATEGORIES:Arts & Culture,Family Fun,History,Literary,Music
GEO:33.4956744;-88.4272627
END:VEVENT
BEGIN:VEVENT
DTSTART;TZID=America/Chicago:20230506T070000
DTEND;TZID=America/Chicago:20230506T170000
DTSTAMP:20260425T145242
CREATED:20230118T212021Z
LAST-MODIFIED:20230120T164823Z
UID:10000492-1683356400-1683392400@www.visitcolumbusms.org
SUMMARY:Market Street Festival
DESCRIPTION:For more information\, contact Columbus Main Street at 662.328.6305.
URL:https://www.visitcolumbusms.org/event/market-street-festival-2/2023-05-06/
LOCATION:Columbus\, MS\, 39701\, United States
CATEGORIES:Arts & Culture,Family Fun,Food,Music
GEO:33.4956744;-88.4272627
END:VEVENT
BEGIN:VEVENT
DTSTART;TZID=America/Chicago:20230505T190000
DTEND;TZID=America/Chicago:20230505T220000
DTSTAMP:20260425T145242
CREATED:20230118T212021Z
LAST-MODIFIED:20230120T164823Z
UID:10000491-1683313200-1683324000@www.visitcolumbusms.org
SUMMARY:Market Street Festival
DESCRIPTION:For more information\, contact Columbus Main Street at 662.328.6305.
URL:https://www.visitcolumbusms.org/event/market-street-festival-2/2023-05-05/
LOCATION:Columbus\, MS\, 39701\, United States
CATEGORIES:Arts & Culture,Family Fun,Food,Music
GEO:33.4956744;-88.4272627
END:VEVENT
BEGIN:VEVENT
DTSTART;TZID=America/Chicago:20230426T113000
DTEND;TZID=America/Chicago:20230426T130000
DTSTAMP:20260425T145242
CREATED:20230118T215129Z
LAST-MODIFIED:20230120T164725Z
UID:10000544-1682508600-1682514000@www.visitcolumbusms.org
SUMMARY:Noon Tunes
DESCRIPTION:Located at the Trotter Courtyard. \nFor more information\, contact Columbus Main Street at 662.328.6305.
URL:https://www.visitcolumbusms.org/event/noon-tunes/2023-04-26/
LOCATION:Trotter Convention Center\, 402 2nd Ave. N\, Columbus\, MS\, 39701\, United States
CATEGORIES:Music
GEO:33.4958535;-88.4291808
X-APPLE-STRUCTURED-LOCATION;VALUE=URI;X-ADDRESS=Trotter Convention Center 402 2nd Ave. N Columbus MS 39701 United States;X-APPLE-RADIUS=500;X-TITLE=402 2nd Ave. N:geo:-88.4291808,33.4958535
END:VEVENT
BEGIN:VEVENT
DTSTART;VALUE=DATE:20230421
DTEND;VALUE=DATE:20230423
DTSTAMP:20260425T145242
CREATED:20230118T211602Z
LAST-MODIFIED:20230316T174416Z
UID:10000264-1682035200-1682207999@www.visitcolumbusms.org
SUMMARY:Catfish in the Alley
DESCRIPTION:Friday\, April 21: Barbeque and Blues\, Lawn of the Tennessee Williams Welcome Center\, 12:00 – 2:00. Watermelon Slim and the Truckers performing. Barbeque available for purchase. \nSaturday\, April 22: Catfish in the Alley and Artisans Alley\, Catfish Alley\, 4th Street South\, 10:00 am – 3:00 pm. Terry Harmonica Bean\, Eden Brent\, and Jamell Richardson will perform.
URL:https://www.visitcolumbusms.org/event/catfish-in-the-alley-5/
LOCATION:Columbus\, MS\, 39701\, United States
CATEGORIES:Arts & Culture,Food,History,Music
GEO:33.4956744;-88.4272627
END:VEVENT
BEGIN:VEVENT
DTSTART;TZID=America/Chicago:20230419T113000
DTEND;TZID=America/Chicago:20230419T130000
DTSTAMP:20260425T145242
CREATED:20230118T215129Z
LAST-MODIFIED:20230120T164725Z
UID:10000543-1681903800-1681909200@www.visitcolumbusms.org
SUMMARY:Noon Tunes
DESCRIPTION:Located at the Trotter Courtyard. \nFor more information\, contact Columbus Main Street at 662.328.6305.
URL:https://www.visitcolumbusms.org/event/noon-tunes/2023-04-19/
LOCATION:Trotter Convention Center\, 402 2nd Ave. N\, Columbus\, MS\, 39701\, United States
CATEGORIES:Music
GEO:33.4958535;-88.4291808
X-APPLE-STRUCTURED-LOCATION;VALUE=URI;X-ADDRESS=Trotter Convention Center 402 2nd Ave. N Columbus MS 39701 United States;X-APPLE-RADIUS=500;X-TITLE=402 2nd Ave. N:geo:-88.4291808,33.4958535
END:VEVENT
BEGIN:VEVENT
DTSTART;VALUE=DATE:20230302
DTEND;VALUE=DATE:20230305
DTSTAMP:20260425T145242
CREATED:20230118T204337Z
LAST-MODIFIED:20230118T204353Z
UID:10000493-1677715200-1677974399@www.visitcolumbusms.org
SUMMARY:Music by Women Festival at The W
DESCRIPTION:
URL:https://www.visitcolumbusms.org/event/music-by-women-festival-at-the-w/
LOCATION:The W\, 1100 College Street\, Columbus\, MS\, 39701\, United States
CATEGORIES:Arts & Culture,Music
GEO:33.4947336;-88.4188373
X-APPLE-STRUCTURED-LOCATION;VALUE=URI;X-ADDRESS=The W 1100 College Street Columbus MS 39701 United States;X-APPLE-RADIUS=500;X-TITLE=1100 College Street:geo:-88.4188373,33.4947336
END:VEVENT
BEGIN:VEVENT
DTSTART;VALUE=DATE:20221015
DTEND;VALUE=DATE:20221016
DTSTAMP:20260425T145242
CREATED:20190930T222245Z
LAST-MODIFIED:20220427T142930Z
UID:10000294-1665792000-1665878399@www.visitcolumbusms.org
SUMMARY:Caledonia Day
DESCRIPTION:The Caledonia Days Festival started out as the 100th birthday for the Town of Caledonia in 2003. The Festival is held each year on the third weekend of October at Ola J. Pickett Park located in the heart of the Town. There is something for the whole family to enjoy including over 200 vendors. There is a wide variety of vendors ranging from handmade crafts\, local artists\, children’s area\, and not to forget all the great food served by local businesses and churches. There are lots of other activities to enjoy such as an antique car and tractor show\, a pet parade\, 5k Race\, and plenty of live music. The Caledonia Days Festival is a tradition for the community and surrounding towns that just continues to grow and get more and more support each year. \nFor more information\, click here.
URL:https://www.visitcolumbusms.org/event/caledonia-day/
LOCATION:Ola J. Pickett Park\, 9500 Wolfe Road\, Calendonia\, MS\, 39740\, United States
CATEGORIES:Arts & Culture,Family Fun,Food,Music,Shopping
GEO:33.6743237;-88.3267593
X-APPLE-STRUCTURED-LOCATION;VALUE=URI;X-ADDRESS=Ola J. Pickett Park 9500 Wolfe Road Calendonia MS 39740 United States;X-APPLE-RADIUS=500;X-TITLE=9500 Wolfe Road:geo:-88.3267593,33.6743237
END:VEVENT
BEGIN:VEVENT
DTSTART;TZID=America/Chicago:20221007T190000
DTEND;TZID=America/Chicago:20221007T220000
DTSTAMP:20260425T145242
CREATED:20221007T211732Z
LAST-MODIFIED:20221007T211732Z
UID:10000516-1665169200-1665180000@www.visitcolumbusms.org
SUMMARY:Mississippi Mason Concert
DESCRIPTION:Enjoy a live concert by Mississippi Mason\, with opening act Ethan Oswalt\, December 2\, from 7 to 10 p.m. \nMississippi Mason draws influence from a wide range of old and new country\, Southern rock and gospel. \nFor more information and to purchase tickets\, click here.
URL:https://www.visitcolumbusms.org/event/mississippi-mason-concert/
LOCATION:202\, 202 7th St North\, Columbus\, MS\, 39701\, United States
CATEGORIES:Music
GEO:33.4971326;-88.4256211
X-APPLE-STRUCTURED-LOCATION;VALUE=URI;X-ADDRESS=202 202 7th St North Columbus MS 39701 United States;X-APPLE-RADIUS=500;X-TITLE=202 7th St North:geo:-88.4256211,33.4971326
END:VEVENT
BEGIN:VEVENT
DTSTART;VALUE=DATE:20220715
DTEND;VALUE=DATE:20220716
DTSTAMP:20260425T145242
CREATED:20220427T175442Z
LAST-MODIFIED:20220427T175442Z
UID:10000523-1657843200-1657929599@www.visitcolumbusms.org
SUMMARY:Southside Townsend Blues Festival
DESCRIPTION:Enjoy live entertainment featuring gospel and blues musical acts and dance groups at Townsend Park\, located at 826 15th Street South.
URL:https://www.visitcolumbusms.org/event/southside-townsend-blues-festival/2022-07-15/
LOCATION:Columbus\, MS\, 39701\, United States
CATEGORIES:Music
GEO:33.4956744;-88.4272627
END:VEVENT
BEGIN:VEVENT
DTSTART;VALUE=DATE:20220701
DTEND;VALUE=DATE:20220702
DTSTAMP:20260425T145242
CREATED:20220427T175442Z
LAST-MODIFIED:20220427T175442Z
UID:10000522-1656633600-1656719999@www.visitcolumbusms.org
SUMMARY:Southside Townsend Blues Festival
DESCRIPTION:Enjoy live entertainment featuring gospel and blues musical acts and dance groups at Townsend Park\, located at 826 15th Street South.
URL:https://www.visitcolumbusms.org/event/southside-townsend-blues-festival/2022-07-01/
LOCATION:Columbus\, MS\, 39701\, United States
CATEGORIES:Music
GEO:33.4956744;-88.4272627
END:VEVENT
END:VCALENDAR