BEGIN:VCALENDAR
VERSION:2.0
PRODID:-//Columbus MS - ECPv6.10.1.1//NONSGML v1.0//EN
CALSCALE:GREGORIAN
METHOD:PUBLISH
X-ORIGINAL-URL:https://www.visitcolumbusms.org
X-WR-CALDESC:Events for Columbus MS
REFRESH-INTERVAL;VALUE=DURATION:PT1H
X-Robots-Tag:noindex
X-PUBLISHED-TTL:PT1H
BEGIN:VTIMEZONE
TZID:America/Chicago
BEGIN:DAYLIGHT
TZOFFSETFROM:-0600
TZOFFSETTO:-0500
TZNAME:CDT
DTSTART:20260308T080000
END:DAYLIGHT
BEGIN:STANDARD
TZOFFSETFROM:-0500
TZOFFSETTO:-0600
TZNAME:CST
DTSTART:20261101T070000
END:STANDARD
END:VTIMEZONE
BEGIN:VEVENT
DTSTART;TZID=America/Chicago:20260613T100000
DTEND;TZID=America/Chicago:20260613T160000
DTSTAMP:20260422T050311
CREATED:20260421T210359Z
LAST-MODIFIED:20260421T210413Z
UID:10000979-1781344800-1781366400@www.visitcolumbusms.org
SUMMARY:Summer Sidewalk Sale
DESCRIPTION:
URL:https://www.visitcolumbusms.org/event/summer-sidewalk-sale/
LOCATION:Downtown Columbus\, 107 5th St S\, Columbus\, MS\, 39701\, United States
CATEGORIES:Community Event,Shopping
GEO:33.4947766;-88.4278745
X-APPLE-STRUCTURED-LOCATION;VALUE=URI;X-ADDRESS=Downtown Columbus 107 5th St S Columbus MS 39701 United States;X-APPLE-RADIUS=500;X-TITLE=107 5th St S:geo:-88.4278745,33.4947766
END:VEVENT
BEGIN:VEVENT
DTSTART;TZID=America/Chicago:20260622T080000
DTEND;TZID=America/Chicago:20260622T110000
DTSTAMP:20260422T050312
CREATED:20260416T154311Z
LAST-MODIFIED:20260416T154432Z
UID:10000947-1782115200-1782126000@www.visitcolumbusms.org
SUMMARY:Columbus Arts Council Summer Art Camp
DESCRIPTION:
URL:https://www.visitcolumbusms.org/event/columbus-arts-council-summer-art-camp/2026-06-22/
LOCATION:columbus arts council\, 501 Main Street\, Columbus\, MS\, 39701\, United States
CATEGORIES:Arts & Culture,Community Event,Family Fun
GEO:33.4954789;-88.4280045
X-APPLE-STRUCTURED-LOCATION;VALUE=URI;X-ADDRESS=columbus arts council 501 Main Street Columbus MS 39701 United States;X-APPLE-RADIUS=500;X-TITLE=501 Main Street:geo:-88.4280045,33.4954789
END:VEVENT
BEGIN:VEVENT
DTSTART;TZID=America/Chicago:20260623T080000
DTEND;TZID=America/Chicago:20260623T110000
DTSTAMP:20260422T050312
CREATED:20260416T154311Z
LAST-MODIFIED:20260416T154432Z
UID:10000948-1782201600-1782212400@www.visitcolumbusms.org
SUMMARY:Columbus Arts Council Summer Art Camp
DESCRIPTION:
URL:https://www.visitcolumbusms.org/event/columbus-arts-council-summer-art-camp/2026-06-23/
LOCATION:columbus arts council\, 501 Main Street\, Columbus\, MS\, 39701\, United States
CATEGORIES:Arts & Culture,Community Event,Family Fun
GEO:33.4954789;-88.4280045
X-APPLE-STRUCTURED-LOCATION;VALUE=URI;X-ADDRESS=columbus arts council 501 Main Street Columbus MS 39701 United States;X-APPLE-RADIUS=500;X-TITLE=501 Main Street:geo:-88.4280045,33.4954789
END:VEVENT
BEGIN:VEVENT
DTSTART;TZID=America/Chicago:20260624T080000
DTEND;TZID=America/Chicago:20260624T110000
DTSTAMP:20260422T050312
CREATED:20260416T154311Z
LAST-MODIFIED:20260416T154432Z
UID:10000949-1782288000-1782298800@www.visitcolumbusms.org
SUMMARY:Columbus Arts Council Summer Art Camp
DESCRIPTION:
URL:https://www.visitcolumbusms.org/event/columbus-arts-council-summer-art-camp/2026-06-24/
LOCATION:columbus arts council\, 501 Main Street\, Columbus\, MS\, 39701\, United States
CATEGORIES:Arts & Culture,Community Event,Family Fun
GEO:33.4954789;-88.4280045
X-APPLE-STRUCTURED-LOCATION;VALUE=URI;X-ADDRESS=columbus arts council 501 Main Street Columbus MS 39701 United States;X-APPLE-RADIUS=500;X-TITLE=501 Main Street:geo:-88.4280045,33.4954789
END:VEVENT
BEGIN:VEVENT
DTSTART;TZID=America/Chicago:20260625T080000
DTEND;TZID=America/Chicago:20260625T110000
DTSTAMP:20260422T050312
CREATED:20260416T154311Z
LAST-MODIFIED:20260416T154432Z
UID:10000950-1782374400-1782385200@www.visitcolumbusms.org
SUMMARY:Columbus Arts Council Summer Art Camp
DESCRIPTION:
URL:https://www.visitcolumbusms.org/event/columbus-arts-council-summer-art-camp/2026-06-25/
LOCATION:columbus arts council\, 501 Main Street\, Columbus\, MS\, 39701\, United States
CATEGORIES:Arts & Culture,Community Event,Family Fun
GEO:33.4954789;-88.4280045
X-APPLE-STRUCTURED-LOCATION;VALUE=URI;X-ADDRESS=columbus arts council 501 Main Street Columbus MS 39701 United States;X-APPLE-RADIUS=500;X-TITLE=501 Main Street:geo:-88.4280045,33.4954789
END:VEVENT
BEGIN:VEVENT
DTSTART;TZID=America/Chicago:20260625T183000
DTEND;TZID=America/Chicago:20260625T203000
DTSTAMP:20260422T050312
CREATED:20260421T201912Z
LAST-MODIFIED:20260421T201927Z
UID:10000975-1782412200-1782419400@www.visitcolumbusms.org
SUMMARY:Sounds of Summer
DESCRIPTION:
URL:https://www.visitcolumbusms.org/event/sounds-of-summer-4/
LOCATION:Columbus Soccer Complex\, 301 N 3rd St\, Columbus\, MS\, 39701\, United States
CATEGORIES:Community Event,Family Fun,Music
GEO:33.4972048;-88.4324119
X-APPLE-STRUCTURED-LOCATION;VALUE=URI;X-ADDRESS=Columbus Soccer Complex 301 N 3rd St Columbus MS 39701 United States;X-APPLE-RADIUS=500;X-TITLE=301 N 3rd St:geo:-88.4324119,33.4972048
END:VEVENT
BEGIN:VEVENT
DTSTART;TZID=America/Chicago:20260626T080000
DTEND;TZID=America/Chicago:20260626T110000
DTSTAMP:20260422T050312
CREATED:20260416T154311Z
LAST-MODIFIED:20260416T154432Z
UID:10000951-1782460800-1782471600@www.visitcolumbusms.org
SUMMARY:Columbus Arts Council Summer Art Camp
DESCRIPTION:
URL:https://www.visitcolumbusms.org/event/columbus-arts-council-summer-art-camp/2026-06-26/
LOCATION:columbus arts council\, 501 Main Street\, Columbus\, MS\, 39701\, United States
CATEGORIES:Arts & Culture,Community Event,Family Fun
GEO:33.4954789;-88.4280045
X-APPLE-STRUCTURED-LOCATION;VALUE=URI;X-ADDRESS=columbus arts council 501 Main Street Columbus MS 39701 United States;X-APPLE-RADIUS=500;X-TITLE=501 Main Street:geo:-88.4280045,33.4954789
END:VEVENT
BEGIN:VEVENT
DTSTART;TZID=America/Chicago:20260704T000000
DTEND;TZID=America/Chicago:20260704T000000
DTSTAMP:20260422T050312
CREATED:20260421T161426Z
LAST-MODIFIED:20260421T161452Z
UID:10000969-1783123200-1783123200@www.visitcolumbusms.org
SUMMARY:FreedomFest: America 250 Celebration
DESCRIPTION:
URL:https://www.visitcolumbusms.org/event/freedomfest-america-250-celebration/
LOCATION:Columbus Air Force Base\, 108 Simler Boulevard\, Columbus AFB\, MS\, 39710\, United States
CATEGORIES:Community Event,Family Fun
GEO:33.6256887;-88.4398289
X-APPLE-STRUCTURED-LOCATION;VALUE=URI;X-ADDRESS=Columbus Air Force Base 108 Simler Boulevard Columbus AFB MS 39710 United States;X-APPLE-RADIUS=500;X-TITLE=108 Simler Boulevard:geo:-88.4398289,33.6256887
END:VEVENT
BEGIN:VEVENT
DTSTART;TZID=America/Chicago:20260713T080000
DTEND;TZID=America/Chicago:20260713T110000
DTSTAMP:20260422T050312
CREATED:20260416T154311Z
LAST-MODIFIED:20260416T154432Z
UID:10000952-1783929600-1783940400@www.visitcolumbusms.org
SUMMARY:Columbus Arts Council Summer Art Camp
DESCRIPTION:
URL:https://www.visitcolumbusms.org/event/columbus-arts-council-summer-art-camp/2026-07-13/
LOCATION:columbus arts council\, 501 Main Street\, Columbus\, MS\, 39701\, United States
CATEGORIES:Arts & Culture,Community Event,Family Fun
GEO:33.4954789;-88.4280045
X-APPLE-STRUCTURED-LOCATION;VALUE=URI;X-ADDRESS=columbus arts council 501 Main Street Columbus MS 39701 United States;X-APPLE-RADIUS=500;X-TITLE=501 Main Street:geo:-88.4280045,33.4954789
END:VEVENT
BEGIN:VEVENT
DTSTART;TZID=America/Chicago:20260714T080000
DTEND;TZID=America/Chicago:20260714T110000
DTSTAMP:20260422T050312
CREATED:20260416T154311Z
LAST-MODIFIED:20260416T154432Z
UID:10000953-1784016000-1784026800@www.visitcolumbusms.org
SUMMARY:Columbus Arts Council Summer Art Camp
DESCRIPTION:
URL:https://www.visitcolumbusms.org/event/columbus-arts-council-summer-art-camp/2026-07-14/
LOCATION:columbus arts council\, 501 Main Street\, Columbus\, MS\, 39701\, United States
CATEGORIES:Arts & Culture,Community Event,Family Fun
GEO:33.4954789;-88.4280045
X-APPLE-STRUCTURED-LOCATION;VALUE=URI;X-ADDRESS=columbus arts council 501 Main Street Columbus MS 39701 United States;X-APPLE-RADIUS=500;X-TITLE=501 Main Street:geo:-88.4280045,33.4954789
END:VEVENT
BEGIN:VEVENT
DTSTART;TZID=America/Chicago:20260715T080000
DTEND;TZID=America/Chicago:20260715T110000
DTSTAMP:20260422T050312
CREATED:20260416T154311Z
LAST-MODIFIED:20260416T154432Z
UID:10000954-1784102400-1784113200@www.visitcolumbusms.org
SUMMARY:Columbus Arts Council Summer Art Camp
DESCRIPTION:
URL:https://www.visitcolumbusms.org/event/columbus-arts-council-summer-art-camp/2026-07-15/
LOCATION:columbus arts council\, 501 Main Street\, Columbus\, MS\, 39701\, United States
CATEGORIES:Arts & Culture,Community Event,Family Fun
GEO:33.4954789;-88.4280045
X-APPLE-STRUCTURED-LOCATION;VALUE=URI;X-ADDRESS=columbus arts council 501 Main Street Columbus MS 39701 United States;X-APPLE-RADIUS=500;X-TITLE=501 Main Street:geo:-88.4280045,33.4954789
END:VEVENT
BEGIN:VEVENT
DTSTART;TZID=America/Chicago:20260716T080000
DTEND;TZID=America/Chicago:20260716T110000
DTSTAMP:20260422T050312
CREATED:20260416T154311Z
LAST-MODIFIED:20260416T154432Z
UID:10000955-1784188800-1784199600@www.visitcolumbusms.org
SUMMARY:Columbus Arts Council Summer Art Camp
DESCRIPTION:
URL:https://www.visitcolumbusms.org/event/columbus-arts-council-summer-art-camp/2026-07-16/
LOCATION:columbus arts council\, 501 Main Street\, Columbus\, MS\, 39701\, United States
CATEGORIES:Arts & Culture,Community Event,Family Fun
GEO:33.4954789;-88.4280045
X-APPLE-STRUCTURED-LOCATION;VALUE=URI;X-ADDRESS=columbus arts council 501 Main Street Columbus MS 39701 United States;X-APPLE-RADIUS=500;X-TITLE=501 Main Street:geo:-88.4280045,33.4954789
END:VEVENT
BEGIN:VEVENT
DTSTART;TZID=America/Chicago:20260717T080000
DTEND;TZID=America/Chicago:20260717T110000
DTSTAMP:20260422T050312
CREATED:20260416T154311Z
LAST-MODIFIED:20260416T154432Z
UID:10000956-1784275200-1784286000@www.visitcolumbusms.org
SUMMARY:Columbus Arts Council Summer Art Camp
DESCRIPTION:
URL:https://www.visitcolumbusms.org/event/columbus-arts-council-summer-art-camp/2026-07-17/
LOCATION:columbus arts council\, 501 Main Street\, Columbus\, MS\, 39701\, United States
CATEGORIES:Arts & Culture,Community Event,Family Fun
GEO:33.4954789;-88.4280045
X-APPLE-STRUCTURED-LOCATION;VALUE=URI;X-ADDRESS=columbus arts council 501 Main Street Columbus MS 39701 United States;X-APPLE-RADIUS=500;X-TITLE=501 Main Street:geo:-88.4280045,33.4954789
END:VEVENT
BEGIN:VEVENT
DTSTART;TZID=America/Chicago:20260717T170000
DTEND;TZID=America/Chicago:20260717T200000
DTSTAMP:20260422T050312
CREATED:20260421T210541Z
LAST-MODIFIED:20260421T210725Z
UID:10000980-1784307600-1784318400@www.visitcolumbusms.org
SUMMARY:Let's Flamingle Downtown
DESCRIPTION:
URL:https://www.visitcolumbusms.org/event/lets-flamingle-downtown-2/
LOCATION:Downtown Columbus\, 107 5th St S\, Columbus\, MS\, 39701\, United States
CATEGORIES:Shopping
GEO:33.4947766;-88.4278745
X-APPLE-STRUCTURED-LOCATION;VALUE=URI;X-ADDRESS=Downtown Columbus 107 5th St S Columbus MS 39701 United States;X-APPLE-RADIUS=500;X-TITLE=107 5th St S:geo:-88.4278745,33.4947766
END:VEVENT
BEGIN:VEVENT
DTSTART;TZID=America/Chicago:20260917T190000
DTEND;TZID=America/Chicago:20260917T190000
DTSTAMP:20260422T050312
CREATED:20260330T210917Z
LAST-MODIFIED:20260330T210940Z
UID:10000920-1789671600-1789671600@www.visitcolumbusms.org
SUMMARY:2026 Barn Concert Series
DESCRIPTION:
URL:https://www.visitcolumbusms.org/event/2026-barn-concert-series-5/
LOCATION:136 Mac Davis Road
CATEGORIES:Music
END:VEVENT
BEGIN:VEVENT
DTSTART;TZID=America/Chicago:20261008T073000
DTEND;TZID=America/Chicago:20261008T163000
DTSTAMP:20260422T050312
CREATED:20260416T160229Z
LAST-MODIFIED:20260416T160257Z
UID:10000963-1791444600-1791477000@www.visitcolumbusms.org
SUMMARY:BuildHER Construction Camp
DESCRIPTION:
URL:https://www.visitcolumbusms.org/event/buildher-construction-camp/2026-10-08/
LOCATION:EMCC Golden Triangle Campus
CATEGORIES:Community Event
END:VEVENT
BEGIN:VEVENT
DTSTART;TZID=America/Chicago:20261008T190000
DTEND;TZID=America/Chicago:20261008T190000
DTSTAMP:20260422T050312
CREATED:20260330T211046Z
LAST-MODIFIED:20260330T211214Z
UID:10000921-1791486000-1791486000@www.visitcolumbusms.org
SUMMARY:2026 Barn Concert Series
DESCRIPTION:
URL:https://www.visitcolumbusms.org/event/2026-barn-concert-series-6/
LOCATION:136 Mac Davis Road
CATEGORIES:Music
END:VEVENT
BEGIN:VEVENT
DTSTART;TZID=America/Chicago:20261022T190000
DTEND;TZID=America/Chicago:20261022T190000
DTSTAMP:20260422T050312
CREATED:20260330T211346Z
LAST-MODIFIED:20260330T211534Z
UID:10000922-1792695600-1792695600@www.visitcolumbusms.org
SUMMARY:2026 Barn Concert Series
DESCRIPTION:
URL:https://www.visitcolumbusms.org/event/2026-barn-concert-series-7/
LOCATION:136 Mac Davis Road
CATEGORIES:Music
END:VEVENT
END:VCALENDAR