BEGIN:VCALENDAR
VERSION:2.0
PRODID:-//Columbus MS - ECPv6.10.1.1//NONSGML v1.0//EN
CALSCALE:GREGORIAN
METHOD:PUBLISH
X-ORIGINAL-URL:https://www.visitcolumbusms.org
X-WR-CALDESC:Events for Columbus MS
REFRESH-INTERVAL;VALUE=DURATION:PT1H
X-Robots-Tag:noindex
X-PUBLISHED-TTL:PT1H
BEGIN:VTIMEZONE
TZID:America/Chicago
BEGIN:DAYLIGHT
TZOFFSETFROM:-0600
TZOFFSETTO:-0500
TZNAME:CDT
DTSTART:20260308T080000
END:DAYLIGHT
BEGIN:STANDARD
TZOFFSETFROM:-0500
TZOFFSETTO:-0600
TZNAME:CST
DTSTART:20261101T070000
END:STANDARD
END:VTIMEZONE
BEGIN:VEVENT
DTSTART;TZID=America/Chicago:20260609T073000
DTEND;TZID=America/Chicago:20260609T163000
DTSTAMP:20260419T142934
CREATED:20260416T160229Z
LAST-MODIFIED:20260416T160257Z
UID:10000958-1780990200-1781022600@www.visitcolumbusms.org
SUMMARY:BuildHER Construction Camp
DESCRIPTION:
URL:https://www.visitcolumbusms.org/event/buildher-construction-camp/2026-06-09/
LOCATION:EMCC Golden Triangle Campus
CATEGORIES:Community Event
END:VEVENT
BEGIN:VEVENT
DTSTART;TZID=America/Chicago:20260610T073000
DTEND;TZID=America/Chicago:20260610T163000
DTSTAMP:20260419T142934
CREATED:20260416T160229Z
LAST-MODIFIED:20260416T160257Z
UID:10000959-1781076600-1781109000@www.visitcolumbusms.org
SUMMARY:BuildHER Construction Camp
DESCRIPTION:
URL:https://www.visitcolumbusms.org/event/buildher-construction-camp/2026-06-10/
LOCATION:EMCC Golden Triangle Campus
CATEGORIES:Community Event
END:VEVENT
BEGIN:VEVENT
DTSTART;TZID=America/Chicago:20260611T073000
DTEND;TZID=America/Chicago:20260611T163000
DTSTAMP:20260419T142934
CREATED:20260416T160229Z
LAST-MODIFIED:20260416T160257Z
UID:10000960-1781163000-1781195400@www.visitcolumbusms.org
SUMMARY:BuildHER Construction Camp
DESCRIPTION:
URL:https://www.visitcolumbusms.org/event/buildher-construction-camp/2026-06-11/
LOCATION:EMCC Golden Triangle Campus
CATEGORIES:Community Event
END:VEVENT
BEGIN:VEVENT
DTSTART;TZID=America/Chicago:20260612T073000
DTEND;TZID=America/Chicago:20260612T163000
DTSTAMP:20260419T142934
CREATED:20260416T160229Z
LAST-MODIFIED:20260416T160257Z
UID:10000961-1781249400-1781281800@www.visitcolumbusms.org
SUMMARY:BuildHER Construction Camp
DESCRIPTION:
URL:https://www.visitcolumbusms.org/event/buildher-construction-camp/2026-06-12/
LOCATION:EMCC Golden Triangle Campus
CATEGORIES:Community Event
END:VEVENT
BEGIN:VEVENT
DTSTART;TZID=America/Chicago:20261008T073000
DTEND;TZID=America/Chicago:20261008T163000
DTSTAMP:20260419T142934
CREATED:20260416T160229Z
LAST-MODIFIED:20260416T160257Z
UID:10000963-1791444600-1791477000@www.visitcolumbusms.org
SUMMARY:BuildHER Construction Camp
DESCRIPTION:
URL:https://www.visitcolumbusms.org/event/buildher-construction-camp/2026-10-08/
LOCATION:EMCC Golden Triangle Campus
CATEGORIES:Community Event
END:VEVENT
END:VCALENDAR