BEGIN:VCALENDAR
VERSION:2.0
PRODID:-//Columbus MS - ECPv6.10.1.1//NONSGML v1.0//EN
CALSCALE:GREGORIAN
METHOD:PUBLISH
X-ORIGINAL-URL:https://www.visitcolumbusms.org
X-WR-CALDESC:Events for Columbus MS
REFRESH-INTERVAL;VALUE=DURATION:PT1H
X-Robots-Tag:noindex
X-PUBLISHED-TTL:PT1H
BEGIN:VTIMEZONE
TZID:America/Chicago
BEGIN:DAYLIGHT
TZOFFSETFROM:-0600
TZOFFSETTO:-0500
TZNAME:CDT
DTSTART:20250309T080000
END:DAYLIGHT
BEGIN:STANDARD
TZOFFSETFROM:-0500
TZOFFSETTO:-0600
TZNAME:CST
DTSTART:20251102T070000
END:STANDARD
BEGIN:DAYLIGHT
TZOFFSETFROM:-0600
TZOFFSETTO:-0500
TZNAME:CDT
DTSTART:20260308T080000
END:DAYLIGHT
BEGIN:STANDARD
TZOFFSETFROM:-0500
TZOFFSETTO:-0600
TZNAME:CST
DTSTART:20261101T070000
END:STANDARD
END:VTIMEZONE
BEGIN:VEVENT
DTSTART;TZID=America/Chicago:20260129T073000
DTEND;TZID=America/Chicago:20260129T090000
DTSTAMP:20260421T055829
CREATED:20260117T220121Z
LAST-MODIFIED:20260117T220121Z
UID:10000831-1769671800-1769677200@www.visitcolumbusms.org
SUMMARY:Business Over Breakfast
DESCRIPTION:
URL:https://www.visitcolumbusms.org/event/business-over-breakfast-2/
LOCATION:Events of 5th\, 515 College Street\, Columbus\, MS\, 39701\, United States
CATEGORIES:Community Event
ORGANIZER;CN="Columbus Lowndes Chamber of Commerce":MAILTO:cmartin@clchamber.org
GEO:33.4943914;-88.4273523
X-APPLE-STRUCTURED-LOCATION;VALUE=URI;X-ADDRESS=Events of 5th 515 College Street Columbus MS 39701 United States;X-APPLE-RADIUS=500;X-TITLE=515 College Street:geo:-88.4273523,33.4943914
END:VEVENT
BEGIN:VEVENT
DTSTART;TZID=America/Chicago:20250815T073000
DTEND;TZID=America/Chicago:20250815T100000
DTSTAMP:20260421T055829
CREATED:20250722T141714Z
LAST-MODIFIED:20250722T141731Z
UID:10000720-1755243000-1755252000@www.visitcolumbusms.org
SUMMARY:Business Over Breakfast
DESCRIPTION:
URL:https://www.visitcolumbusms.org/event/business-over-breakfast/
LOCATION:Columbus Lowndes Chamber of Commerce\, 117 3rd Street South\, Columbus\, MS\, 39701\, United States
CATEGORIES:Community Event
ORGANIZER;CN="Columbus Lowndes Chamber of Commerce":MAILTO:cmartin@clchamber.org
GEO:33.4939979;-88.4303547
X-APPLE-STRUCTURED-LOCATION;VALUE=URI;X-ADDRESS=Columbus Lowndes Chamber of Commerce 117 3rd Street South Columbus MS 39701 United States;X-APPLE-RADIUS=500;X-TITLE=117 3rd Street South:geo:-88.4303547,33.4939979
END:VEVENT
END:VCALENDAR