BEGIN:VCALENDAR
VERSION:2.0
PRODID:-//Columbus MS - ECPv6.10.1.1//NONSGML v1.0//EN
CALSCALE:GREGORIAN
METHOD:PUBLISH
X-WR-CALNAME:Columbus MS
X-ORIGINAL-URL:https://www.visitcolumbusms.org
X-WR-CALDESC:Events for Columbus MS
REFRESH-INTERVAL;VALUE=DURATION:PT1H
X-Robots-Tag:noindex
X-PUBLISHED-TTL:PT1H
BEGIN:VTIMEZONE
TZID:America/Chicago
BEGIN:DAYLIGHT
TZOFFSETFROM:-0600
TZOFFSETTO:-0500
TZNAME:CDT
DTSTART:20230312T080000
END:DAYLIGHT
BEGIN:STANDARD
TZOFFSETFROM:-0500
TZOFFSETTO:-0600
TZNAME:CST
DTSTART:20231105T070000
END:STANDARD
BEGIN:DAYLIGHT
TZOFFSETFROM:-0600
TZOFFSETTO:-0500
TZNAME:CDT
DTSTART:20240310T080000
END:DAYLIGHT
BEGIN:STANDARD
TZOFFSETFROM:-0500
TZOFFSETTO:-0600
TZNAME:CST
DTSTART:20241103T070000
END:STANDARD
BEGIN:DAYLIGHT
TZOFFSETFROM:-0600
TZOFFSETTO:-0500
TZNAME:CDT
DTSTART:20250309T080000
END:DAYLIGHT
BEGIN:STANDARD
TZOFFSETFROM:-0500
TZOFFSETTO:-0600
TZNAME:CST
DTSTART:20251102T070000
END:STANDARD
END:VTIMEZONE
BEGIN:VEVENT
DTSTART;TZID=America/Chicago:20250708T070000
DTEND;TZID=America/Chicago:20250708T100000
DTSTAMP:20260424T073746
CREATED:20250612T114534Z
LAST-MODIFIED:20250612T114534Z
UID:10000680-1751958000-1751968800@www.visitcolumbusms.org
SUMMARY:Hitching Lot Farmers' Market
DESCRIPTION:
URL:https://www.visitcolumbusms.org/event/hitching-lot-farmers-market-6/2025-07-08/
LOCATION:Hitching Lot Farmers Market\, Corner of 2nd Street and Avenue North\, Columbus\, MS\, 39701\, United States
CATEGORIES:Community Event,Family Fun,Food
GEO:33.4956744;-88.4272627
X-APPLE-STRUCTURED-LOCATION;VALUE=URI;X-ADDRESS=Hitching Lot Farmers Market Corner of 2nd Street and Avenue North Columbus MS 39701 United States;X-APPLE-RADIUS=500;X-TITLE=Corner of 2nd Street and Avenue North:geo:-88.4272627,33.4956744
END:VEVENT
BEGIN:VEVENT
DTSTART;TZID=America/Chicago:20250705T070000
DTEND;TZID=America/Chicago:20250705T100000
DTSTAMP:20260424T073746
CREATED:20250612T114534Z
LAST-MODIFIED:20250612T114534Z
UID:10000679-1751698800-1751709600@www.visitcolumbusms.org
SUMMARY:Hitching Lot Farmers' Market
DESCRIPTION:
URL:https://www.visitcolumbusms.org/event/hitching-lot-farmers-market-6/2025-07-05/
LOCATION:Hitching Lot Farmers Market\, Corner of 2nd Street and Avenue North\, Columbus\, MS\, 39701\, United States
CATEGORIES:Community Event,Family Fun,Food
GEO:33.4956744;-88.4272627
X-APPLE-STRUCTURED-LOCATION;VALUE=URI;X-ADDRESS=Hitching Lot Farmers Market Corner of 2nd Street and Avenue North Columbus MS 39701 United States;X-APPLE-RADIUS=500;X-TITLE=Corner of 2nd Street and Avenue North:geo:-88.4272627,33.4956744
END:VEVENT
BEGIN:VEVENT
DTSTART;TZID=America/Chicago:20250701T070000
DTEND;TZID=America/Chicago:20250701T100000
DTSTAMP:20260424T073746
CREATED:20250612T114534Z
LAST-MODIFIED:20250612T114534Z
UID:10000678-1751353200-1751364000@www.visitcolumbusms.org
SUMMARY:Hitching Lot Farmers' Market
DESCRIPTION:
URL:https://www.visitcolumbusms.org/event/hitching-lot-farmers-market-6/2025-07-01/
LOCATION:Hitching Lot Farmers Market\, Corner of 2nd Street and Avenue North\, Columbus\, MS\, 39701\, United States
CATEGORIES:Community Event,Family Fun,Food
GEO:33.4956744;-88.4272627
X-APPLE-STRUCTURED-LOCATION;VALUE=URI;X-ADDRESS=Hitching Lot Farmers Market Corner of 2nd Street and Avenue North Columbus MS 39701 United States;X-APPLE-RADIUS=500;X-TITLE=Corner of 2nd Street and Avenue North:geo:-88.4272627,33.4956744
END:VEVENT
BEGIN:VEVENT
DTSTART;TZID=America/Chicago:20250628T070000
DTEND;TZID=America/Chicago:20250628T100000
DTSTAMP:20260424T073746
CREATED:20250612T114534Z
LAST-MODIFIED:20250612T114534Z
UID:10000677-1751094000-1751104800@www.visitcolumbusms.org
SUMMARY:Hitching Lot Farmers' Market
DESCRIPTION:
URL:https://www.visitcolumbusms.org/event/hitching-lot-farmers-market-6/2025-06-28/
LOCATION:Hitching Lot Farmers Market\, Corner of 2nd Street and Avenue North\, Columbus\, MS\, 39701\, United States
CATEGORIES:Community Event,Family Fun,Food
GEO:33.4956744;-88.4272627
X-APPLE-STRUCTURED-LOCATION;VALUE=URI;X-ADDRESS=Hitching Lot Farmers Market Corner of 2nd Street and Avenue North Columbus MS 39701 United States;X-APPLE-RADIUS=500;X-TITLE=Corner of 2nd Street and Avenue North:geo:-88.4272627,33.4956744
END:VEVENT
BEGIN:VEVENT
DTSTART;TZID=America/Chicago:20250624T070000
DTEND;TZID=America/Chicago:20250624T100000
DTSTAMP:20260424T073746
CREATED:20250612T114534Z
LAST-MODIFIED:20250612T114534Z
UID:10000676-1750748400-1750759200@www.visitcolumbusms.org
SUMMARY:Hitching Lot Farmers' Market
DESCRIPTION:
URL:https://www.visitcolumbusms.org/event/hitching-lot-farmers-market-6/2025-06-24/
LOCATION:Hitching Lot Farmers Market\, Corner of 2nd Street and Avenue North\, Columbus\, MS\, 39701\, United States
CATEGORIES:Community Event,Family Fun,Food
GEO:33.4956744;-88.4272627
X-APPLE-STRUCTURED-LOCATION;VALUE=URI;X-ADDRESS=Hitching Lot Farmers Market Corner of 2nd Street and Avenue North Columbus MS 39701 United States;X-APPLE-RADIUS=500;X-TITLE=Corner of 2nd Street and Avenue North:geo:-88.4272627,33.4956744
END:VEVENT
BEGIN:VEVENT
DTSTART;TZID=America/Chicago:20250621T070000
DTEND;TZID=America/Chicago:20250621T100000
DTSTAMP:20260424T073746
CREATED:20250612T114534Z
LAST-MODIFIED:20250612T114534Z
UID:10000675-1750489200-1750500000@www.visitcolumbusms.org
SUMMARY:Hitching Lot Farmers' Market
DESCRIPTION:
URL:https://www.visitcolumbusms.org/event/hitching-lot-farmers-market-6/2025-06-21/
LOCATION:Hitching Lot Farmers Market\, Corner of 2nd Street and Avenue North\, Columbus\, MS\, 39701\, United States
CATEGORIES:Community Event,Family Fun,Food
GEO:33.4956744;-88.4272627
X-APPLE-STRUCTURED-LOCATION;VALUE=URI;X-ADDRESS=Hitching Lot Farmers Market Corner of 2nd Street and Avenue North Columbus MS 39701 United States;X-APPLE-RADIUS=500;X-TITLE=Corner of 2nd Street and Avenue North:geo:-88.4272627,33.4956744
END:VEVENT
BEGIN:VEVENT
DTSTART;TZID=America/Chicago:20250617T070000
DTEND;TZID=America/Chicago:20250617T100000
DTSTAMP:20260424T073746
CREATED:20250612T114534Z
LAST-MODIFIED:20250612T114534Z
UID:10000674-1750143600-1750154400@www.visitcolumbusms.org
SUMMARY:Hitching Lot Farmers' Market
DESCRIPTION:
URL:https://www.visitcolumbusms.org/event/hitching-lot-farmers-market-6/2025-06-17/
LOCATION:Hitching Lot Farmers Market\, Corner of 2nd Street and Avenue North\, Columbus\, MS\, 39701\, United States
CATEGORIES:Community Event,Family Fun,Food
GEO:33.4956744;-88.4272627
X-APPLE-STRUCTURED-LOCATION;VALUE=URI;X-ADDRESS=Hitching Lot Farmers Market Corner of 2nd Street and Avenue North Columbus MS 39701 United States;X-APPLE-RADIUS=500;X-TITLE=Corner of 2nd Street and Avenue North:geo:-88.4272627,33.4956744
END:VEVENT
BEGIN:VEVENT
DTSTART;TZID=America/Chicago:20250614T070000
DTEND;TZID=America/Chicago:20250614T100000
DTSTAMP:20260424T073746
CREATED:20250612T114534Z
LAST-MODIFIED:20250612T114534Z
UID:10000673-1749884400-1749895200@www.visitcolumbusms.org
SUMMARY:Hitching Lot Farmers' Market
DESCRIPTION:
URL:https://www.visitcolumbusms.org/event/hitching-lot-farmers-market-6/2025-06-14/
LOCATION:Hitching Lot Farmers Market\, Corner of 2nd Street and Avenue North\, Columbus\, MS\, 39701\, United States
CATEGORIES:Community Event,Family Fun,Food
GEO:33.4956744;-88.4272627
X-APPLE-STRUCTURED-LOCATION;VALUE=URI;X-ADDRESS=Hitching Lot Farmers Market Corner of 2nd Street and Avenue North Columbus MS 39701 United States;X-APPLE-RADIUS=500;X-TITLE=Corner of 2nd Street and Avenue North:geo:-88.4272627,33.4956744
END:VEVENT
BEGIN:VEVENT
DTSTART;TZID=America/Chicago:20250503T090000
DTEND;TZID=America/Chicago:20250503T170000
DTSTAMP:20260424T073746
CREATED:20250324T151542Z
LAST-MODIFIED:20250324T152132Z
UID:10000481-1746262800-1746291600@www.visitcolumbusms.org
SUMMARY:Market Street Festival
DESCRIPTION:
URL:https://www.visitcolumbusms.org/event/market-street-festival-3/
LOCATION:Downtown Columbus\, 107 5th St S\, Columbus\, MS\, 39701\, United States
CATEGORIES:Community Event,Family Fun,Food
GEO:33.4947766;-88.4278745
X-APPLE-STRUCTURED-LOCATION;VALUE=URI;X-ADDRESS=Downtown Columbus 107 5th St S Columbus MS 39701 United States;X-APPLE-RADIUS=500;X-TITLE=107 5th St S:geo:-88.4278745,33.4947766
END:VEVENT
BEGIN:VEVENT
DTSTART;TZID=America/Chicago:20250307T080000
DTEND;TZID=America/Chicago:20250308T170000
DTSTAMP:20260424T073746
CREATED:20250307T201104Z
LAST-MODIFIED:20250307T201104Z
UID:10000476-1741334400-1741453200@www.visitcolumbusms.org
SUMMARY:Downtown Open House
DESCRIPTION:Open House Spring 2025
URL:https://www.visitcolumbusms.org/event/downtown-open-house-2/
LOCATION:Downtown Columbus\, 107 5th St S\, Columbus\, MS\, 39701\, United States
CATEGORIES:Community Event
GEO:33.4947766;-88.4278745
X-APPLE-STRUCTURED-LOCATION;VALUE=URI;X-ADDRESS=Downtown Columbus 107 5th St S Columbus MS 39701 United States;X-APPLE-RADIUS=500;X-TITLE=107 5th St S:geo:-88.4278745,33.4947766
END:VEVENT
BEGIN:VEVENT
DTSTART;TZID=America/Chicago:20250206T170000
DTEND;TZID=America/Chicago:20250206T190000
DTSTAMP:20260424T073746
CREATED:20250202T222353Z
LAST-MODIFIED:20250202T222353Z
UID:10000665-1738861200-1738868400@www.visitcolumbusms.org
SUMMARY:Galentine's Day Cupid Crawl
DESCRIPTION:
URL:https://www.visitcolumbusms.org/event/galentines-day-cupid-crawl/
LOCATION:Downtown Columbus\, 107 5th St S\, Columbus\, MS\, 39701\, United States
CATEGORIES:Community Event
GEO:33.4947766;-88.4278745
X-APPLE-STRUCTURED-LOCATION;VALUE=URI;X-ADDRESS=Downtown Columbus 107 5th St S Columbus MS 39701 United States;X-APPLE-RADIUS=500;X-TITLE=107 5th St S:geo:-88.4278745,33.4947766
END:VEVENT
BEGIN:VEVENT
DTSTART;TZID=America/Chicago:20241207T100000
DTEND;TZID=America/Chicago:20241207T120000
DTSTAMP:20260424T073746
CREATED:20241031T111320Z
LAST-MODIFIED:20241031T111320Z
UID:10000625-1733565600-1733572800@www.visitcolumbusms.org
SUMMARY:Pictures with Santa & Miz Claus
DESCRIPTION:
URL:https://www.visitcolumbusms.org/event/pictures-with-santa-miz-claus/
LOCATION:Rosenzweig Arts Center\, 501 Main Street\, Columbus\, MS\, 39701\, United States
CATEGORIES:Christmas,Community Event,Family Fun
GEO:33.4947188;-88.4325751
X-APPLE-STRUCTURED-LOCATION;VALUE=URI;X-ADDRESS=Rosenzweig Arts Center 501 Main Street Columbus MS 39701 United States;X-APPLE-RADIUS=500;X-TITLE=501 Main Street:geo:-88.4325751,33.4947188
END:VEVENT
BEGIN:VEVENT
DTSTART;TZID=America/Chicago:20241206T180000
DTEND;TZID=America/Chicago:20241206T190000
DTSTAMP:20260424T073746
CREATED:20241031T110917Z
LAST-MODIFIED:20241031T110917Z
UID:10000623-1733508000-1733511600@www.visitcolumbusms.org
SUMMARY:Christmas Tree Lighting
DESCRIPTION:
URL:https://www.visitcolumbusms.org/event/christmas-tree-lighting-2/
LOCATION:Downtown Columbus\, 107 5th St S\, Columbus\, MS\, 39701\, United States
CATEGORIES:Christmas,Community Event,Family Fun
GEO:33.4947766;-88.4278745
X-APPLE-STRUCTURED-LOCATION;VALUE=URI;X-ADDRESS=Downtown Columbus 107 5th St S Columbus MS 39701 United States;X-APPLE-RADIUS=500;X-TITLE=107 5th St S:geo:-88.4278745,33.4947766
END:VEVENT
BEGIN:VEVENT
DTSTART;TZID=America/Chicago:20241206T170000
DTEND;TZID=America/Chicago:20241206T200000
DTSTAMP:20260424T073746
CREATED:20241031T111048Z
LAST-MODIFIED:20241125T212753Z
UID:10000624-1733504400-1733515200@www.visitcolumbusms.org
SUMMARY:20th Anniversary Wassailfest
DESCRIPTION:
URL:https://www.visitcolumbusms.org/event/20th-anniversary-wassailfest/
LOCATION:Downtown Columbus\, 107 5th St S\, Columbus\, MS\, 39701\, United States
CATEGORIES:Christmas,Community Event,Family Fun
GEO:33.4947766;-88.4278745
X-APPLE-STRUCTURED-LOCATION;VALUE=URI;X-ADDRESS=Downtown Columbus 107 5th St S Columbus MS 39701 United States;X-APPLE-RADIUS=500;X-TITLE=107 5th St S:geo:-88.4278745,33.4947766
END:VEVENT
BEGIN:VEVENT
DTSTART;TZID=America/Chicago:20241130T100000
DTEND;TZID=America/Chicago:20241130T170000
DTSTAMP:20260424T073746
CREATED:20241030T115550Z
LAST-MODIFIED:20241030T115550Z
UID:10000619-1732960800-1732986000@www.visitcolumbusms.org
SUMMARY:Small Business Saturday
DESCRIPTION:
URL:https://www.visitcolumbusms.org/event/small-business-saturday-3/
LOCATION:Downtown Columbus\, 107 5th St S\, Columbus\, MS\, 39701\, United States
CATEGORIES:Community Event,Shopping
GEO:33.4947766;-88.4278745
X-APPLE-STRUCTURED-LOCATION;VALUE=URI;X-ADDRESS=Downtown Columbus 107 5th St S Columbus MS 39701 United States;X-APPLE-RADIUS=500;X-TITLE=107 5th St S:geo:-88.4278745,33.4947766
END:VEVENT
BEGIN:VEVENT
DTSTART;TZID=America/Chicago:20241123T090000
DTEND;TZID=America/Chicago:20241123T130000
DTSTAMP:20260424T073746
CREATED:20241030T115038Z
LAST-MODIFIED:20241030T115038Z
UID:10000617-1732352400-1732366800@www.visitcolumbusms.org
SUMMARY:Holiday Farmers Market
DESCRIPTION:
URL:https://www.visitcolumbusms.org/event/holiday-farmers-market-5/
LOCATION:Hitching Lot Farmers Market\, Corner of 2nd Street and Avenue North\, Columbus\, MS\, 39701\, United States
CATEGORIES:Community Event,Family Fun,Shopping
GEO:33.4956744;-88.4272627
X-APPLE-STRUCTURED-LOCATION;VALUE=URI;X-ADDRESS=Hitching Lot Farmers Market Corner of 2nd Street and Avenue North Columbus MS 39701 United States;X-APPLE-RADIUS=500;X-TITLE=Corner of 2nd Street and Avenue North:geo:-88.4272627,33.4956744
END:VEVENT
BEGIN:VEVENT
DTSTART;TZID=America/Chicago:20241101T100000
DTEND;TZID=America/Chicago:20241101T170000
DTSTAMP:20260424T073746
CREATED:20241029T114748Z
LAST-MODIFIED:20241029T114748Z
UID:10000418-1730455200-1730480400@www.visitcolumbusms.org
SUMMARY:Downtown Open House
DESCRIPTION:
URL:https://www.visitcolumbusms.org/event/downtown-open-house/
LOCATION:Downtown Columbus\, 107 5th St S\, Columbus\, MS\, 39701\, United States
GEO:33.4947766;-88.4278745
X-APPLE-STRUCTURED-LOCATION;VALUE=URI;X-ADDRESS=Downtown Columbus 107 5th St S Columbus MS 39701 United States;X-APPLE-RADIUS=500;X-TITLE=107 5th St S:geo:-88.4278745,33.4947766
END:VEVENT
BEGIN:VEVENT
DTSTART;TZID=America/Chicago:20241024T170000
DTEND;TZID=America/Chicago:20241024T200000
DTSTAMP:20260424T073746
CREATED:20240919T023824Z
LAST-MODIFIED:20240919T023824Z
UID:10000402-1729789200-1729800000@www.visitcolumbusms.org
SUMMARY:Downtown Boo Bash
DESCRIPTION:
URL:https://www.visitcolumbusms.org/event/downtown-boo-bash/
LOCATION:Downtown Columbus\, 107 5th St S\, Columbus\, MS\, 39701\, United States
CATEGORIES:Community Event,Family Fun
GEO:33.4947766;-88.4278745
X-APPLE-STRUCTURED-LOCATION;VALUE=URI;X-ADDRESS=Downtown Columbus 107 5th St S Columbus MS 39701 United States;X-APPLE-RADIUS=500;X-TITLE=107 5th St S:geo:-88.4278745,33.4947766
END:VEVENT
BEGIN:VEVENT
DTSTART;TZID=America/Chicago:20240928T100000
DTEND;TZID=America/Chicago:20240928T130000
DTSTAMP:20260424T073746
CREATED:20240918T024653Z
LAST-MODIFIED:20240918T024653Z
UID:10000599-1727517600-1727528400@www.visitcolumbusms.org
SUMMARY:Downtown Art Walk
DESCRIPTION:
URL:https://www.visitcolumbusms.org/event/downtown-art-walk-4/
LOCATION:Downtown Columbus\, 107 5th St S\, Columbus\, MS\, 39701\, United States
CATEGORIES:Arts & Culture,Family Fun,Shopping
GEO:33.4947766;-88.4278745
X-APPLE-STRUCTURED-LOCATION;VALUE=URI;X-ADDRESS=Downtown Columbus 107 5th St S Columbus MS 39701 United States;X-APPLE-RADIUS=500;X-TITLE=107 5th St S:geo:-88.4278745,33.4947766
END:VEVENT
BEGIN:VEVENT
DTSTART;TZID=America/Chicago:20240628T080000
DTEND;TZID=America/Chicago:20240628T170000
DTSTAMP:20260424T073746
CREATED:20240628T155022Z
LAST-MODIFIED:20240628T155022Z
UID:10000291-1719561600-1719594000@www.visitcolumbusms.org
SUMMARY:Hitching Lot Farmers Market
DESCRIPTION:Hitching Lot Farmers Market is open Saturdays 7 to 10 a.m. & Tuesdays 4 to 6 p.m. Located at corner of 2nd Avenue  and 2nd Street North.
URL:https://www.visitcolumbusms.org/event/hitching-lot-farmers-market-5/
LOCATION:Hitching Lot Farmers Market\, Corner of 2nd Street and Avenue North\, Columbus\, MS\, 39701\, United States
CATEGORIES:Community Event,Family Fun,Food
GEO:33.4956744;-88.4272627
X-APPLE-STRUCTURED-LOCATION;VALUE=URI;X-ADDRESS=Hitching Lot Farmers Market Corner of 2nd Street and Avenue North Columbus MS 39701 United States;X-APPLE-RADIUS=500;X-TITLE=Corner of 2nd Street and Avenue North:geo:-88.4272627,33.4956744
END:VEVENT
BEGIN:VEVENT
DTSTART;VALUE=DATE:20240517
DTEND;VALUE=DATE:20240519
DTSTAMP:20260424T073746
CREATED:20240125T151330Z
LAST-MODIFIED:20240510T214431Z
UID:10000566-1715904000-1716076799@www.visitcolumbusms.org
SUMMARY:Battle of the States Tennis Tournament
DESCRIPTION: 
URL:https://www.visitcolumbusms.org/event/battleofthestates/
LOCATION:Columbus High School\, 215 Hemlock Drive\, Columbus\, MS\, 39702\, United States
CATEGORIES:Community Event,Family Fun,Sports & Outdoors
GEO:33.5054323;-88.3835636
X-APPLE-STRUCTURED-LOCATION;VALUE=URI;X-ADDRESS=Columbus High School 215 Hemlock Drive Columbus MS 39702 United States;X-APPLE-RADIUS=500;X-TITLE=215 Hemlock Drive:geo:-88.3835636,33.5054323
END:VEVENT
BEGIN:VEVENT
DTSTART;TZID=America/Chicago:20231216T170000
DTEND;TZID=America/Chicago:20231216T220000
DTSTAMP:20260424T073746
CREATED:20230120T170700Z
LAST-MODIFIED:20230120T170700Z
UID:10000274-1702746000-1702764000@www.visitcolumbusms.org
SUMMARY:Moonlight Madness
DESCRIPTION:For more information\, contact Columbus Main Street at 662.328.6305.
URL:https://www.visitcolumbusms.org/event/moonlight-madness-2/
LOCATION:Columbus\, MS\, 39701\, United States
GEO:33.4956744;-88.4272627
END:VEVENT
BEGIN:VEVENT
DTSTART;TZID=America/Chicago:20231203T150000
DTEND;TZID=America/Chicago:20231203T160000
DTSTAMP:20260424T073746
CREATED:20230120T170543Z
LAST-MODIFIED:20230120T170543Z
UID:10000272-1701615600-1701619200@www.visitcolumbusms.org
SUMMARY:Columbus Christmas Parade
DESCRIPTION:For more information\, contact Columbus Main Street at 662.328.6305.
URL:https://www.visitcolumbusms.org/event/columbus-christmas-parade-5/
LOCATION:Columbus\, MS\, 39701\, United States
CATEGORIES:Christmas,Family Fun
GEO:33.4956744;-88.4272627
END:VEVENT
BEGIN:VEVENT
DTSTART;TZID=America/Chicago:20231127T173000
DTEND;TZID=America/Chicago:20231127T190000
DTSTAMP:20260424T073746
CREATED:20230120T170022Z
LAST-MODIFIED:20231127T222350Z
UID:10000557-1701106200-1701111600@www.visitcolumbusms.org
SUMMARY:Lighting of the City Christmas Tree
DESCRIPTION:Join us from 5:30-7:00 on the lawn of the Tennessee Williams House Museum and Welcome Center\, 300 Main Street.  \nFor more information\, contact Columbus Main Street at 662.328.6305.
URL:https://www.visitcolumbusms.org/event/city-christmas-tree-lighting-2/
LOCATION:Columbus\, MS\, 39701\, United States
CATEGORIES:Christmas,Family Fun
GEO:33.4956744;-88.4272627
END:VEVENT
BEGIN:VEVENT
DTSTART;TZID=America/Chicago:20231125T100000
DTEND;TZID=America/Chicago:20231125T170000
DTSTAMP:20260424T073746
CREATED:20230120T165923Z
LAST-MODIFIED:20230120T165923Z
UID:10000555-1700906400-1700931600@www.visitcolumbusms.org
SUMMARY:Small Business Saturday
DESCRIPTION:For more information\, contact Columbus Main Street at 662.328.6305.
URL:https://www.visitcolumbusms.org/event/small-business-saturday-2/
LOCATION:Columbus\, MS\, 39701\, United States
CATEGORIES:Christmas,Shopping
GEO:33.4956744;-88.4272627
END:VEVENT
BEGIN:VEVENT
DTSTART;TZID=America/Chicago:20231118T090000
DTEND;TZID=America/Chicago:20231118T120000
DTSTAMP:20260424T073746
CREATED:20230120T165815Z
LAST-MODIFIED:20230120T165815Z
UID:10000554-1700298000-1700308800@www.visitcolumbusms.org
SUMMARY:Holiday Farmers' Market
DESCRIPTION:For more information\, contact Columbus Main Street at 662.328.6305.
URL:https://www.visitcolumbusms.org/event/holiday-farmers-market-4/
LOCATION:Columbus\, MS\, 39701\, United States
CATEGORIES:Christmas,Food,Shopping
GEO:33.4956744;-88.4272627
END:VEVENT
BEGIN:VEVENT
DTSTART;TZID=America/Chicago:20231105T130000
DTEND;TZID=America/Chicago:20231105T170000
DTSTAMP:20260424T073746
CREATED:20230120T165702Z
LAST-MODIFIED:20230120T165702Z
UID:10000553-1699189200-1699203600@www.visitcolumbusms.org
SUMMARY:Downtown Christmas Open House
DESCRIPTION:For more information\, contact Columbus Main Street at 662.328.6305.
URL:https://www.visitcolumbusms.org/event/downtown-christmas-open-house-5/2023-11-05/
LOCATION:Columbus\, MS\, 39701\, United States
CATEGORIES:Christmas,Shopping
GEO:33.4956744;-88.4272627
END:VEVENT
BEGIN:VEVENT
DTSTART;TZID=America/Chicago:20231104T100000
DTEND;TZID=America/Chicago:20231104T170000
DTSTAMP:20260424T073746
CREATED:20230120T165702Z
LAST-MODIFIED:20230120T165702Z
UID:10000552-1699092000-1699117200@www.visitcolumbusms.org
SUMMARY:Downtown Christmas Open House
DESCRIPTION:For more information\, contact Columbus Main Street at 662.328.6305.
URL:https://www.visitcolumbusms.org/event/downtown-christmas-open-house-5/2023-11-04/
LOCATION:Columbus\, MS\, 39701\, United States
CATEGORIES:Christmas,Shopping
GEO:33.4956744;-88.4272627
END:VEVENT
BEGIN:VEVENT
DTSTART;TZID=America/Chicago:20231103T100000
DTEND;TZID=America/Chicago:20231103T170000
DTSTAMP:20260424T073746
CREATED:20230120T165702Z
LAST-MODIFIED:20230120T165702Z
UID:10000551-1699005600-1699030800@www.visitcolumbusms.org
SUMMARY:Downtown Christmas Open House
DESCRIPTION:For more information\, contact Columbus Main Street at 662.328.6305.
URL:https://www.visitcolumbusms.org/event/downtown-christmas-open-house-5/2023-11-03/
LOCATION:Columbus\, MS\, 39701\, United States
CATEGORIES:Christmas,Shopping
GEO:33.4956744;-88.4272627
END:VEVENT
BEGIN:VEVENT
DTSTART;TZID=America/Chicago:20230922T173000
DTEND;TZID=America/Chicago:20230922T193000
DTSTAMP:20260424T073746
CREATED:20230120T165330Z
LAST-MODIFIED:20230120T165330Z
UID:10000550-1695403800-1695411000@www.visitcolumbusms.org
SUMMARY:Downtown Art Walk
DESCRIPTION:For more information\, contact Columbus Main Street at 662.328.6305.
URL:https://www.visitcolumbusms.org/event/downtown-art-walk-2/
LOCATION:Columbus\, MS\, 39701\, United States
CATEGORIES:Arts & Culture
GEO:33.4956744;-88.4272627
END:VEVENT
END:VCALENDAR