BEGIN:VCALENDAR
VERSION:2.0
PRODID:-//Columbus MS - ECPv6.10.1.1//NONSGML v1.0//EN
CALSCALE:GREGORIAN
METHOD:PUBLISH
X-WR-CALNAME:Columbus MS
X-ORIGINAL-URL:https://www.visitcolumbusms.org
X-WR-CALDESC:Events for Columbus MS
REFRESH-INTERVAL;VALUE=DURATION:PT1H
X-Robots-Tag:noindex
X-PUBLISHED-TTL:PT1H
BEGIN:VTIMEZONE
TZID:America/Chicago
BEGIN:DAYLIGHT
TZOFFSETFROM:-0600
TZOFFSETTO:-0500
TZNAME:CDT
DTSTART:20250309T080000
END:DAYLIGHT
BEGIN:STANDARD
TZOFFSETFROM:-0500
TZOFFSETTO:-0600
TZNAME:CST
DTSTART:20251102T070000
END:STANDARD
BEGIN:DAYLIGHT
TZOFFSETFROM:-0600
TZOFFSETTO:-0500
TZNAME:CDT
DTSTART:20260308T080000
END:DAYLIGHT
BEGIN:STANDARD
TZOFFSETFROM:-0500
TZOFFSETTO:-0600
TZNAME:CST
DTSTART:20261101T070000
END:STANDARD
END:VTIMEZONE
BEGIN:VEVENT
DTSTART;TZID=America/Chicago:20260411T080000
DTEND;TZID=America/Chicago:20260412T170000
DTSTAMP:20260421T061752
CREATED:20260117T230828Z
LAST-MODIFIED:20260117T230828Z
UID:10000848-1775894400-1776013200@www.visitcolumbusms.org
SUMMARY:Columbus Orthopedic Riverwalk Soccer Tournament
DESCRIPTION:
URL:https://www.visitcolumbusms.org/event/columbus-orthopedic-riverwalk-soccer-tournament/
LOCATION:Roger Short Soccer Complex\, 301 3rd Street North\, Columbus\, MS\, 39701\, United States
CATEGORIES:Sports & Outdoors
ORGANIZER;CN="Golden Triangle Elite":MAILTO:gtelitesoccer@gmail.com
GEO:33.4923914;-88.4298902
X-APPLE-STRUCTURED-LOCATION;VALUE=URI;X-ADDRESS=Roger Short Soccer Complex 301 3rd Street North Columbus MS 39701 United States;X-APPLE-RADIUS=500;X-TITLE=301 3rd Street North:geo:-88.4298902,33.4923914
END:VEVENT
BEGIN:VEVENT
DTSTART;VALUE=DATE:20250412
DTEND;VALUE=DATE:20250414
DTSTAMP:20260421T061752
CREATED:20241105T212229Z
LAST-MODIFIED:20241105T212229Z
UID:10000430-1744416000-1744588799@www.visitcolumbusms.org
SUMMARY:Columbus Orthopaedic Riverwalk Invitational
DESCRIPTION:
URL:https://www.visitcolumbusms.org/event/columbus-orthopaedic-riverwalk-invitational/
LOCATION:Roger Short Soccer Complex\, 301 3rd Street North\, Columbus\, MS\, 39701\, United States
CATEGORIES:Sports & Outdoors
ORGANIZER;CN="Golden Triangle Elite":MAILTO:gtelitesoccer@gmail.com
GEO:33.4923914;-88.4298902
X-APPLE-STRUCTURED-LOCATION;VALUE=URI;X-ADDRESS=Roger Short Soccer Complex 301 3rd Street North Columbus MS 39701 United States;X-APPLE-RADIUS=500;X-TITLE=301 3rd Street North:geo:-88.4298902,33.4923914
END:VEVENT
END:VCALENDAR