BEGIN:VCALENDAR
VERSION:2.0
PRODID:-//Columbus MS - ECPv6.10.1.1//NONSGML v1.0//EN
CALSCALE:GREGORIAN
METHOD:PUBLISH
X-WR-CALNAME:Columbus MS
X-ORIGINAL-URL:https://www.visitcolumbusms.org
X-WR-CALDESC:Events for Columbus MS
REFRESH-INTERVAL;VALUE=DURATION:PT1H
X-Robots-Tag:noindex
X-PUBLISHED-TTL:PT1H
BEGIN:VTIMEZONE
TZID:America/Chicago
BEGIN:DAYLIGHT
TZOFFSETFROM:-0600
TZOFFSETTO:-0500
TZNAME:CDT
DTSTART:20200308T080000
END:DAYLIGHT
BEGIN:STANDARD
TZOFFSETFROM:-0500
TZOFFSETTO:-0600
TZNAME:CST
DTSTART:20201101T070000
END:STANDARD
END:VTIMEZONE
BEGIN:VEVENT
DTSTART;TZID=America/Chicago:20200306T100000
DTEND;TZID=America/Chicago:20200306T200000
DTSTAMP:20260422T083618
CREATED:20200117T204346Z
LAST-MODIFIED:20200117T204346Z
UID:10000453-1583488800-1583524800@www.visitcolumbusms.org
SUMMARY:MUW Music by Women Festival
DESCRIPTION:The MUW’s third annual Music by Women Festival will be held March 5 – 7 at Poindexter Hall and will consist of lectures\, presentations\, recitals and showcases of music composed\, taught and performed by women. This event encompasses a wide array of traditional and contemporary music.
URL:https://www.visitcolumbusms.org/event/muw-music-by-women-festival/2020-03-06/
LOCATION:Poindexter Hall\, 1100 College St. Columbus\, Columbus\, MS\, 39701\, United States
CATEGORIES:Music
GEO:33.491089;-88.4183492
X-APPLE-STRUCTURED-LOCATION;VALUE=URI;X-ADDRESS=Poindexter Hall 1100 College St. Columbus Columbus MS 39701 United States;X-APPLE-RADIUS=500;X-TITLE=1100 College St. Columbus:geo:-88.4183492,33.491089
END:VEVENT
BEGIN:VEVENT
DTSTART;TZID=America/Chicago:20200305T100000
DTEND;TZID=America/Chicago:20200305T200000
DTSTAMP:20260422T083618
CREATED:20200117T204346Z
LAST-MODIFIED:20200117T204346Z
UID:10000452-1583402400-1583438400@www.visitcolumbusms.org
SUMMARY:MUW Music by Women Festival
DESCRIPTION:The MUW’s third annual Music by Women Festival will be held March 5 – 7 at Poindexter Hall and will consist of lectures\, presentations\, recitals and showcases of music composed\, taught and performed by women. This event encompasses a wide array of traditional and contemporary music.
URL:https://www.visitcolumbusms.org/event/muw-music-by-women-festival/2020-03-05/
LOCATION:Poindexter Hall\, 1100 College St. Columbus\, Columbus\, MS\, 39701\, United States
CATEGORIES:Music
GEO:33.491089;-88.4183492
X-APPLE-STRUCTURED-LOCATION;VALUE=URI;X-ADDRESS=Poindexter Hall 1100 College St. Columbus Columbus MS 39701 United States;X-APPLE-RADIUS=500;X-TITLE=1100 College St. Columbus:geo:-88.4183492,33.491089
END:VEVENT
BEGIN:VEVENT
DTSTART;TZID=America/Chicago:20200302T193000
DTEND;TZID=America/Chicago:20200302T203000
DTSTAMP:20260422T083618
CREATED:20200117T204545Z
LAST-MODIFIED:20200117T204545Z
UID:10000445-1583177400-1583181000@www.visitcolumbusms.org
SUMMARY:MUW Guest Artist Recital
DESCRIPTION:MUW is honored to host Janet Hopkins\, mezzo-soprano and Armen Shaomian\, pianist\, as they share their talents in concert at Poindexter Hall on March 2 at 7:30 P.M. This event is free and open to the public.
URL:https://www.visitcolumbusms.org/event/muw-guest-artist-recital/
LOCATION:Poindexter Hall\, 1100 College St. Columbus\, Columbus\, MS\, 39701\, United States
CATEGORIES:Music
GEO:33.491089;-88.4183492
X-APPLE-STRUCTURED-LOCATION;VALUE=URI;X-ADDRESS=Poindexter Hall 1100 College St. Columbus Columbus MS 39701 United States;X-APPLE-RADIUS=500;X-TITLE=1100 College St. Columbus:geo:-88.4183492,33.491089
END:VEVENT
BEGIN:VEVENT
DTSTART;TZID=America/Chicago:20200302T130000
DTEND;TZID=America/Chicago:20200302T140000
DTSTAMP:20260422T083618
CREATED:20200117T204629Z
LAST-MODIFIED:20200117T204629Z
UID:10000161-1583154000-1583157600@www.visitcolumbusms.org
SUMMARY:MUW Guest Artist Masterclass Janet Hopkins
DESCRIPTION:Learn valuable vocal tips from Janet Hopkins\, mezzo-soprano\, as she teaches and works with the MUW voice students at Poindexter Hall on the MUW campus.
URL:https://www.visitcolumbusms.org/event/muw-guest-artist-masterclass-janet-hopkins/
LOCATION:Poindexter Hall\, 1100 College St. Columbus\, Columbus\, MS\, 39701\, United States
CATEGORIES:Music
GEO:33.491089;-88.4183492
X-APPLE-STRUCTURED-LOCATION;VALUE=URI;X-ADDRESS=Poindexter Hall 1100 College St. Columbus Columbus MS 39701 United States;X-APPLE-RADIUS=500;X-TITLE=1100 College St. Columbus:geo:-88.4183492,33.491089
END:VEVENT
BEGIN:VEVENT
DTSTART;TZID=America/Chicago:20200228T193000
DTEND;TZID=America/Chicago:20200228T203000
DTSTAMP:20260422T083618
CREATED:20200117T204444Z
LAST-MODIFIED:20200117T204444Z
UID:10000447-1582918200-1582921800@www.visitcolumbusms.org
SUMMARY:MUW Choir Concert
DESCRIPTION:Hear the harmonious ensemble of the MUW Chamber Singers and MUW Chorale at Poindexter Hall as they showcase the beautiful pieces they have prepared.
URL:https://www.visitcolumbusms.org/event/muw-choir-concert-2/
LOCATION:Poindexter Hall\, 1100 College St. Columbus\, Columbus\, MS\, 39701\, United States
CATEGORIES:Music
GEO:33.491089;-88.4183492
X-APPLE-STRUCTURED-LOCATION;VALUE=URI;X-ADDRESS=Poindexter Hall 1100 College St. Columbus Columbus MS 39701 United States;X-APPLE-RADIUS=500;X-TITLE=1100 College St. Columbus:geo:-88.4183492,33.491089
END:VEVENT
BEGIN:VEVENT
DTSTART;TZID=America/Chicago:20200221T193000
DTEND;TZID=America/Chicago:20200221T203000
DTSTAMP:20260422T083618
CREATED:20200117T204703Z
LAST-MODIFIED:20200117T204703Z
UID:10000162-1582313400-1582317000@www.visitcolumbusms.org
SUMMARY:MUW Spring Recital
DESCRIPTION:Come enjoy the musical masterpieces which the MUW students have prepared over the course of the 2020 spring semester. This concert will be held at Poindexter Hall on February 21 at 7:30 P.M.
URL:https://www.visitcolumbusms.org/event/muw-spring-recital/
LOCATION:Poindexter Hall\, 1100 College St. Columbus\, Columbus\, MS\, 39701\, United States
CATEGORIES:Music
GEO:33.491089;-88.4183492
X-APPLE-STRUCTURED-LOCATION;VALUE=URI;X-ADDRESS=Poindexter Hall 1100 College St. Columbus Columbus MS 39701 United States;X-APPLE-RADIUS=500;X-TITLE=1100 College St. Columbus:geo:-88.4183492,33.491089
END:VEVENT
END:VCALENDAR