BEGIN:VCALENDAR
VERSION:2.0
PRODID:-//Columbus MS - ECPv6.10.1.1//NONSGML v1.0//EN
CALSCALE:GREGORIAN
METHOD:PUBLISH
X-WR-CALNAME:Columbus MS
X-ORIGINAL-URL:https://www.visitcolumbusms.org
X-WR-CALDESC:Events for Columbus MS
REFRESH-INTERVAL;VALUE=DURATION:PT1H
X-Robots-Tag:noindex
X-PUBLISHED-TTL:PT1H
BEGIN:VTIMEZONE
TZID:America/Chicago
BEGIN:DAYLIGHT
TZOFFSETFROM:-0600
TZOFFSETTO:-0500
TZNAME:CDT
DTSTART:20190310T080000
END:DAYLIGHT
BEGIN:STANDARD
TZOFFSETFROM:-0500
TZOFFSETTO:-0600
TZNAME:CST
DTSTART:20191103T070000
END:STANDARD
END:VTIMEZONE
BEGIN:VEVENT
DTSTART;TZID=America/Chicago:20190214T190000
DTEND;TZID=America/Chicago:20190214T220000
DTSTAMP:20260422T063740
CREATED:20190214T194601Z
LAST-MODIFIED:20190214T194601Z
UID:10000222-1550170800-1550181600@www.visitcolumbusms.org
SUMMARY:Stephen D. Lee Home Valentine Party
DESCRIPTION:The Stephen D. Lee Foundation will host the annual Valentine Party at the Swoope home. Delight in chocolate\, strawberry\, and caramel cakes\, as well as other delicacies from the best cooks around Columbus. For tickets and more information\, please contact Eulalie Davis at 662.328.3088.
URL:https://www.visitcolumbusms.org/event/stephen-d-lee-home-valentine-party/
LOCATION:Columbus\, MS\, 39701\, United States
END:VEVENT
END:VCALENDAR