BEGIN:VCALENDAR
VERSION:2.0
PRODID:-//Columbus MS - ECPv6.10.1.1//NONSGML v1.0//EN
CALSCALE:GREGORIAN
METHOD:PUBLISH
X-WR-CALNAME:Columbus MS
X-ORIGINAL-URL:https://www.visitcolumbusms.org
X-WR-CALDESC:Events for Columbus MS
REFRESH-INTERVAL;VALUE=DURATION:PT1H
X-Robots-Tag:noindex
X-PUBLISHED-TTL:PT1H
BEGIN:VTIMEZONE
TZID:America/Chicago
BEGIN:DAYLIGHT
TZOFFSETFROM:-0600
TZOFFSETTO:-0500
TZNAME:CDT
DTSTART:20190310T080000
END:DAYLIGHT
BEGIN:STANDARD
TZOFFSETFROM:-0500
TZOFFSETTO:-0600
TZNAME:CST
DTSTART:20191103T070000
END:STANDARD
END:VTIMEZONE
BEGIN:VEVENT
DTSTART;TZID=America/Chicago:20190402T160000
DTEND;TZID=America/Chicago:20190402T180000
DTSTAMP:20260423T045853
CREATED:20190218T221658Z
LAST-MODIFIED:20190218T221824Z
UID:10000110-1554220800-1554228000@www.visitcolumbusms.org
SUMMARY:Buttahatchee Barn Quilt Trail Tea Cakes & Tea
DESCRIPTION:Enjoy an afternoon in the country complete with some Southern hospitality and highlighting unique folk artistry steeped in Americana. On Tuesday\, April 2\, we invite you to join us along the Buttahatchee Barn Quilt Trail\, from 4PM to 6 PM\, for homemade tea cakes and Southern mint tea. The event will take place at Mt. Pleasant Methodist Church\, Steens\, MS. (Directions available from Visit Columbus\, 117 Third Street South\, or the Tennessee Williams Home and Welcome Center.)
URL:https://www.visitcolumbusms.org/event/buttahatchee-barn-quilt-trail-tea-cakes-tea-2/
LOCATION:MS\, United States
ATTACH;FMTTYPE=image/jpeg:https://s3.amazonaws.com/media.visitcolumbusms.org/20180326212026/Buttahatche_Columbus_Website_-021.jpg
GEO:32.3546679;-89.3985283
END:VEVENT
END:VCALENDAR