BEGIN:VCALENDAR
VERSION:2.0
PRODID:-//Columbus MS - ECPv6.10.1.1//NONSGML v1.0//EN
CALSCALE:GREGORIAN
METHOD:PUBLISH
X-ORIGINAL-URL:https://www.visitcolumbusms.org
X-WR-CALDESC:Events for Columbus MS
REFRESH-INTERVAL;VALUE=DURATION:PT1H
X-Robots-Tag:noindex
X-PUBLISHED-TTL:PT1H
BEGIN:VTIMEZONE
TZID:America/Chicago
BEGIN:DAYLIGHT
TZOFFSETFROM:-0600
TZOFFSETTO:-0500
TZNAME:CDT
DTSTART:20190310T080000
END:DAYLIGHT
BEGIN:STANDARD
TZOFFSETFROM:-0500
TZOFFSETTO:-0600
TZNAME:CST
DTSTART:20191103T070000
END:STANDARD
END:VTIMEZONE
BEGIN:VEVENT
DTSTART;TZID=America/Chicago:20191130T110000
DTEND;TZID=America/Chicago:20191130T160000
DTSTAMP:20260421T061853
CREATED:20191114T171422Z
LAST-MODIFIED:20191114T171422Z
UID:10000461-1575111600-1575129600@www.visitcolumbusms.org
SUMMARY:Mississippi Live Vegan Food Festival
DESCRIPTION:Come grab the freshest fruits and vegetables of the season at the Mississippi Live Vegan Food Festival! The festival will be held at 760 Starkville Road on November 30 from 11 A.M. – 4 P.M. \nFor more information\, please call 662.242.8906 or email healingspringsfarmacyms@gmail.com. Vendors and attendees can register at msvegfest.eventbrite.com.
URL:https://www.visitcolumbusms.org/event/mississippi-live-vegan-food-festival/
LOCATION:Columbus\, MS\, 39701\, United States
GEO:33.4956744;-88.4272627
END:VEVENT
END:VCALENDAR