BEGIN:VCALENDAR
VERSION:2.0
PRODID:-//Columbus MS - ECPv6.10.1.1//NONSGML v1.0//EN
CALSCALE:GREGORIAN
METHOD:PUBLISH
X-WR-CALNAME:Columbus MS
X-ORIGINAL-URL:https://www.visitcolumbusms.org
X-WR-CALDESC:Events for Columbus MS
REFRESH-INTERVAL;VALUE=DURATION:PT1H
X-Robots-Tag:noindex
X-PUBLISHED-TTL:PT1H
BEGIN:VTIMEZONE
TZID:America/Chicago
BEGIN:DAYLIGHT
TZOFFSETFROM:-0600
TZOFFSETTO:-0500
TZNAME:CDT
DTSTART:20200308T080000
END:DAYLIGHT
BEGIN:STANDARD
TZOFFSETFROM:-0500
TZOFFSETTO:-0600
TZNAME:CST
DTSTART:20201101T070000
END:STANDARD
END:VTIMEZONE
BEGIN:VEVENT
DTSTART;TZID=America/Chicago:20201121T090000
DTEND;TZID=America/Chicago:20201121T120000
DTSTAMP:20260421T045433
CREATED:20200902T215151Z
LAST-MODIFIED:20200902T215151Z
UID:10000526-1605949200-1605960000@www.visitcolumbusms.org
SUMMARY:Holiday Farmers’ Market
DESCRIPTION:On the Saturday before Thanksgiving\, the holiday market offers an opportunity to purchase locally homegrown\, homemade and handcrafted holiday food and gifts\, while enjoying entertainment by Columbus’ own Mother Goose. It is the perfect time to get those last-minute Thanksgiving goodies and to begin your holiday shopping. For more information\, contact Main Street Columbus\, 662.328.6305 or check our website or FB page. Presented by Main Street Columbus and the Hitching Lot Farmers’ Market.
URL:https://www.visitcolumbusms.org/event/holiday-farmers-market/
LOCATION:Columbus\, MS\, 39701\, United States
CATEGORIES:Shopping
GEO:33.4956744;-88.4272627
END:VEVENT
END:VCALENDAR