BEGIN:VCALENDAR
VERSION:2.0
PRODID:-//Columbus MS - ECPv6.10.1.1//NONSGML v1.0//EN
CALSCALE:GREGORIAN
METHOD:PUBLISH
X-WR-CALNAME:Columbus MS
X-ORIGINAL-URL:https://www.visitcolumbusms.org
X-WR-CALDESC:Events for Columbus MS
REFRESH-INTERVAL;VALUE=DURATION:PT1H
X-Robots-Tag:noindex
X-PUBLISHED-TTL:PT1H
BEGIN:VTIMEZONE
TZID:America/Chicago
BEGIN:DAYLIGHT
TZOFFSETFROM:-0600
TZOFFSETTO:-0500
TZNAME:CDT
DTSTART:20200308T080000
END:DAYLIGHT
BEGIN:STANDARD
TZOFFSETFROM:-0500
TZOFFSETTO:-0600
TZNAME:CST
DTSTART:20201101T070000
END:STANDARD
END:VTIMEZONE
BEGIN:VEVENT
DTSTART;TZID=America/Chicago:20201204T170000
DTEND;TZID=America/Chicago:20201204T200000
DTSTAMP:20260419T173414
CREATED:20200902T220745Z
LAST-MODIFIED:20201201T204845Z
UID:10000524-1607101200-1607112000@www.visitcolumbusms.org
SUMMARY:Grinch Fest in Whoville
DESCRIPTION:Formerly the Wassail Fest\, which would be difficult this year to enjoy in the same way as the past\, this year’s event has been adapted\, and the “Grinch” is not going to take away the fun of the holidays. This year\, you’re invited downtown to “Grinch Fest in Whoville” on Friday\, December 4\, from 5 to 8 p.m. Pick up your “Whoville Passport” at one of the participating merchants and get it stamped for a chance to win an unbelievable grand prize worth hundreds of dollars in gift certificates provided by Main Street Columbus. Have your picture taken with one of our “Whoville” visitors\, dine in one of our great downtown restaurants and just enjoy the holiday season in beautiful\, historic downtown Columbus. Dress in costume as a “Whoville” character … who knows\, we may even have a costume contest so begin making your plans now! Contact Main Street Columbus at  for updates or check our \nPresented by Main Street Columbus. \nFor more information\, call 662.328.6305\, or visit the Main Street Columbus website or Facebook page.
URL:https://www.visitcolumbusms.org/event/grinch-fest/
LOCATION:Columbus\, MS\, 39701\, United States
CATEGORIES:Christmas,Shopping
GEO:33.4956744;-88.4272627
END:VEVENT
END:VCALENDAR