BEGIN:VCALENDAR
VERSION:2.0
PRODID:-//Columbus MS - ECPv6.10.1.1//NONSGML v1.0//EN
CALSCALE:GREGORIAN
METHOD:PUBLISH
X-ORIGINAL-URL:https://www.visitcolumbusms.org
X-WR-CALDESC:Events for Columbus MS
REFRESH-INTERVAL;VALUE=DURATION:PT1H
X-Robots-Tag:noindex
X-PUBLISHED-TTL:PT1H
BEGIN:VTIMEZONE
TZID:America/Chicago
BEGIN:DAYLIGHT
TZOFFSETFROM:-0600
TZOFFSETTO:-0500
TZNAME:CDT
DTSTART:20250309T080000
END:DAYLIGHT
BEGIN:STANDARD
TZOFFSETFROM:-0500
TZOFFSETTO:-0600
TZNAME:CST
DTSTART:20251102T070000
END:STANDARD
END:VTIMEZONE
BEGIN:VEVENT
DTSTART;TZID=America/Chicago:20250802T160000
DTEND;TZID=America/Chicago:20250802T220000
DTSTAMP:20260422T124839
CREATED:20250722T140455Z
LAST-MODIFIED:20250722T140455Z
UID:10000717-1754150400-1754172000@www.visitcolumbusms.org
SUMMARY:Artesia Day Festival
DESCRIPTION:
URL:https://www.visitcolumbusms.org/event/artesia-day-festival/2025-08-02/
LOCATION:City of Artesia\, 101 North Front Street\, Artesia\, 39736\, United States
CATEGORIES:Community Event,Music
GEO:33.4171248;-88.644496
X-APPLE-STRUCTURED-LOCATION;VALUE=URI;X-ADDRESS=City of Artesia 101 North Front Street Artesia 39736 United States;X-APPLE-RADIUS=500;X-TITLE=101 North Front Street:geo:-88.644496,33.4171248
END:VEVENT
BEGIN:VEVENT
DTSTART;TZID=America/Chicago:20250801T170000
DTEND;TZID=America/Chicago:20250801T220000
DTSTAMP:20260422T124839
CREATED:20250722T140455Z
LAST-MODIFIED:20250722T140455Z
UID:10000716-1754067600-1754085600@www.visitcolumbusms.org
SUMMARY:Artesia Day Festival
DESCRIPTION:
URL:https://www.visitcolumbusms.org/event/artesia-day-festival/2025-08-01/
LOCATION:City of Artesia\, 101 North Front Street\, Artesia\, 39736\, United States
CATEGORIES:Community Event,Music
GEO:33.4171248;-88.644496
X-APPLE-STRUCTURED-LOCATION;VALUE=URI;X-ADDRESS=City of Artesia 101 North Front Street Artesia 39736 United States;X-APPLE-RADIUS=500;X-TITLE=101 North Front Street:geo:-88.644496,33.4171248
END:VEVENT
BEGIN:VEVENT
DTSTART;TZID=America/Chicago:20250731T180000
DTEND;TZID=America/Chicago:20250731T220000
DTSTAMP:20260422T124839
CREATED:20250722T140455Z
LAST-MODIFIED:20250722T140455Z
UID:10000715-1753984800-1753999200@www.visitcolumbusms.org
SUMMARY:Artesia Day Festival
DESCRIPTION:
URL:https://www.visitcolumbusms.org/event/artesia-day-festival/2025-07-31/
LOCATION:City of Artesia\, 101 North Front Street\, Artesia\, 39736\, United States
CATEGORIES:Community Event,Music
GEO:33.4171248;-88.644496
X-APPLE-STRUCTURED-LOCATION;VALUE=URI;X-ADDRESS=City of Artesia 101 North Front Street Artesia 39736 United States;X-APPLE-RADIUS=500;X-TITLE=101 North Front Street:geo:-88.644496,33.4171248
END:VEVENT
BEGIN:VEVENT
DTSTART;TZID=America/Chicago:20250726T140000
DTEND;TZID=America/Chicago:20250726T180000
DTSTAMP:20260422T124839
CREATED:20250722T140455Z
LAST-MODIFIED:20250722T140455Z
UID:10000714-1753538400-1753552800@www.visitcolumbusms.org
SUMMARY:Artesia Day Festival
DESCRIPTION:
URL:https://www.visitcolumbusms.org/event/artesia-day-festival/2025-07-26/
LOCATION:City of Artesia\, 101 North Front Street\, Artesia\, 39736\, United States
CATEGORIES:Community Event,Music
GEO:33.4171248;-88.644496
X-APPLE-STRUCTURED-LOCATION;VALUE=URI;X-ADDRESS=City of Artesia 101 North Front Street Artesia 39736 United States;X-APPLE-RADIUS=500;X-TITLE=101 North Front Street:geo:-88.644496,33.4171248
END:VEVENT
END:VCALENDAR