BEGIN:VCALENDAR
VERSION:2.0
PRODID:-//Columbus MS - ECPv6.10.1.1//NONSGML v1.0//EN
CALSCALE:GREGORIAN
METHOD:PUBLISH
X-WR-CALNAME:Columbus MS
X-ORIGINAL-URL:https://www.visitcolumbusms.org
X-WR-CALDESC:Events for Columbus MS
REFRESH-INTERVAL;VALUE=DURATION:PT1H
X-Robots-Tag:noindex
X-PUBLISHED-TTL:PT1H
BEGIN:VTIMEZONE
TZID:America/Chicago
BEGIN:DAYLIGHT
TZOFFSETFROM:-0600
TZOFFSETTO:-0500
TZNAME:CDT
DTSTART:20260308T080000
END:DAYLIGHT
BEGIN:STANDARD
TZOFFSETFROM:-0500
TZOFFSETTO:-0600
TZNAME:CST
DTSTART:20261101T070000
END:STANDARD
END:VTIMEZONE
BEGIN:VEVENT
DTSTART;TZID=America/Chicago:20260302T000000
DTEND;TZID=America/Chicago:20260430T000000
DTSTAMP:20260422T034243
CREATED:20260313T203051Z
LAST-MODIFIED:20260313T203051Z
UID:10000896-1772409600-1777507200@www.visitcolumbusms.org
SUMMARY:America250 Quilt Display
DESCRIPTION:From March 2 through April 30\, the Columbus-Lowndes Public Library System will showcase a special quilt exhibition in recognition of America 250 and Quilting Heritage Month. For decades\, the Library has proudly partnered with local quilting guilds to highlight the skill and creativity of our community’s artisans. The library is honored to continue this tradition in collaboration with the Possum Town Quilters Guild. \n​ \nVisitors will enjoy a display of Quilts of Valor alongside America‑themed quilts that celebrate our nation’s history and commemorate the 250th anniversary of the United States. This exhibition pays tribute to both our country’s legacy and the rich quilting heritage that continues to thrive in our community. \n​ \nAdmission is free and open to the public.​ \n​ \nFor more information\, call the CLPLS at 662-329-5300.
URL:https://www.visitcolumbusms.org/event/america250-quilt-display/
LOCATION:Columbus-Lowndes Public Library\, 314 7th St N\, Columbus\, MS\, 39701\, United States
CATEGORIES:Arts & Culture,History
GEO:33.4980078;-88.4256211
X-APPLE-STRUCTURED-LOCATION;VALUE=URI;X-ADDRESS=Columbus-Lowndes Public Library 314 7th St N Columbus MS 39701 United States;X-APPLE-RADIUS=500;X-TITLE=314 7th St N:geo:-88.4256211,33.4980078
END:VEVENT
END:VCALENDAR