BEGIN:VCALENDAR
VERSION:2.0
PRODID:-//Columbus MS - ECPv6.10.1.1//NONSGML v1.0//EN
CALSCALE:GREGORIAN
METHOD:PUBLISH
X-WR-CALNAME:Columbus MS
X-ORIGINAL-URL:https://www.visitcolumbusms.org
X-WR-CALDESC:Events for Columbus MS
REFRESH-INTERVAL;VALUE=DURATION:PT1H
X-Robots-Tag:noindex
X-PUBLISHED-TTL:PT1H
BEGIN:VTIMEZONE
TZID:America/Chicago
BEGIN:DAYLIGHT
TZOFFSETFROM:-0600
TZOFFSETTO:-0500
TZNAME:CDT
DTSTART:20260308T080000
END:DAYLIGHT
BEGIN:STANDARD
TZOFFSETFROM:-0500
TZOFFSETTO:-0600
TZNAME:CST
DTSTART:20261101T070000
END:STANDARD
END:VTIMEZONE
BEGIN:VEVENT
DTSTART;TZID=America/Chicago:20260113T083000
DTEND;TZID=America/Chicago:20260113T093000
DTSTAMP:20260424T060826
CREATED:20260107T163645Z
LAST-MODIFIED:20260107T163645Z
UID:10000805-1768293000-1768296600@www.visitcolumbusms.org
SUMMARY:Tourism Partners
DESCRIPTION:Tourism Partners will meet Tuesday\, January 13 at 8:30 a.m. at Fairfield Inn & Suites.
URL:https://www.visitcolumbusms.org/event/tourism-partners-7/
LOCATION:Fairfiled Inn and Suites\, 2011 6th Street South\, Columbus\, 39705\, United States
CATEGORIES:Community Event
ORGANIZER;CN="Visit Columbus":MAILTO:visitcolumbus@visitcolumbusms.org
GEO:33.4812794;-88.4254881
X-APPLE-STRUCTURED-LOCATION;VALUE=URI;X-ADDRESS=Fairfiled Inn and Suites 2011 6th Street South Columbus 39705 United States;X-APPLE-RADIUS=500;X-TITLE=2011 6th Street South:geo:-88.4254881,33.4812794
END:VEVENT
END:VCALENDAR