BEGIN:VCALENDAR
VERSION:2.0
PRODID:-//Columbus MS - ECPv6.10.1.1//NONSGML v1.0//EN
CALSCALE:GREGORIAN
METHOD:PUBLISH
X-WR-CALNAME:Columbus MS
X-ORIGINAL-URL:https://www.visitcolumbusms.org
X-WR-CALDESC:Events for Columbus MS
REFRESH-INTERVAL;VALUE=DURATION:PT1H
X-Robots-Tag:noindex
X-PUBLISHED-TTL:PT1H
BEGIN:VTIMEZONE
TZID:America/Chicago
BEGIN:DAYLIGHT
TZOFFSETFROM:-0600
TZOFFSETTO:-0500
TZNAME:CDT
DTSTART:20190310T080000
END:DAYLIGHT
BEGIN:STANDARD
TZOFFSETFROM:-0500
TZOFFSETTO:-0600
TZNAME:CST
DTSTART:20191103T070000
END:STANDARD
BEGIN:DAYLIGHT
TZOFFSETFROM:-0600
TZOFFSETTO:-0500
TZNAME:CDT
DTSTART:20200308T080000
END:DAYLIGHT
BEGIN:STANDARD
TZOFFSETFROM:-0500
TZOFFSETTO:-0600
TZNAME:CST
DTSTART:20201101T070000
END:STANDARD
BEGIN:DAYLIGHT
TZOFFSETFROM:-0600
TZOFFSETTO:-0500
TZNAME:CDT
DTSTART:20210314T080000
END:DAYLIGHT
BEGIN:STANDARD
TZOFFSETFROM:-0500
TZOFFSETTO:-0600
TZNAME:CST
DTSTART:20211107T070000
END:STANDARD
BEGIN:DAYLIGHT
TZOFFSETFROM:-0600
TZOFFSETTO:-0500
TZNAME:CDT
DTSTART:20220313T080000
END:DAYLIGHT
BEGIN:STANDARD
TZOFFSETFROM:-0500
TZOFFSETTO:-0600
TZNAME:CST
DTSTART:20221106T070000
END:STANDARD
BEGIN:DAYLIGHT
TZOFFSETFROM:-0600
TZOFFSETTO:-0500
TZNAME:CDT
DTSTART:20230312T080000
END:DAYLIGHT
BEGIN:STANDARD
TZOFFSETFROM:-0500
TZOFFSETTO:-0600
TZNAME:CST
DTSTART:20231105T070000
END:STANDARD
BEGIN:DAYLIGHT
TZOFFSETFROM:-0600
TZOFFSETTO:-0500
TZNAME:CDT
DTSTART:20240310T080000
END:DAYLIGHT
BEGIN:STANDARD
TZOFFSETFROM:-0500
TZOFFSETTO:-0600
TZNAME:CST
DTSTART:20241103T070000
END:STANDARD
BEGIN:DAYLIGHT
TZOFFSETFROM:-0600
TZOFFSETTO:-0500
TZNAME:CDT
DTSTART:20250309T080000
END:DAYLIGHT
BEGIN:STANDARD
TZOFFSETFROM:-0500
TZOFFSETTO:-0600
TZNAME:CST
DTSTART:20251102T070000
END:STANDARD
BEGIN:DAYLIGHT
TZOFFSETFROM:-0600
TZOFFSETTO:-0500
TZNAME:CDT
DTSTART:20260308T080000
END:DAYLIGHT
BEGIN:STANDARD
TZOFFSETFROM:-0500
TZOFFSETTO:-0600
TZNAME:CST
DTSTART:20261101T070000
END:STANDARD
END:VTIMEZONE
BEGIN:VEVENT
DTSTART;TZID=America/Chicago:20260410T110000
DTEND;TZID=America/Chicago:20260410T170000
DTSTAMP:20260422T045114
CREATED:20260313T173840Z
LAST-MODIFIED:20260313T173845Z
UID:10000867-1775818800-1775840400@www.visitcolumbusms.org
SUMMARY:Birdies and Boil - Golf Tournament and Shrimp Boil
DESCRIPTION:
URL:https://www.visitcolumbusms.org/event/birdies-and-boil-golf-tournament-and-shrimp-boil/
LOCATION:Lion Hills\, 2331 Military Rd\, Columbus\, MS\, 39701\, United States
CATEGORIES:Food,Sports & Outdoors
GEO:33.5238652;-88.4068618
X-APPLE-STRUCTURED-LOCATION;VALUE=URI;X-ADDRESS=Lion Hills 2331 Military Rd Columbus MS 39701 United States;X-APPLE-RADIUS=500;X-TITLE=2331 Military Rd:geo:-88.4068618,33.5238652
END:VEVENT
BEGIN:VEVENT
DTSTART;TZID=America/Chicago:20260214T180000
DTEND;TZID=America/Chicago:20260214T200000
DTSTAMP:20260422T045114
CREATED:20260117T233354Z
LAST-MODIFIED:20260117T233354Z
UID:10000855-1771092000-1771099200@www.visitcolumbusms.org
SUMMARY:Detectives Dinner
DESCRIPTION:
URL:https://www.visitcolumbusms.org/event/detectives-dinner/
LOCATION:Lion Hills\, 2331 Military Rd\, Columbus\, MS\, 39701\, United States
CATEGORIES:Community Event
GEO:33.5238652;-88.4068618
X-APPLE-STRUCTURED-LOCATION;VALUE=URI;X-ADDRESS=Lion Hills 2331 Military Rd Columbus MS 39701 United States;X-APPLE-RADIUS=500;X-TITLE=2331 Military Rd:geo:-88.4068618,33.5238652
END:VEVENT
BEGIN:VEVENT
DTSTART;VALUE=DATE:20190312
DTEND;VALUE=DATE:20190313
DTSTAMP:20260422T045114
CREATED:20190218T220134Z
LAST-MODIFIED:20190218T220330Z
UID:10000531-1552348800-1552435199@www.visitcolumbusms.org
SUMMARY:Tourism Partners at Lion Hills
DESCRIPTION:
URL:https://www.visitcolumbusms.org/event/tourism-partners-at-lion-hills/
LOCATION:Lion Hills\, 2331 Military Rd\, Columbus\, MS\, 39701\, United States
GEO:33.5238652;-88.4068618
X-APPLE-STRUCTURED-LOCATION;VALUE=URI;X-ADDRESS=Lion Hills 2331 Military Rd Columbus MS 39701 United States;X-APPLE-RADIUS=500;X-TITLE=2331 Military Rd:geo:-88.4068618,33.5238652
END:VEVENT
END:VCALENDAR