BEGIN:VCALENDAR
VERSION:2.0
PRODID:-//Columbus MS - ECPv6.10.1.1//NONSGML v1.0//EN
CALSCALE:GREGORIAN
METHOD:PUBLISH
X-ORIGINAL-URL:https://www.visitcolumbusms.org
X-WR-CALDESC:Events for Columbus MS
REFRESH-INTERVAL;VALUE=DURATION:PT1H
X-Robots-Tag:noindex
X-PUBLISHED-TTL:PT1H
BEGIN:VTIMEZONE
TZID:America/Chicago
BEGIN:DAYLIGHT
TZOFFSETFROM:-0600
TZOFFSETTO:-0500
TZNAME:CDT
DTSTART:20180311T080000
END:DAYLIGHT
BEGIN:STANDARD
TZOFFSETFROM:-0500
TZOFFSETTO:-0600
TZNAME:CST
DTSTART:20181104T070000
END:STANDARD
END:VTIMEZONE
BEGIN:VEVENT
DTSTART;TZID=America/Chicago:20180410T160000
DTEND;TZID=America/Chicago:20180410T180000
DTSTAMP:20260422T084227
CREATED:20180119T205743Z
LAST-MODIFIED:20180327T032059Z
UID:10000171-1523376000-1523383200@www.visitcolumbusms.org
SUMMARY:Buttahatchee Barn Quilt Trail Tea Cakes & Tea
DESCRIPTION:Enjoy an afternoon in the country complete with some Southern hospitality and highlighting unique folk artistry steeped in Americana. On Tuesday\, April 10\, we invite you to join us along the Buttahatchee Barn Quilt Trail\, from 4 to 6 p.m.\, for homemade tea cakes and Southern mint tea. The event will take place at Mt. Pleasant Methodist Church\, Caledonia\, MS. \nDirections available from Visit Columbus\, 117 Third Street South\, or the Tennessee Williams Home and Welcome Center.
URL:https://www.visitcolumbusms.org/event/buttahatchee-barn-quilt-trail-tea-cakes-tea/
LOCATION:Mt. Pleasant United Methodist Church\, 2382 Wright Road\, Caledonia\, MS\, United States
CATEGORIES:Spring Pilgrimage
ATTACH;FMTTYPE=image/jpeg:https://s3.amazonaws.com/media.visitcolumbusms.org/20180306182342/777.jpg
END:VEVENT
END:VCALENDAR