BEGIN:VCALENDAR
VERSION:2.0
PRODID:-//Columbus MS - ECPv6.10.1.1//NONSGML v1.0//EN
CALSCALE:GREGORIAN
METHOD:PUBLISH
X-WR-CALNAME:Columbus MS
X-ORIGINAL-URL:https://www.visitcolumbusms.org
X-WR-CALDESC:Events for Columbus MS
REFRESH-INTERVAL;VALUE=DURATION:PT1H
X-Robots-Tag:noindex
X-PUBLISHED-TTL:PT1H
BEGIN:VTIMEZONE
TZID:America/Chicago
BEGIN:DAYLIGHT
TZOFFSETFROM:-0600
TZOFFSETTO:-0500
TZNAME:CDT
DTSTART:20250309T080000
END:DAYLIGHT
BEGIN:STANDARD
TZOFFSETFROM:-0500
TZOFFSETTO:-0600
TZNAME:CST
DTSTART:20251102T070000
END:STANDARD
BEGIN:DAYLIGHT
TZOFFSETFROM:-0600
TZOFFSETTO:-0500
TZNAME:CDT
DTSTART:20260308T080000
END:DAYLIGHT
BEGIN:STANDARD
TZOFFSETFROM:-0500
TZOFFSETTO:-0600
TZNAME:CST
DTSTART:20261101T070000
END:STANDARD
END:VTIMEZONE
BEGIN:VEVENT
DTSTART;TZID=America/Chicago:20260130T080000
DTEND;TZID=America/Chicago:20260130T170000
DTSTAMP:20260419T155337
CREATED:20251009T214441Z
LAST-MODIFIED:20251009T214441Z
UID:10000766-1769760000-1769792400@www.visitcolumbusms.org
SUMMARY:The Farndale Avenue Housing Estate Townswomen's Guild Dramatic Society Murder Mystery
DESCRIPTION:
URL:https://www.visitcolumbusms.org/event/the-farndale-avenue-housing-estate-townswomens-guild-dramatic-society-murder-mystery/
LOCATION:MUW Cromwell Theater\, 620 10th Street South\, Columbus\, 39701\, United States
ORGANIZER;CN="Golden Triangle Theatre":MAILTO:gtorbert@goldentriangletheatre.com
GEO:33.4900943;-88.4217204
X-APPLE-STRUCTURED-LOCATION;VALUE=URI;X-ADDRESS=MUW Cromwell Theater 620 10th Street South Columbus 39701 United States;X-APPLE-RADIUS=500;X-TITLE=620 10th Street South:geo:-88.4217204,33.4900943
END:VEVENT
BEGIN:VEVENT
DTSTART;TZID=America/Chicago:20251026T143000
DTEND;TZID=America/Chicago:20251026T163000
DTSTAMP:20260419T155337
CREATED:20251007T224714Z
LAST-MODIFIED:20251007T224916Z
UID:10000751-1761489000-1761496200@www.visitcolumbusms.org
SUMMARY:Golden Triangle Theatre & MUW Theatre present "Godspell"
DESCRIPTION:
URL:https://www.visitcolumbusms.org/event/golden-triangle-theatre-muw-theatre-present-godspell/2025-10-26/
LOCATION:MUW Cromwell Theater\, 620 10th Street South\, Columbus\, 39701\, United States
CATEGORIES:Arts & Culture,Community Event
ORGANIZER;CN="Golden Triangle Theatre":MAILTO:gtorbert@goldentriangletheatre.com
GEO:33.4900943;-88.4217204
X-APPLE-STRUCTURED-LOCATION;VALUE=URI;X-ADDRESS=MUW Cromwell Theater 620 10th Street South Columbus 39701 United States;X-APPLE-RADIUS=500;X-TITLE=620 10th Street South:geo:-88.4217204,33.4900943
END:VEVENT
BEGIN:VEVENT
DTSTART;TZID=America/Chicago:20251025T190000
DTEND;TZID=America/Chicago:20251025T210000
DTSTAMP:20260419T155337
CREATED:20251007T224714Z
LAST-MODIFIED:20251007T224916Z
UID:10000750-1761418800-1761426000@www.visitcolumbusms.org
SUMMARY:Golden Triangle Theatre & MUW Theatre present "Godspell"
DESCRIPTION:
URL:https://www.visitcolumbusms.org/event/golden-triangle-theatre-muw-theatre-present-godspell/2025-10-25/
LOCATION:MUW Cromwell Theater\, 620 10th Street South\, Columbus\, 39701\, United States
CATEGORIES:Arts & Culture,Community Event
ORGANIZER;CN="Golden Triangle Theatre":MAILTO:gtorbert@goldentriangletheatre.com
GEO:33.4900943;-88.4217204
X-APPLE-STRUCTURED-LOCATION;VALUE=URI;X-ADDRESS=MUW Cromwell Theater 620 10th Street South Columbus 39701 United States;X-APPLE-RADIUS=500;X-TITLE=620 10th Street South:geo:-88.4217204,33.4900943
END:VEVENT
BEGIN:VEVENT
DTSTART;TZID=America/Chicago:20251024T190000
DTEND;TZID=America/Chicago:20251024T210000
DTSTAMP:20260419T155337
CREATED:20251007T224714Z
LAST-MODIFIED:20251007T224916Z
UID:10000749-1761332400-1761339600@www.visitcolumbusms.org
SUMMARY:Golden Triangle Theatre & MUW Theatre present "Godspell"
DESCRIPTION:
URL:https://www.visitcolumbusms.org/event/golden-triangle-theatre-muw-theatre-present-godspell/2025-10-24/
LOCATION:MUW Cromwell Theater\, 620 10th Street South\, Columbus\, 39701\, United States
CATEGORIES:Arts & Culture,Community Event
ORGANIZER;CN="Golden Triangle Theatre":MAILTO:gtorbert@goldentriangletheatre.com
GEO:33.4900943;-88.4217204
X-APPLE-STRUCTURED-LOCATION;VALUE=URI;X-ADDRESS=MUW Cromwell Theater 620 10th Street South Columbus 39701 United States;X-APPLE-RADIUS=500;X-TITLE=620 10th Street South:geo:-88.4217204,33.4900943
END:VEVENT
END:VCALENDAR