BEGIN:VCALENDAR
VERSION:2.0
PRODID:-//Columbus MS - ECPv6.10.1.1//NONSGML v1.0//EN
CALSCALE:GREGORIAN
METHOD:PUBLISH
X-WR-CALNAME:Columbus MS
X-ORIGINAL-URL:https://www.visitcolumbusms.org
X-WR-CALDESC:Events for Columbus MS
REFRESH-INTERVAL;VALUE=DURATION:PT1H
X-Robots-Tag:noindex
X-PUBLISHED-TTL:PT1H
BEGIN:VTIMEZONE
TZID:America/Chicago
BEGIN:DAYLIGHT
TZOFFSETFROM:-0600
TZOFFSETTO:-0500
TZNAME:CDT
DTSTART:20260308T080000
END:DAYLIGHT
BEGIN:STANDARD
TZOFFSETFROM:-0500
TZOFFSETTO:-0600
TZNAME:CST
DTSTART:20261101T070000
END:STANDARD
END:VTIMEZONE
BEGIN:VEVENT
DTSTART;TZID=America/Chicago:20260419T180000
DTEND;TZID=America/Chicago:20260419T180000
DTSTAMP:20260424T073740
CREATED:20260323T144438Z
LAST-MODIFIED:20260323T144442Z
UID:10000908-1776621600-1776621600@www.visitcolumbusms.org
SUMMARY:Nell Peel Wolfe Lecture 2026
DESCRIPTION: 
URL:https://www.visitcolumbusms.org/event/nell-peel-wolfe-lecture-2026/
LOCATION:MUW’s Nissan Auditorium
CATEGORIES:Community Event
END:VEVENT
BEGIN:VEVENT
DTSTART;TZID=America/Chicago:20260323T180000
DTEND;TZID=America/Chicago:20260323T200000
DTSTAMP:20260424T073740
CREATED:20260313T203454Z
LAST-MODIFIED:20260313T203525Z
UID:10000898-1774288800-1774296000@www.visitcolumbusms.org
SUMMARY:"An Asylum for Mankind" The American Revolution by Ken Burns
DESCRIPTION:Mississippi University for Women will present the second episode titled “An Asylum for Mankind” from the new Ken Burns documentary The American Revolution on March 23 at 6pm in the Nissan Auditorium in Parkinson Hall. \nThis episode covers the period from May 1775 to July 1776. New Englanders rush to surround the British Army in Boston\, but as war begins Americans find themselves sharply divided. After the Battle of Bunker’s Hill\, George Washington of Virginia arrives to command the newly created Continental Army. In July 1776\, the Continental Congress issues the Declaration of Independence\, insisting on the people’s right to resist tyranny and govern themselves.​ \nThe entire documentary is 6 episodes total with each episode running approximately 2 hours in length. \nAdmission is free and open to the public.​ \nFor more information\, call the MUW Department of History\, Political Science\, and Geography at (662) 329-7390.
URL:https://www.visitcolumbusms.org/event/an-asylum-for-mankind-the-american-revolution-by-ken-burns/
LOCATION:MUW’s Nissan Auditorium
CATEGORIES:History
END:VEVENT
END:VCALENDAR