BEGIN:VCALENDAR
VERSION:2.0
PRODID:-//Columbus MS - ECPv6.10.1.1//NONSGML v1.0//EN
CALSCALE:GREGORIAN
METHOD:PUBLISH
X-ORIGINAL-URL:https://www.visitcolumbusms.org
X-WR-CALDESC:Events for Columbus MS
REFRESH-INTERVAL;VALUE=DURATION:PT1H
X-Robots-Tag:noindex
X-PUBLISHED-TTL:PT1H
BEGIN:VTIMEZONE
TZID:America/Chicago
BEGIN:DAYLIGHT
TZOFFSETFROM:-0600
TZOFFSETTO:-0500
TZNAME:CDT
DTSTART:20260308T080000
END:DAYLIGHT
BEGIN:STANDARD
TZOFFSETFROM:-0500
TZOFFSETTO:-0600
TZNAME:CST
DTSTART:20261101T070000
END:STANDARD
END:VTIMEZONE
BEGIN:VEVENT
DTSTART;TZID=America/Chicago:20260427T180000
DTEND;TZID=America/Chicago:20260427T200000
DTSTAMP:20260424T061851
CREATED:20260313T204720Z
LAST-MODIFIED:20260313T204729Z
UID:10000904-1777312800-1777320000@www.visitcolumbusms.org
SUMMARY:"The Times that Try Men's Souls" The American Revolution by Ken Burns
DESCRIPTION:Mississippi University for Women will present the third episode titled “The Times that Try Men’s Souls” from the new Ken Burns documentary The American Revolution on April 27 at 6pm in the Nissan Auditorium in Parkinson Hall. \nThis episode covers the period from July 1776 to January 1777. The Revolution\, now a war for American independence\, faces its toughest challenge yet as General Washington tries to defend New York City from invasion by sea. The resulting Battle of Long Island is a huge defeat for the Americans\, who narrowly escape and spend the next several months on the run. In late December\, Washington’s army regroups and prepares to attack an outpost in Trenton\, New Jersey.​ \nThe entire documentary is 6 episodes total with each episode running approximately 2 hours in length. \nAdmission is free and open to the public.​ \nFor more information\, call the MUW Department of History\, Political Science\, and Geography at (662) 329-7390.
URL:https://www.visitcolumbusms.org/event/the-times-that-try-mens-souls-the-american-revolution-by-ken-burns/
LOCATION:MUW’s Nissan Auditorium
CATEGORIES:History
END:VEVENT
END:VCALENDAR