BEGIN:VCALENDAR
VERSION:2.0
PRODID:-//Columbus MS - ECPv6.10.1.1//NONSGML v1.0//EN
CALSCALE:GREGORIAN
METHOD:PUBLISH
X-ORIGINAL-URL:https://www.visitcolumbusms.org
X-WR-CALDESC:Events for Columbus MS
REFRESH-INTERVAL;VALUE=DURATION:PT1H
X-Robots-Tag:noindex
X-PUBLISHED-TTL:PT1H
BEGIN:VTIMEZONE
TZID:America/Chicago
BEGIN:DAYLIGHT
TZOFFSETFROM:-0600
TZOFFSETTO:-0500
TZNAME:CDT
DTSTART:20250309T080000
END:DAYLIGHT
BEGIN:STANDARD
TZOFFSETFROM:-0500
TZOFFSETTO:-0600
TZNAME:CST
DTSTART:20251102T070000
END:STANDARD
END:VTIMEZONE
BEGIN:VEVENT
DTSTART;TZID=America/Chicago:20251030T170000
DTEND;TZID=America/Chicago:20251030T180000
DTSTAMP:20260419T120648
CREATED:20251017T160850Z
LAST-MODIFIED:20251017T160859Z
UID:10000774-1761843600-1761847200@www.visitcolumbusms.org
SUMMARY:R. E. Hunt School Marker Dedication
DESCRIPTION:
URL:https://www.visitcolumbusms.org/event/r-e-hunt-school-marker-dedication/
LOCATION:R. E. Hunt Cultural Center\, 924 20th Street North\, Columbus\, MS\, 39701\, United States
CATEGORIES:Arts & Culture,Community Event
GEO:33.5061299;-88.4105458
X-APPLE-STRUCTURED-LOCATION;VALUE=URI;X-ADDRESS=R. E. Hunt Cultural Center 924 20th Street North Columbus MS 39701 United States;X-APPLE-RADIUS=500;X-TITLE=924 20th Street North:geo:-88.4105458,33.5061299
END:VEVENT
END:VCALENDAR