BEGIN:VCALENDAR
VERSION:2.0
PRODID:-//Columbus MS - ECPv6.10.1.1//NONSGML v1.0//EN
CALSCALE:GREGORIAN
METHOD:PUBLISH
X-ORIGINAL-URL:https://www.visitcolumbusms.org
X-WR-CALDESC:Events for Columbus MS
REFRESH-INTERVAL;VALUE=DURATION:PT1H
X-Robots-Tag:noindex
X-PUBLISHED-TTL:PT1H
BEGIN:VTIMEZONE
TZID:America/Chicago
BEGIN:DAYLIGHT
TZOFFSETFROM:-0600
TZOFFSETTO:-0500
TZNAME:CDT
DTSTART:20190310T080000
END:DAYLIGHT
BEGIN:STANDARD
TZOFFSETFROM:-0500
TZOFFSETTO:-0600
TZNAME:CST
DTSTART:20191103T070000
END:STANDARD
END:VTIMEZONE
BEGIN:VEVENT
DTSTART;TZID=America/Chicago:20191006T140000
DTEND;TZID=America/Chicago:20191006T140000
DTSTAMP:20260421T061123
CREATED:20190930T220459Z
LAST-MODIFIED:20190930T220459Z
UID:10000273-1570370400-1570370400@www.visitcolumbusms.org
SUMMARY:Starkville Symphony Orchestra
DESCRIPTION:The Starkville Symphony Orchestra will showcase their melodies featuring Mississippi University for Women Faculty members Susan Hurley and Joe Alexander.
URL:https://www.visitcolumbusms.org/event/starkville-symphony-orchestra/
LOCATION:Rent Auditorium\, 1100 College St.\, Columbus\, MS\, 39701\, United States
GEO:33.491089;-88.4183492
X-APPLE-STRUCTURED-LOCATION;VALUE=URI;X-ADDRESS=Rent Auditorium 1100 College St. Columbus MS 39701 United States;X-APPLE-RADIUS=500;X-TITLE=1100 College St.:geo:-88.4183492,33.491089
END:VEVENT
END:VCALENDAR